Workbook
Name _２①_下水道: #REF!
Name itiran: #REF!
Name X01Y01_50: #REF!
Name X01Y02_50: #REF!
Name X01Y03_50: #REF!
Name X01Y04_50: #REF!
Name X01Y05_50: #REF!
Name X01Y06_50: #REF!
Name X01Y07_50: #REF!
Name X01Y08_50: #REF!
Name X01Y09_50: #REF!
Name X01Y10_50: #REF!
Name X01Y11_50: #REF!
Name X01Y12_50: #REF!
Name X01Y13_50: #REF!
Name X01Y14_50: #REF!
Name X01Y15_50: #REF!
Name X01Y16_50: #REF!
Name X01Y17_50: #REF!
Name X01Y18_50: #REF!
Name X01Y19_50: #REF!
Name X01Y20_50: #REF!
Name X01Y21_50: #REF!
Name X01Y22_50: #REF!
Name X01Y23_50: #REF!
Name X01Y24_50: #REF!
Name X01Y25_50: #REF!
Name X01Y26_50: #REF!
Name X01Y27_50: #REF!
Name X01Y28_50: #REF!
Name X01Y29_50: #REF!
Name X01Y30_50: #REF!
Name X01Y31_50: #REF!
Name X01Y32_50: #REF!
Name X01Y33_50: #REF!
Name X01Y34_50: #REF!
Name X01Y35_50: #REF!
Name X01Y36_50: #REF!
Name X01Y37_50: #REF!
Name X01Y38_50: #REF!
Name X01Y39_50: #REF!
Name X01Y40_50: #REF!
Name X01Y41_50: #REF!
Name X01Y42_50: #REF!
Name X01Y43_50: #REF!
Name X01Y44_50: #REF!
Name X01Y45_50: #REF!
Name X01Y46_50: #REF!
Name X01Y47_50: #REF!
Name X02Y01_50: #REF!
Name X02Y02_50: #REF!
Name X02Y03_50: #REF!
Name X02Y04_50: #REF!
Name X02Y05_50: #REF!
Name X02Y06_50: #REF!
Name X02Y07_50: #REF!
Name X02Y08_50: #REF!
Name X02Y09_50: #REF!
Name X02Y10_50: #REF!
Name X02Y11_50: #REF!

Sheet (2)ｱ
B1: (2) 市町村税
B2: ア 平成２８年度市町村税徴収実績（決算統計） | J2: （単位：千円、％） | T2: （単位：千円、％） | AD2: （単位：千円、％） | AN2: （単位：千円、％） | AX2: （単位：千円、％） | BH2: （単位：千円、％） | BR2: （単位：千円、％） | CB2: （単位：千円、％） | CL2: （単位：千円、％） | CV2: （単位：千円、％） | DF2: （単位：千円、％） | DP2: （単位：千円、％） | DZ2: （単位：千円、％） | EJ2: （単位：千円、％）
B3: 団 体 名 | C3: 市 町 村 計 | F3: 市 計 | I3: 町 村 計 | L3: 団 体 名 | M3: 八王子市 | P3: 立 川 市 | S3: 武蔵野市 | V3: 団 体 名 | W3: 三 鷹 市 | Z3: 青 梅 市 | AC3: 府 中 市 | AF3: 団 体 名 | AG3: 昭 島 市 | AJ3: 調 布 市 | AM3: 町 田 市 | AP3: 団 体 名 | AQ3: 小金井市 | AT3: 小 平 市 | AW3: 日 野 市 | AZ3: 団 体 名 | BA3: 東村山市 | BD3: 国分寺市 | BG3: 国 立 市 | BJ3: 団 体 名 | BK3: 福 生 市 | BN3: 狛 江 市 | BQ3: 東大和市 | BT3: 団 体 名 | BU3: 清 瀬 市 | BX3: 東久留米市 | CA3: 武蔵村山市 | CD3: 団 体 名 | CE3: 多 摩 市 | CH3: 稲 城 市 | CK3: 羽 村 市 | CN3: 団 体 名 | CO3: あきる野市 | CR3: 西 東 京 市 | CU3: 瑞 穂 町 | CX3: 団 体 名 | CY3: 日の出町 | DB3: 檜 原 村 | DE3: 奥多摩町 | DH3: 団 体 名 | DI3: 大 島 町 | DL3: 利 島 村 | DO3: 新 島 村 | DR3: 団 体 名 | DS3: 神津島村 | DV3: 三 宅 村 | DY3: 御蔵島村 | EB3: 団 体 名 | EC3: 八 丈 町 | EF3: 青ケ島村 | EI3: 小笠原村
B4: 税 目 | C4: 調定済額 | D4: 収入済額 | E4: 収入 歩合 | F4: 調定済額 | G4: 収入済額 | H4: 収入 歩合 | I4: 調定済額 | J4: 収入済額 | K4: 収入 歩合 | L4: 税 目 | M4: 調定済額 | N4: 収入済額 | O4: 収入 歩合 | P4: 調定済額 | Q4: 収入済額 | R4: 収入 歩合 | S4: 調定済額 | T4: 収入済額 | U4: 収入 歩合 | V4: 税 目 | W4: 調定済額 | X4: 収入済額 | Y4: 収入 歩合 | Z4: 調定済額 | AA4: 収入済額 | AB4: 収入 歩合 | AC4: 調定済額 | AD4: 収入済額 | AE4: 収入 歩合 | AF4: 税 目 | AG4: 調定済額 | AH4: 収入済額 | AI4: 収入 歩合 | AJ4: 調定済額 | AK4: 収入済額 | AL4: 収入 歩合 | AM4: 調定済額 | AN4: 収入済額 | AO4: 収入 歩合 | AP4: 税 目 | AQ4: 調定済額 | AR4: 収入済額 | AS4: 収入 歩合 | AT4: 調定済額 | AU4: 収入済額 | AV4: 収入 歩合 | AW4: 調定済額 | AX4: 収入済額 | AY4: 収入 歩合 | AZ4: 税 目 | BA4: 調定済額 | BB4: 収入済額 | BC4: 収入 歩合 | BD4: 調定済額 | BE4: 収入済額 | BF4: 収入 歩合 | BG4: 調定済額 | BH4: 収入済額 | BI4: 収入 歩合 | BJ4: 税 目 | BK4: 調定済額 | BL4: 収入済額 | BM4: 収入 歩合 | BN4: 調定済額 | BO4: 収入済額 | BP4: 収入 歩合 | BQ4: 調定済額 | BR4: 収入済額 | BS4: 収入 歩合 | BT4: 税 目 | BU4: 調定済額 | BV4: 収入済額 | BW4: 収入 歩合 | BX4: 調定済額 | BY4: 収入済額 | BZ4: 収入 歩合 | CA4: 調定済額 | CB4: 収入済額 | CC4: 収入 歩合 | CD4: 税 目 | CE4: 調定済額 | CF4: 収入済額 | CG4: 収入 歩合 | CH4: 調定済額 | CI4: 収入済額 | CJ4: 収入 歩合 | CK4: 調定済額 | CL4: 収入済額 | CM4: 収入 歩合 | CN4: 税 目 | CO4: 調定済額 | CP4: 収入済額 | CQ4: 収入 歩合 | CR4: 調定済額 | CS4: 収入済額 | CT4: 収入 歩合 | CU4: 調定済額 | CV4: 収入済額 | CW4: 収入 歩合 | CX4: 税 目 | CY4: 調定済額 | CZ4: 収入済額 | DA4: 収入 歩合 | DB4: 調定済額 | DC4: 収入済額 | DD4: 収入 歩合 | DE4: 調定済額 | DF4: 収入済額 | DG4: 収入 歩合 | DH4: 税 目 | DI4: 調定済額 | DJ4: 収入済額 | DK4: 収入 歩合 | DL4: 調定済額 | DM4: 収入済額 | DN4: 収入 歩合 | DO4: 調定済額 | DP4: 収入済額 | DQ4: 収入 歩合 | DR4: 税 目 | DS4: 調定済額 | DT4: 収入済額 | DU4: 収入 歩合 | DV4: 調定済額 | DW4: 収入済額 | DX4: 収入 歩合 | DY4: 調定済額 | DZ4: 収入済額 | EA4: 収入 歩合 | EB4: 税 目 | EC4: 調定済額 | ED4: 収入済額 | EE4: 収入 歩合 | EF4: 調定済額 | EG4: 収入済額 | EH4: 収入 歩合 | EI4: 調定済額 | EJ4: 収入済額 | EK4: 収入 歩合
B5: １ 普通税 | C5: =[1]普通!$E$48 -> 687677395 | D5: =[1]普通!$H$48 -> 671877008 | E5: =[1]普通!$K$48 -> 97.702355 | F5: =[1]普通!$E$31 -> 674283737 | G5: =[1]普通!$H$31 -> 658975404 | H5: =[1]普通!$K$31 -> 97.72969 | I5: =[1]普通!$E$47 -> 13393658 | J5: =[1]普通!$H$47 -> 12901604 | K5: =[1]普通!$K$47 -> 96.326216 | L5: １ 普通税 | M5: =[1]普通!$E$5 -> 82793296 | N5: =[1]普通!$H$5 -> 80405007 | O5: =[1]普通!$K$5 -> 97.115359 | P5: =[1]普通!$E$6 -> 37158366 | Q5: =[1]普通!$H$6 -> 36258103 | R5: =[1]普通!$K$6 -> 97.577227 | S5: =[1]普通!$E$7 -> 38069644 | T5: =[1]普通!$H$7 -> 37173993 | U5: =[1]普通!$K$7 -> 97.647335 | V5: １ 普通税 | W5: =[1]普通!$E$8 -> 36015112 | X5: =[1]普通!$H$8 -> 35160903 | Y5: =[1]普通!$K$8 -> 97.628193 | Z5: =[1]普通!$E$9 -> 19323004 | AA5: =[1]普通!$H$9 -> 18540789 | AB5: =[1]普通!$K$9 -> 95.951898 | AC5: =[1]普通!$E$10 -> 49034548 | AD5: =[1]普通!$H$10 -> 47826635 | AE5: =[1]普通!$K$10 -> 97.536608 | AF5: １ 普通税 | AG5: =[1]普通!$E$11 -> 17978096 | AH5: =[1]普通!$H$11 -> 17550296 | AI5: =[1]普通!$K$11 -> 97.620438 | AJ5: =[1]普通!$E$12 -> 42399236 | AK5: =[1]普通!$H$12 -> 41490613 | AL5: =[1]普通!$K$12 -> 97.856983 | AM5: =[1]普通!$E$13 -> 64369464 | AN5: =[1]普通!$H$13 -> 63052611 | AO5: =[1]普通!$K$13 -> 97.954227 | AP5: １ 普通税 | AQ5: =[1]普通!$E$14 -> 19750472 | AR5: =[1]普通!$H$14 -> 19469229 | AS5: =[1]普通!$K$14 -> 98.576019 | AT5: =[1]普通!$E$15 -> 29024214 | AU5: =[1]普通!$H$15 -> 28359627 | AV5: =[1]普通!$K$15 -> 97.710233 | AW5: =[1]普通!$E$16 -> 27988865 | AX5: =[1]普通!$H$16 -> 27679604 | AY5: =[1]普通!$K$16 -> 98.895057 | AZ5: １ 普通税 | BA5: =[1]普通!$E$17 -> 19374992 | BB5: =[1]普通!$H$17 -> 18790189 | BC5: =[1]普通!$K$17 -> 96.981661 | BD5: =[1]普通!$E$18 -> 21124819 | BE5: =[1]普通!$H$18 -> 20729808 | BF5: =[1]普通!$K$18 -> 98.130109 | BG5: =[1]普通!$E$19 -> 13791666 | BH5: =[1]普通!$H$19 -> 13709977 | BI5: =[1]普通!$K$19 -> 99.407693 | BJ5: １ 普通税 | BK5: =[1]普通!$E$20 -> 7598116 | BL5: =[1]普通!$H$20 -> 7419012 | BM5: =[1]普通!$K$20 -> 97.642784 | BN5: =[1]普通!$E$21 -> 11341366 | BO5: =[1]普通!$H$21 -> 11257680 | BP5: =[1]普通!$K$21 -> 99.262117 | BQ5: =[1]普通!$E$22 -> 12182594 | BR5: =[1]普通!$H$22 -> 11817602 | BS5: =[1]普通!$K$22 -> 97.003988 | BT5: １ 普通税 | BU5: =[1]普通!$E$23 -> 8907043 | BV5: =[1]普通!$H$23 -> 8685254 | BW5: =[1]普通!$K$23 -> 97.509959 | BX5: =[1]普通!$E$24 -> 15641973 | BY5: =[1]普通!$H$24 -> 15378383 | BZ5: =[1]普通!$K$24 -> 98.314855 | CA5: =[1]普通!$E$25 -> 9591882 | CB5: =[1]普通!$H$25 -> 9274465 | CC5: =[1]普通!$K$25 -> 96.690775 | CD5: １ 普通税 | CE5: =[1]普通!$E$26 -> 27147881 | CF5: =[1]普通!$H$26 -> 26598210 | CG5: =[1]普通!$K$26 -> 97.975271 | CH5: =[1]普通!$E$27 -> 14042114 | CI5: =[1]普通!$H$27 -> 13815997 | CJ5: =[1]普通!$K$27 -> 98.389723 | CK5: =[1]普通!$E$28 -> 9845782 | CL5: =[1]普通!$H$28 -> 9584397 | CM5: =[1]普通!$K$28 -> 97.345208 | CN5: １ 普通税 | CO5: =[1]普通!$E$29 -> 9989888 | CP5: =[1]普通!$H$29 -> 9811303 | CQ5: =[1]普通!$K$29 -> 98.212342 | CR5: =[1]普通!$E$30 -> 29799304 | CS5: =[1]普通!$H$30 -> 29135717 | CT5: =[1]普通!$K$30 -> 97.773146 | CU5: =[1]普通!$E$32 -> 6300079 | CV5: =[1]普通!$H$32 -> 6109094 | CW5: =[1]普通!$K$32 -> 96.96853 | CX5: １ 普通税 | CY5: =[1]普通!$E$33 -> 2511827 | CZ5: =[1]普通!$H$33 -> 2434184 | DA5: =[1]普通!$K$33 -> 96.908903 | DB5: =[1]普通!$E$34 -> 205482 | DC5: =[1]普通!$H$34 -> 201269 | DD5: =[1]普通!$K$34 -> 97.949699 | DE5: =[1]普通!$E$35 -> 731544 | DF5: =[1]普通!$H$35 -> 725620 | DG5: =[1]普通!$K$35 -> 99.190206 | DH5: １ 普通税 | DI5: =[1]普通!$E$37 -> 1041613 | DJ5: =[1]普通!$H$37 -> 963093 | DK5: =[1]普通!$K$37 -> 92.461692 | DL5: =[1]普通!$E$38 -> 45442 | DM5: =[1]普通!$H$38 -> 45323 | DN5: =[1]普通!$K$38 -> 99.738128 | DO5: =[1]普通!$E$39 -> 380393 | DP5: =[1]普通!$H$39 -> 342451 | DQ5: =[1]普通!$K$39 -> 90.025579 | DR5: １ 普通税 | DS5: =[1]普通!$E$40 -> 243448 | DT5: =[1]普通!$H$40 -> 236064 | DU5: =[1]普通!$K$40 -> 96.966909 | DV5: =[1]普通!$E$41 -> 382140 | DW5: =[1]普通!$H$41 -> 351373 | DX5: =[1]普通!$K$41 -> 91.948762 | DY5: =[1]普通!$E$42 -> 46819 | DZ5: =[1]普通!$H$42 -> 46157 | EA5: =[1]普通!$K$42 -> 98.586044 | EB5: １ 普通税 | EC5: =[1]普通!$E$43 -> 995079 | ED5: =[1]普通!$H$43 -> 942836 | EE5: =[1]普通!$K$43 -> 94.749864 | EF5: =[1]普通!$E$44 -> 35881 | EG5: =[1]普通!$H$44 -> 35692 | EH5: =[1]普通!$K$44 -> 99.473259 | EI5: =[1]普通!$E$45 -> 473911 | EJ5: =[1]普通!$H$45 -> 468448 | EK5: =[1]普通!$K$45 -> 98.847252
B6: (1) 法定普通税 | C6: =[1]法普!$E$48 -> 687677395 | D6: =[1]法普!$H$48 -> 671877008 | E6: =[1]法普!$K$48 -> 97.702355 | F6: =[1]法普!$E$31 -> 674283737 | G6: =[1]法普!$H$31 -> 658975404 | H6: =[1]法普!$K$31 -> 97.72969 | I6: =[1]法普!$E$47 -> 13393658 | J6: =[1]法普!$H$47 -> 12901604 | K6: =[1]法普!$K$47 -> 96.326216 | L6: (1) 法定普通税 | M6: =[1]法普!$E$5 -> 82793296 | N6: =[1]法普!$H$5 -> 80405007 | O6: =[1]法普!$K$5 -> 97.115359 | P6: =[1]法普!$E$6 -> 37158366 | Q6: =[1]法普!$H$6 -> 36258103 | R6: =[1]法普!$K$6 -> 97.577227 | S6: =[1]法普!$E$7 -> 38069644 | T6: =[1]法普!$H$7 -> 37173993 | U6: =[1]法普!$K$7 -> 97.647335 | V6: (1) 法定普通税 | W6: =[1]法普!$E$8 -> 36015112 | X6: =[1]法普!$H$8 -> 35160903 | Y6: =[1]法普!$K$8 -> 97.628193 | Z6: =[1]法普!$E$9 -> 19323004 | AA6: =[1]法普!$H$9 -> 18540789 | AB6: =[1]法普!$K$9 -> 95.951898 | AC6: =[1]法普!$E$10 -> 49034548 | AD6: =[1]法普!$H$10 -> 47826635 | AE6: =[1]法普!$K$10 -> 97.536608 | AF6: (1) 法定普通税 | AG6: =[1]法普!$E$11 -> 17978096 | AH6: =[1]法普!$H$11 -> 17550296 | AI6: =[1]法普!$K$11 -> 97.620438 | AJ6: =[1]法普!$E$12 -> 42399236 | AK6: =[1]法普!$H$12 -> 41490613 | AL6: =[1]法普!$K$12 -> 97.856983 | AM6: =[1]法普!$E$13 -> 64369464 | AN6: =[1]法普!$H$13 -> 63052611 | AO6: =[1]法普!$K$13 -> 97.954227 | AP6: (1) 法定普通税 | AQ6: =[1]法普!$E$14 -> 19750472 | AR6: =[1]法普!$H$14 -> 19469229 | AS6: =[1]法普!$K$14 -> 98.576019 | AT6: =[1]法普!$E$15 -> 29024214 | AU6: =[1]法普!$H$15 -> 28359627 | AV6: =[1]法普!$K$15 -> 97.710233 | AW6: =[1]法普!$E$16 -> 27988865 | AX6: =[1]法普!$H$16 -> 27679604 | AY6: =[1]法普!$K$16 -> 98.895057 | AZ6: (1) 法定普通税 | BA6: =[1]法普!$E$17 -> 19374992 | BB6: =[1]法普!$H$17 -> 18790189 | BC6: =[1]法普!$K$17 -> 96.981661 | BD6: =[1]法普!$E$18 -> 21124819 | BE6: =[1]法普!$H$18 -> 20729808 | BF6: =[1]法普!$K$18 -> 98.130109 | BG6: =[1]法普!$E$19 -> 13791666 | BH6: =[1]法普!$H$19 -> 13709977 | BI6: =[1]法普!$K$19 -> 99.407693 | BJ6: (1) 法定普通税 | BK6: =[1]法普!$E$20 -> 7598116 | BL6: =[1]法普!$H$20 -> 7419012 | BM6: =[1]法普!$K$20 -> 97.642784 | BN6: =[1]法普!$E$21 -> 11341366 | BO6: =[1]法普!$H$21 -> 11257680 | BP6: =[1]法普!$K$21 -> 99.262117 | BQ6: =[1]法普!$E$22 -> 12182594 | BR6: =[1]法普!$H$22 -> 11817602 | BS6: =[1]法普!$K$22 -> 97.003988 | BT6: (1) 法定普通税 | BU6: =[1]法普!$E$23 -> 8907043 | BV6: =[1]法普!$H$23 -> 8685254 | BW6: =[1]法普!$K$23 -> 97.509959 | BX6: =[1]法普!$E$24 -> 15641973 | BY6: =[1]法普!$H$24 -> 15378383 | BZ6: =[1]法普!$K$24 -> 98.314855 | CA6: =[1]法普!$E$25 -> 9591882 | CB6: =[1]法普!$H$25 -> 9274465 | CC6: =[1]法普!$K$25 -> 96.690775 | CD6: (1) 法定普通税 | CE6: =[1]法普!$E$26 -> 27147881 | CF6: =[1]法普!$H$26 -> 26598210 | CG6: =[1]法普!$K$26 -> 97.975271 | CH6: =[1]法普!$E$27 -> 14042114 | CI6: =[1]法普!$H$27 -> 13815997 | CJ6: =[1]法普!$K$27 -> 98.389723 | CK6: =[1]法普!$E$28 -> 9845782 | CL6: =[1]法普!$H$28 -> 9584397 | CM6: =[1]法普!$K$28 -> 97.345208 | CN6: (1) 法定普通税 | CO6: =[1]法普!$E$29 -> 9989888 | CP6: =[1]法普!$H$29 -> 9811303 | CQ6: =[1]法普!$K$29 -> 98.212342 | CR6: =[1]法普!$E$30 -> 29799304 | CS6: =[1]法普!$H$30 -> 29135717 | CT6: =[1]法普!$K$30 -> 97.773146 | CU6: =[1]法普!$E$32 -> 6300079 | CV6: =[1]法普!$H$32 -> 6109094 | CW6: =[1]法普!$K$32 -> 96.96853 | CX6: (1) 法定普通税 | CY6: =[1]法普!$E$33 -> 2511827 | CZ6: =[1]法普!$H$33 -> 2434184 | DA6: =[1]法普!$K$33 -> 96.908903 | DB6: =[1]法普!$E$34 -> 205482 | DC6: =[1]法普!$H$34 -> 201269 | DD6: =[1]法普!$K$34 -> 97.949699 | DE6: =[1]法普!$E$35 -> 731544 | DF6: =[1]法普!$H$35 -> 725620 | DG6: =[1]法普!$K$35 -> 99.190206 | DH6: (1) 法定普通税 | DI6: =[1]法普!$E$37 -> 1041613 | DJ6: =[1]法普!$H$37 -> 963093 | DK6: =[1]法普!$K$37 -> 92.461692 | DL6: =[1]法普!$E$38 -> 45442 | DM6: =[1]法普!$H$38 -> 45323 | DN6: =[1]法普!$K$38 -> 99.738128 | DO6: =[1]法普!$E$39 -> 380393 | DP6: =[1]法普!$H$39 -> 342451 | DQ6: =[1]法普!$K$39 -> 90.025579 | DR6: (1) 法定普通税 | DS6: =[1]法普!$E$40 -> 243448 | DT6: =[1]法普!$H$40 -> 236064 | DU6: =[1]法普!$K$40 -> 96.966909 | DV6: =[1]法普!$E$41 -> 382140 | DW6: =[1]法普!$H$41 -> 351373 | DX6: =[1]法普!$K$41 -> 91.948762 | DY6: =[1]法普!$E$42 -> 46819 | DZ6: =[1]法普!$H$42 -> 46157 | EA6: =[1]法普!$K$42 -> 98.586044 | EB6: (1) 法定普通税 | EC6: =[1]法普!$E$43 -> 995079 | ED6: =[1]法普!$H$43 -> 942836 | EE6: =[1]法普!$K$43 -> 94.749864 | EF6: =[1]法普!$E$44 -> 35881 | EG6: =[1]法普!$H$44 -> 35692 | EH6: =[1]法普!$K$44 -> 99.473259 | EI6: =[1]法普!$E$45 -> 473911 | EJ6: =[1]法普!$H$45 -> 468448 | EK6: =[1]法普!$K$45 -> 98.847252
B7: ア 市町村民税 | C7: =[1]市民!$E$48 -> 366103220 | D7: =[1]市民!$H$48 -> 355015098 | E7: =[1]市民!$K$48 -> 96.971313 | F7: =[1]市民!$E$31 -> 360486838 | G7: =[1]市民!$H$31 -> 349627551 | H7: =[1]市民!$K$31 -> 96.987605 | I7: =[1]市民!$E$47 -> 5616382 | J7: =[1]市民!$H$47 -> 5387547 | K7: =[1]市民!$K$47 -> 95.92558 | L7: ア 市町村民税 | M7: =[1]市民!$E$5 -> 42770994 | N7: =[1]市民!$H$5 -> 41211116 | O7: =[1]市民!$K$5 -> 96.352954 | P7: =[1]市民!$E$6 -> 18161061 | Q7: =[1]市民!$H$6 -> 17519454 | R7: =[1]市民!$K$6 -> 96.467128 | S7: =[1]市民!$E$7 -> 21351436 | T7: =[1]市民!$H$7 -> 20649201 | U7: =[1]市民!$K$7 -> 96.711064 | V7: ア 市町村民税 | W7: =[1]市民!$E$8 -> 21174222 | X7: =[1]市民!$H$8 -> 20495795 | Y7: =[1]市民!$K$8 -> 96.795977 | Z7: =[1]市民!$E$9 -> 9397480 | AA7: =[1]市民!$H$9 -> 8933230 | AB7: =[1]市民!$K$9 -> 95.059846 | AC7: =[1]市民!$E$10 -> 25295968 | AD7: =[1]市民!$H$10 -> 24411851 | AE7: =[1]市民!$K$10 -> 96.504909 | AF7: ア 市町村民税 | AG7: =[1]市民!$E$11 -> 8555261 | AH7: =[1]市民!$H$11 -> 8246550 | AI7: =[1]市民!$K$11 -> 96.391565 | AJ7: =[1]市民!$E$12 -> 24313843 | AK7: =[1]市民!$H$12 -> 23717790 | AL7: =[1]市民!$K$12 -> 97.548504 | AM7: =[1]市民!$E$13 -> 35547598 | AN7: =[1]市民!$H$13 -> 34526189 | AO7: =[1]市民!$K$13 -> 97.126644 | AP7: ア 市町村民税 | AQ7: =[1]市民!$E$14 -> 11766709 | AR7: =[1]市民!$H$14 -> 11533705 | AS7: =[1]市民!$K$14 -> 98.019803 | AT7: =[1]市民!$E$15 -> 15984624 | AU7: =[1]市民!$H$15 -> 15508916 | AV7: =[1]市民!$K$15 -> 97.023965 | AW7: =[1]市民!$E$16 -> 15198025 | AX7: =[1]市民!$H$16 -> 14982787 | AY7: =[1]市民!$K$16 -> 98.583777 | AZ7: ア 市町村民税 | BA7: =[1]市民!$E$17 -> 10476135 | BB7: =[1]市民!$H$17 -> 10038035 | BC7: =[1]市民!$K$17 -> 95.818114 | BD7: =[1]市民!$E$18 -> 12175887 | BE7: =[1]市民!$H$18 -> 11879639 | BF7: =[1]市民!$K$18 -> 97.566929 | BG7: =[1]市民!$E$19 -> 7630025 | BH7: =[1]市民!$H$19 -> 7570335 | BI7: =[1]市民!$K$19 -> 99.217696 | BJ7: ア 市町村民税 | BK7: =[1]市民!$E$20 -> 3886491 | BL7: =[1]市民!$H$20 -> 3761606 | BM7: =[1]市民!$K$20 -> 96.78669 | BN7: =[1]市民!$E$21 -> 6824161 | BO7: =[1]市民!$H$21 -> 6751303 | BP7: =[1]市民!$K$21 -> 98.932352 | BQ7: =[1]市民!$E$22 -> 6243459 | BR7: =[1]市民!$H$22 -> 6025100 | BS7: =[1]市民!$K$22 -> 96.502596 | BT7: ア 市町村民税 | BU7: =[1]市民!$E$23 -> 4809770 | BV7: =[1]市民!$H$23 -> 4635325 | BW7: =[1]市民!$K$23 -> 96.373111 | BX7: =[1]市民!$E$24 -> 8237980 | BY7: =[1]市民!$H$24 -> 8051759 | BZ7: =[1]市民!$K$24 -> 97.739482 | CA7: =[1]市民!$E$25 -> 4359810 | CB7: =[1]市民!$H$25 -> 4145649 | CC7: =[1]市民!$K$25 -> 95.087836 | CD7: ア 市町村民税 | CE7: =[1]市民!$E$26 -> 12549696 | CF7: =[1]市民!$H$26 -> 12165577 | CG7: =[1]市民!$K$26 -> 96.939217 | CH7: =[1]市民!$E$27 -> 7533821 | CI7: =[1]市民!$H$27 -> 7413558 | CJ7: =[1]市民!$K$27 -> 98.403692 | CK7: =[1]市民!$E$28 -> 4495769 | CL7: =[1]市民!$H$28 -> 4322054 | CM7: =[1]市民!$K$28 -> 96.136034 | CN7: ア 市町村民税 | CO7: =[1]市民!$E$29 -> 4903965 | CP7: =[1]市民!$H$29 -> 4787788 | CQ7: =[1]市民!$K$29 -> 97.630958 | CR7: =[1]市民!$E$30 -> 16842648 | CS7: =[1]市民!$H$30 -> 16343239 | CT7: =[1]市民!$K$30 -> 97.034855 | CU7: =[1]市民!$E$32 -> 2527643 | CV7: =[1]市民!$H$32 -> 2409818 | CW7: =[1]市民!$K$32 -> 95.338543 | CX7: ア 市町村民税 | CY7: =[1]市民!$E$33 -> 1057511 | CZ7: =[1]市民!$H$33 -> 1019419 | DA7: =[1]市民!$K$33 -> 96.397957 | DB7: =[1]市民!$E$34 -> 87113 | DC7: =[1]市民!$H$34 -> 85927 | DD7: =[1]市民!$K$34 -> 98.63855 | DE7: =[1]市民!$E$35 -> 246534 | DF7: =[1]市民!$H$35 -> 244389 | DG7: =[1]市民!$K$35 -> 99.129937 | DH7: ア 市町村民税 | DI7: =[1]市民!$E$37 -> 470973 | DJ7: =[1]市民!$H$37 -> 449958 | DK7: =[1]市民!$K$37 -> 95.537961 | DL7: =[1]市民!$E$38 -> 24058 | DM7: =[1]市民!$H$38 -> 23967 | DN7: =[1]市民!$K$38 -> 99.621747 | DO7: =[1]市民!$E$39 -> 143716 | DP7: =[1]市民!$H$39 -> 140224 | DQ7: =[1]市民!$K$39 -> 97.570208 | DR7: ア 市町村民税 | DS7: =[1]市民!$E$40 -> 117028 | DT7: =[1]市民!$H$40 -> 113018 | DU7: =[1]市民!$K$40 -> 96.57347 | DV7: =[1]市民!$E$41 -> 187068 | DW7: =[1]市民!$H$41 -> 171958 | DX7: =[1]市民!$K$41 -> 91.922723 | DY7: =[1]市民!$E$42 -> 21871 | DZ7: =[1]市民!$H$42 -> 21209 | EA7: =[1]市民!$K$42 -> 96.973161 | EB7: ア 市町村民税 | EC7: =[1]市民!$E$43 -> 419525 | ED7: =[1]市民!$H$43 -> 398372 | EE7: =[1]市民!$K$43 -> 94.957869 | EF7: =[1]市民!$E$44 -> 18712 | EG7: =[1]市民!$H$44 -> 18580 | EH7: =[1]市民!$K$44 -> 99.29457 | EI7: =[1]市民!$E$45 -> 294630 | EJ7: =[1]市民!$H$45 -> 290708 | EK7: =[1]市民!$K$45 -> 98.668839
B8: (ｱ)個人均等割 | C8: ='[1]04_個均'!$E$48 -> 7580052 | D8: ='[1]04_個均'!$H$48 -> 7315222 | E8: ='[1]04_個均'!$K$48 -> 96.506224 | F8: ='[1]04_個均'!$E$31 -> 7427000 | G8: ='[1]04_個均'!$H$31 -> 7169334 | H8: ='[1]04_個均'!$K$31 -> 96.530685 | I8: ='[1]04_個均'!$E$47 -> 153052 | J8: ='[1]04_個均'!$H$47 -> 145888 | K8: ='[1]04_個均'!$K$47 -> 95.319238 | L8: (ｱ)個人均等割 | M8: ='[1]04_個均'!$E$5 -> 976164 | N8: ='[1]04_個均'!$H$5 -> 937175 | O8: ='[1]04_個均'!$K$5 -> 96.005897 | P8: ='[1]04_個均'!$E$6 -> 332400 | Q8: ='[1]04_個均'!$H$6 -> 317272 | R8: ='[1]04_個均'!$K$6 -> 95.448857 | S8: ='[1]04_個均'!$E$7 -> 289241 | T8: ='[1]04_個均'!$H$7 -> 278550 | U8: ='[1]04_個均'!$K$7 -> 96.303774 | V8: (ｱ)個人均等割 | W8: ='[1]04_個均'!$E$8 -> 352140 | X8: ='[1]04_個均'!$H$8 -> 339212 | Y8: ='[1]04_個均'!$K$8 -> 96.328733 | Z8: ='[1]04_個均'!$E$9 -> 244055 | AA8: ='[1]04_個均'!$H$9 -> 231383 | AB8: ='[1]04_個均'!$K$9 -> 94.807728 | AC8: ='[1]04_個均'!$E$10 -> 476257 | AD8: ='[1]04_個均'!$H$10 -> 456483 | AE8: ='[1]04_個均'!$K$10 -> 95.84804 | AF8: (ｱ)個人均等割 | AG8: ='[1]04_個均'!$E$11 -> 189187 | AH8: ='[1]04_個均'!$H$11 -> 178783 | AI8: ='[1]04_個均'!$K$11 -> 94.500679 | AJ8: ='[1]04_個均'!$E$12 -> 430605 | AK8: ='[1]04_個均'!$H$12 -> 417674 | AL8: ='[1]04_個均'!$K$12 -> 96.997016 | AM8: ='[1]04_個均'!$E$13 -> 740931 | AN8: ='[1]04_個均'!$H$13 -> 718779 | AO8: ='[1]04_個均'!$K$13 -> 97.010248 | AP8: (ｱ)個人均等割 | AQ8: ='[1]04_個均'!$E$14 -> 224428 | AR8: ='[1]04_個均'!$H$14 -> 219851 | AS8: ='[1]04_個均'!$K$14 -> 97.960593 | AT8: ='[1]04_個均'!$E$15 -> 327955 | AU8: ='[1]04_個均'!$H$15 -> 317070 | AV8: ='[1]04_個均'!$K$15 -> 96.680947 | AW8: ='[1]04_個均'!$E$16 -> 326543 | AX8: ='[1]04_個均'!$H$16 -> 321408 | AY8: ='[1]04_個均'!$K$16 -> 98.427466 | AZ8: (ｱ)個人均等割 | BA8: ='[1]04_個均'!$E$17 -> 262622 | BB8: ='[1]04_個均'!$H$17 -> 251152 | BC8: ='[1]04_個均'!$K$17 -> 95.632506 | BD8: ='[1]04_個均'!$E$18 -> 229499 | BE8: ='[1]04_個均'!$H$18 -> 223271 | BF8: ='[1]04_個均'!$K$18 -> 97.286263 | BG8: ='[1]04_個均'!$E$19 -> 135004 | BH8: ='[1]04_個均'!$H$19 -> 133916 | BI8: ='[1]04_個均'!$K$19 -> 99.194098 | BJ8: (ｱ)個人均等割 | BK8: ='[1]04_個均'!$E$20 -> 106200 | BL8: ='[1]04_個均'!$H$20 -> 102821 | BM8: ='[1]04_個均'!$K$20 -> 96.818267 | BN8: ='[1]04_個均'!$E$21 -> 151064 | BO8: ='[1]04_個均'!$H$21 -> 149433 | BP8: ='[1]04_個均'!$K$21 -> 98.920325 | BQ8: ='[1]04_個均'!$E$22 -> 148759 | BR8: ='[1]04_個均'!$H$22 -> 143335 | BS8: ='[1]04_個均'!$K$22 -> 96.353834 | BT8: (ｱ)個人均等割 | BU8: ='[1]04_個均'!$E$23 -> 126500 | BV8: ='[1]04_個均'!$H$23 -> 121641 | BW8: ='[1]04_個均'!$K$23 -> 96.158893 | BX8: ='[1]04_個均'!$E$24 -> 202497 | BY8: ='[1]04_個均'!$H$24 -> 197713 | BZ8: ='[1]04_個均'!$K$24 -> 97.637496 | CA8: ='[1]04_個均'!$E$25 -> 120597 | CB8: ='[1]04_個均'!$H$25 -> 114147 | CC8: ='[1]04_個均'!$K$25 -> 94.651608 | CD8: (ｱ)個人均等割 | CE8: ='[1]04_個均'!$E$26 -> 268288 | CF8: ='[1]04_個均'!$H$26 -> 259151 | CG8: ='[1]04_個均'!$K$26 -> 96.594331 | CH8: ='[1]04_個均'!$E$27 -> 153890 | CI8: ='[1]04_個均'!$H$27 -> 151348 | CJ8: ='[1]04_個均'!$K$27 -> 98.348171 | CK8: ='[1]04_個均'!$E$28 -> 104936 | CL8: ='[1]04_個均'!$H$28 -> 100266 | CM8: ='[1]04_個均'!$K$28 -> 95.549668 | CN8: (ｱ)個人均等割 | CO8: ='[1]04_個均'!$E$29 -> 141993 | CP8: ='[1]04_個均'!$H$29 -> 138617 | CQ8: ='[1]04_個均'!$K$29 -> 97.622418 | CR8: ='[1]04_個均'!$E$30 -> 365245 | CS8: ='[1]04_個均'!$H$30 -> 348883 | CT8: ='[1]04_個均'!$K$30 -> 95.520267 | CU8: ='[1]04_個均'!$E$32 -> 61685 | CV8: ='[1]04_個均'!$H$32 -> 58078 | CW8: ='[1]04_個均'!$K$32 -> 94.152549 | CX8: (ｱ)個人均等割 | CY8: ='[1]04_個均'!$E$33 -> 29858 | CZ8: ='[1]04_個均'!$H$33 -> 28618 | DA8: ='[1]04_個均'!$K$33 -> 95.847009 | DB8: ='[1]04_個均'!$E$34 -> 3312 | DC8: ='[1]04_個均'!$H$34 -> 3267 | DD8: ='[1]04_個均'!$K$34 -> 98.641304 | DE8: ='[1]04_個均'!$E$35 -> 9160 | DF8: ='[1]04_個均'!$H$35 -> 9068 | DG8: ='[1]04_個均'!$K$35 -> 98.995633 | DH8: (ｱ)個人均等割 | DI8: ='[1]04_個均'!$E$37 -> 14740 | DJ8: ='[1]04_個均'!$H$37 -> 13996 | DK8: ='[1]04_個均'!$K$37 -> 94.95251 | DL8: ='[1]04_個均'!$E$38 -> 634 | DM8: ='[1]04_個均'!$H$38 -> 634 | DN8: ='[1]04_個均'!$K$38 -> 100 | DO8: ='[1]04_個均'!$E$39 -> 4713 | DP8: ='[1]04_個均'!$H$39 -> 4609 | DQ8: ='[1]04_個均'!$K$39 -> 97.793338 | DR8: (ｱ)個人均等割 | DS8: ='[1]04_個均'!$E$40 -> 3240 | DT8: ='[1]04_個均'!$H$40 -> 3177 | DU8: ='[1]04_個均'!$K$40 -> 98.055556 | DV8: ='[1]04_個均'!$E$41 -> 5017 | DW8: ='[1]04_個均'!$H$41 -> 4579 | DX8: ='[1]04_個均'!$K$41 -> 91.269683 | DY8: ='[1]04_個均'!$E$42 -> 650 | DZ8: ='[1]04_個均'!$H$42 -> 637 | EA8: ='[1]04_個均'!$K$42 -> 98 | EB8: (ｱ)個人均等割 | EC8: ='[1]04_個均'!$E$43 -> 13535 | ED8: ='[1]04_個均'!$H$43 -> 12795 | EE8: ='[1]04_個均'!$K$43 -> 94.532693 | EF8: ='[1]04_個均'!$E$44 -> 359 | EG8: ='[1]04_個均'!$H$44 -> 354 | EH8: ='[1]04_個均'!$K$44 -> 98.607242 | EI8: ='[1]04_個均'!$E$45 -> 6149 | EJ8: ='[1]04_個均'!$H$45 -> 6076 | EK8: ='[1]04_個均'!$K$45 -> 98.812815
B9: (ｲ)所得割 | C9: ='[1]05_所割'!$E$48 -> 310602274 | D9: ='[1]05_所割'!$H$48 -> 300275212 | E9: ='[1]05_所割'!$K$48 -> 96.675149 | F9: ='[1]05_所割'!$E$31 -> 306107623 | G9: ='[1]05_所割'!$H$31 -> 295994006 | H9: ='[1]05_所割'!$K$31 -> 96.696058 | I9: ='[1]05_所割'!$E$47 -> 4494651 | J9: ='[1]05_所割'!$H$47 -> 4281206 | K9: ='[1]05_所割'!$K$47 -> 95.251133 | L9: (ｲ)所得割 | M9: ='[1]05_所割'!$E$5 -> 36324556 | N9: ='[1]05_所割'!$H$5 -> 34873700 | O9: ='[1]05_所割'!$K$5 -> 96.005853 | P9: ='[1]05_所割'!$E$6 -> 12930839 | Q9: ='[1]05_所割'!$H$6 -> 12342210 | R9: ='[1]05_所割'!$K$6 -> 95.447867 | S9: ='[1]05_所割'!$E$7 -> 17829424 | T9: ='[1]05_所割'!$H$7 -> 17170453 | U9: ='[1]05_所割'!$K$7 -> 96.304025 | V9: (ｲ)所得割 | W9: ='[1]05_所割'!$E$8 -> 17553420 | X9: ='[1]05_所割'!$H$8 -> 16914306 | Y9: ='[1]05_所割'!$K$8 -> 96.359034 | Z9: ='[1]05_所割'!$E$9 -> 7991087 | AA9: ='[1]05_所割'!$H$9 -> 7576183 | AB9: ='[1]05_所割'!$K$9 -> 94.807915 | AC9: ='[1]05_所割'!$E$10 -> 20259313 | AD9: ='[1]05_所割'!$H$10 -> 19422611 | AE9: ='[1]05_所割'!$K$10 -> 95.870038 | AF9: (ｲ)所得割 | AG9: ='[1]05_所割'!$E$11 -> 7066010 | AH9: ='[1]05_所割'!$H$11 -> 6779376 | AI9: ='[1]05_所割'!$K$11 -> 95.943482 | AJ9: ='[1]05_所割'!$E$12 -> 19723598 | AK9: ='[1]05_所割'!$H$12 -> 19158100 | AL9: ='[1]05_所割'!$K$12 -> 97.132886 | AM9: ='[1]05_所割'!$E$13 -> 31062629 | AN9: ='[1]05_所割'!$H$13 -> 30133982 | AO9: ='[1]05_所割'!$K$13 -> 97.010404 | AP9: (ｲ)所得割 | AQ9: ='[1]05_所割'!$E$14 -> 10753737 | AR9: ='[1]05_所割'!$H$14 -> 10534456 | AS9: ='[1]05_所割'!$K$14 -> 97.960886 | AT9: ='[1]05_所割'!$E$15 -> 13617199 | AU9: ='[1]05_所割'!$H$15 -> 13164359 | AV9: ='[1]05_所割'!$K$15 -> 96.6745 | AW9: ='[1]05_所割'!$E$16 -> 12826177 | AX9: ='[1]05_所割'!$H$16 -> 12624469 | AY9: ='[1]05_所割'!$K$16 -> 98.427372 | AZ9: (ｲ)所得割 | BA9: ='[1]05_所割'!$E$17 -> 9387375 | BB9: ='[1]05_所割'!$H$17 -> 8977285 | BC9: ='[1]05_所割'!$K$17 -> 95.631473 | BD9: ='[1]05_所割'!$E$18 -> 10950563 | BE9: ='[1]05_所割'!$H$18 -> 10668000 | BF9: ='[1]05_所割'!$K$18 -> 97.419649 | BG9: ='[1]05_所割'!$E$19 -> 6823258 | BH9: ='[1]05_所割'!$H$19 -> 6768239 | BI9: ='[1]05_所割'!$K$19 -> 99.193655 | BJ9: (ｲ)所得割 | BK9: ='[1]05_所割'!$E$20 -> 3406695 | BL9: ='[1]05_所割'!$H$20 -> 3298313 | BM9: ='[1]05_所割'!$K$20 -> 96.818559 | BN9: ='[1]05_所割'!$E$21 -> 6376454 | BO9: ='[1]05_所割'!$H$21 -> 6307519 | BP9: ='[1]05_所割'!$K$21 -> 98.918913 | BQ9: ='[1]05_所割'!$E$22 -> 5571310 | BR9: ='[1]05_所割'!$H$22 -> 5368145 | BS9: ='[1]05_所割'!$K$22 -> 96.353371 | BT9: (ｲ)所得割 | BU9: ='[1]05_所割'!$E$23 -> 4385350 | BV9: ='[1]05_所割'!$H$23 -> 4217407 | BW9: ='[1]05_所割'!$K$23 -> 96.170363 | BX9: ='[1]05_所割'!$E$24 -> 7405177 | BY9: ='[1]05_所割'!$H$24 -> 7230217 | BZ9: ='[1]05_所割'!$K$24 -> 97.637329 | CA9: ='[1]05_所割'!$E$25 -> 3704410 | CB9: ='[1]05_所割'!$H$25 -> 3506308 | CC9: ='[1]05_所割'!$K$25 -> 94.652266 | CD9: (ｲ)所得割 | CE9: ='[1]05_所割'!$E$26 -> 10564301 | CF9: ='[1]05_所割'!$H$26 -> 10204551 | CG9: ='[1]05_所割'!$K$26 -> 96.594663 | CH9: ='[1]05_所割'!$E$27 -> 6800759 | CI9: ='[1]05_所割'!$H$27 -> 6688318 | CJ9: ='[1]05_所割'!$K$27 -> 98.34664 | CK9: ='[1]05_所割'!$E$28 -> 3618770 | CL9: ='[1]05_所割'!$H$28 -> 3459388 | CM9: ='[1]05_所割'!$K$28 -> 95.595686 | CN9: (ｲ)所得割 | CO9: ='[1]05_所割'!$E$29 -> 4379369 | CP9: ='[1]05_所割'!$H$29 -> 4276054 | CQ9: ='[1]05_所割'!$K$29 -> 97.64087 | CR9: ='[1]05_所割'!$E$30 -> 14795843 | CS9: ='[1]05_所割'!$H$30 -> 14330057 | CT9: ='[1]05_所割'!$K$30 -> 96.851913 | CU9: ='[1]05_所割'!$E$32 -> 1900365 | CV9: ='[1]05_所割'!$H$32 -> 1789212 | CW9: ='[1]05_所割'!$K$32 -> 94.150966 | CX9: (ｲ)所得割 | CY9: ='[1]05_所割'!$E$33 -> 822777 | CZ9: ='[1]05_所割'!$H$33 -> 788117 | DA9: ='[1]05_所割'!$K$33 -> 95.787437 | DB9: ='[1]05_所割'!$E$34 -> 77297 | DC9: ='[1]05_所割'!$H$34 -> 76226 | DD9: ='[1]05_所割'!$K$34 -> 98.614435 | DE9: ='[1]05_所割'!$E$35 -> 205340 | DF9: ='[1]05_所割'!$H$35 -> 203288 | DG9: ='[1]05_所割'!$K$35 -> 99.000682 | DH9: (ｲ)所得割 | DI9: ='[1]05_所割'!$E$37 -> 408481 | DJ9: ='[1]05_所割'!$H$37 -> 388210 | DK9: ='[1]05_所割'!$K$37 -> 95.037468 | DL9: ='[1]05_所割'!$E$38 -> 21120 | DM9: ='[1]05_所割'!$H$38 -> 21029 | DN9: ='[1]05_所割'!$K$38 -> 99.569129 | DO9: ='[1]05_所割'!$E$39 -> 127986 | DP9: ='[1]05_所割'!$H$39 -> 125142 | DQ9: ='[1]05_所割'!$K$39 -> 97.777882 | DR9: (ｲ)所得割 | DS9: ='[1]05_所割'!$E$40 -> 101092 | DT9: ='[1]05_所割'!$H$40 -> 98495 | DU9: ='[1]05_所割'!$K$40 -> 97.431053 | DV9: ='[1]05_所割'!$E$41 -> 164167 | DW9: ='[1]05_所割'!$H$41 -> 149825 | DX9: ='[1]05_所割'!$K$41 -> 91.263774 | DY9: ='[1]05_所割'!$E$42 -> 19213 | DZ9: ='[1]05_所割'!$H$42 -> 18564 | EA9: ='[1]05_所割'!$K$42 -> 96.622079 | EB9: (ｲ)所得割 | EC9: ='[1]05_所割'!$E$43 -> 365567 | ED9: ='[1]05_所割'!$H$43 -> 345575 | EE9: ='[1]05_所割'!$K$43 -> 94.531235 | EF9: ='[1]05_所割'!$E$44 -> 16043 | EG9: ='[1]05_所割'!$H$44 -> 15916 | EH9: ='[1]05_所割'!$K$44 -> 99.208377 | EI9: ='[1]05_所割'!$E$45 -> 265203 | EJ9: ='[1]05_所割'!$H$45 -> 261607 | EK9: ='[1]05_所割'!$K$45 -> 98.644058
B10: うち退職所得分 | C10: ='[1]06_退所'!$E$48 -> 3182053 | D10: ='[1]06_退所'!$H$48 -> 3182053 | E10: ='[1]06_退所'!$K$48 -> 100 | F10: ='[1]06_退所'!$E$31 -> 3146901 | G10: ='[1]06_退所'!$H$31 -> 3146901 | H10: ='[1]06_退所'!$K$31 -> 100 | I10: ='[1]06_退所'!$E$47 -> 35152 | J10: ='[1]06_退所'!$H$47 -> 35152 | K10: ='[1]06_退所'!$K$47 -> 100 | L10: うち退職所得分 | M10: ='[1]06_退所'!$E$5 -> 359959 | N10: ='[1]06_退所'!$H$5 -> 359959 | O10: ='[1]06_退所'!$K$5 -> 100 | P10: ='[1]06_退所'!$E$6 -> 95594 | Q10: ='[1]06_退所'!$H$6 -> 95594 | R10: ='[1]06_退所'!$K$6 -> 100 | S10: ='[1]06_退所'!$E$7 -> 375229 | T10: ='[1]06_退所'!$H$7 -> 375229 | U10: ='[1]06_退所'!$K$7 -> 100 | V10: うち退職所得分 | W10: ='[1]06_退所'!$E$8 -> 157803 | X10: ='[1]06_退所'!$H$8 -> 157803 | Y10: ='[1]06_退所'!$K$8 -> 100 | Z10: ='[1]06_退所'!$E$9 -> 113105 | AA10: ='[1]06_退所'!$H$9 -> 113105 | AB10: ='[1]06_退所'!$K$9 -> 100 | AC10: ='[1]06_退所'!$E$10 -> 166947 | AD10: ='[1]06_退所'!$H$10 -> 166947 | AE10: ='[1]06_退所'!$K$10 -> 100 | AF10: うち退職所得分 | AG10: ='[1]06_退所'!$E$11 -> 62637 | AH10: ='[1]06_退所'!$H$11 -> 62637 | AI10: ='[1]06_退所'!$K$11 -> 100 | AJ10: ='[1]06_退所'!$E$12 -> 169071 | AK10: ='[1]06_退所'!$H$12 -> 169071 | AL10: ='[1]06_退所'!$K$12 -> 100 | AM10: ='[1]06_退所'!$E$13 -> 347665 | AN10: ='[1]06_退所'!$H$13 -> 347665 | AO10: ='[1]06_退所'!$K$13 -> 100 | AP10: うち退職所得分 | AQ10: ='[1]06_退所'!$E$14 -> 127027 | AR10: ='[1]06_退所'!$H$14 -> 127027 | AS10: ='[1]06_退所'!$K$14 -> 100 | AT10: ='[1]06_退所'!$E$15 -> 113940 | AU10: ='[1]06_退所'!$H$15 -> 113940 | AV10: ='[1]06_退所'!$K$15 -> 100 | AW10: ='[1]06_退所'!$E$16 -> 96754 | AX10: ='[1]06_退所'!$H$16 -> 96754 | AY10: ='[1]06_退所'!$K$16 -> 100 | AZ10: うち退職所得分 | BA10: ='[1]06_退所'!$E$17 -> 68973 | BB10: ='[1]06_退所'!$H$17 -> 68973 | BC10: ='[1]06_退所'!$K$17 -> 100 | BD10: ='[1]06_退所'!$E$18 -> 132529 | BE10: ='[1]06_退所'!$H$18 -> 132529 | BF10: ='[1]06_退所'!$K$18 -> 100 | BG10: ='[1]06_退所'!$E$19 -> 85071 | BH10: ='[1]06_退所'!$H$19 -> 85071 | BI10: ='[1]06_退所'!$K$19 -> 100 | BJ10: うち退職所得分 | BK10: ='[1]06_退所'!$E$20 -> 28766 | BL10: ='[1]06_退所'!$H$20 -> 28766 | BM10: ='[1]06_退所'!$K$20 -> 100 | BN10: ='[1]06_退所'!$E$21 -> 71495 | BO10: ='[1]06_退所'!$H$21 -> 71495 | BP10: ='[1]06_退所'!$K$21 -> 100 | BQ10: ='[1]06_退所'!$E$22 -> 46787 | BR10: ='[1]06_退所'!$H$22 -> 46787 | BS10: ='[1]06_退所'!$K$22 -> 100 | BT10: うち退職所得分 | BU10: ='[1]06_退所'!$E$23 -> 41527 | BV10: ='[1]06_退所'!$H$23 -> 41527 | BW10: ='[1]06_退所'!$K$23 -> 100 | BX10: ='[1]06_退所'!$E$24 -> 97330 | BY10: ='[1]06_退所'!$H$24 -> 97330 | BZ10: ='[1]06_退所'!$K$24 -> 100 | CA10: ='[1]06_退所'!$E$25 -> 25153 | CB10: ='[1]06_退所'!$H$25 -> 25153 | CC10: ='[1]06_退所'!$K$25 -> 100 | CD10: うち退職所得分 | CE10: ='[1]06_退所'!$E$26 -> 106812 | CF10: ='[1]06_退所'!$H$26 -> 106812 | CG10: ='[1]06_退所'!$K$26 -> 100 | CH10: ='[1]06_退所'!$E$27 -> 63370 | CI10: ='[1]06_退所'!$H$27 -> 63370 | CJ10: ='[1]06_退所'!$K$27 -> 100 | CK10: ='[1]06_退所'!$E$28 -> 31288 | CL10: ='[1]06_退所'!$H$28 -> 31288 | CM10: ='[1]06_退所'!$K$28 -> 100 | CN10: うち退職所得分 | CO10: ='[1]06_退所'!$E$29 -> 32911 | CP10: ='[1]06_退所'!$H$29 -> 32911 | CQ10: ='[1]06_退所'!$K$29 -> 100 | CR10: ='[1]06_退所'!$E$30 -> 129158 | CS10: ='[1]06_退所'!$H$30 -> 129158 | CT10: ='[1]06_退所'!$K$30 -> 100 | CU10: ='[1]06_退所'!$E$32 -> 8441 | CV10: ='[1]06_退所'!$H$32 -> 8441 | CW10: ='[1]06_退所'!$K$32 -> 100 | CX10: うち退職所得分 | CY10: ='[1]06_退所'!$E$33 -> 12585 | CZ10: ='[1]06_退所'!$H$33 -> 12585 | DA10: ='[1]06_退所'!$K$33 -> 100 | DB10: ='[1]06_退所'!$E$34 -> 1230 | DC10: ='[1]06_退所'!$H$34 -> 1230 | DD10: ='[1]06_退所'!$K$34 -> 100 | DE10: ='[1]06_退所'!$E$35 -> 2758 | DF10: ='[1]06_退所'!$H$35 -> 2758 | DG10: ='[1]06_退所'!$K$35 -> 100 | DH10: うち退職所得分 | DI10: ='[1]06_退所'!$E$37 -> 2795 | DJ10: ='[1]06_退所'!$H$37 -> 2795 | DK10: ='[1]06_退所'!$K$37 -> 100 | DL10: ='[1]06_退所'!$E$38 -> 144 | DM10: ='[1]06_退所'!$H$38 -> 144 | DN10: ='[1]06_退所'!$K$38 -> 100 | DO10: ='[1]06_退所'!$E$39 -> 1273 | DP10: ='[1]06_退所'!$H$39 -> 1273 | DQ10: ='[1]06_退所'!$K$39 -> 100 | DR10: うち退職所得分 | DS10: ='[1]06_退所'!$E$40 -> 1268 | DT10: ='[1]06_退所'!$H$40 -> 1268 | DU10: ='[1]06_退所'!$K$40 -> 100 | DV10: ='[1]06_退所'!$E$41 -> 973 | DW10: ='[1]06_退所'!$H$41 -> 973 | DX10: ='[1]06_退所'!$K$41 -> 100 | DY10: ='[1]06_退所'!$E$42 -> 98 | DZ10: ='[1]06_退所'!$H$42 -> 98 | EA10: ='[1]06_退所'!$K$42 -> 100 | EB10: うち退職所得分 | EC10: ='[1]06_退所'!$E$43 -> 1870 | ED10: ='[1]06_退所'!$H$43 -> 1870 | EE10: ='[1]06_退所'!$K$43 -> 100 | EF10: ='[1]06_退所'!$E$44 -> 186 | EG10: ='[1]06_退所'!$H$44 -> 186 | EH10: ='[1]06_退所'!$K$44 -> 100 | EI10: ='[1]06_退所'!$E$45 -> 1531 | EJ10: ='[1]06_退所'!$H$45 -> 1531 | EK10: ='[1]06_退所'!$K$45 -> 100
B11: (ｳ)法人均等割 | C11: ='[1]07_法均'!$E$48 -> 11381616 | D11: ='[1]07_法均'!$H$48 -> 11222186 | E11: ='[1]07_法均'!$K$48 -> 98.599232 | F11: ='[1]07_法均'!$E$31 -> 11065317 | G11: ='[1]07_法均'!$H$31 -> 10910310 | H11: ='[1]07_法均'!$K$31 -> 98.599163 | I11: ='[1]07_法均'!$E$47 -> 316299 | J11: ='[1]07_法均'!$H$47 -> 311876 | K11: ='[1]07_法均'!$K$47 -> 98.60164 | L11: (ｳ)法人均等割 | M11: ='[1]07_法均'!$E$5 -> 1462963 | N11: ='[1]07_法均'!$H$5 -> 1444234 | O11: ='[1]07_法均'!$K$5 -> 98.71979 | P11: ='[1]07_法均'!$E$6 -> 1034237 | Q11: ='[1]07_法均'!$H$6 -> 1026241 | R11: ='[1]07_法均'!$K$6 -> 99.22687 | S11: ='[1]07_法均'!$E$7 -> 752505 | T11: ='[1]07_法均'!$H$7 -> 744923 | U11: ='[1]07_法均'!$K$7 -> 98.992432 | V11: (ｳ)法人均等割 | W11: ='[1]07_法均'!$E$8 -> 439868 | X11: ='[1]07_法均'!$H$8 -> 436316 | Y11: ='[1]07_法均'!$K$8 -> 99.192485 | Z11: ='[1]07_法均'!$E$9 -> 326132 | AA11: ='[1]07_法均'!$H$9 -> 315842 | AB11: ='[1]07_法均'!$K$9 -> 96.844836 | AC11: ='[1]07_法均'!$E$10 -> 751083 | AD11: ='[1]07_法均'!$H$10 -> 738697 | AE11: ='[1]07_法均'!$K$10 -> 98.350915 | AF11: (ｳ)法人均等割 | AG11: ='[1]07_法均'!$E$11 -> 347296 | AH11: ='[1]07_法均'!$H$11 -> 344178 | AI11: ='[1]07_法均'!$K$11 -> 99.102207 | AJ11: ='[1]07_法均'!$E$12 -> 628836 | AK11: ='[1]07_法均'!$H$12 -> 626172 | AL11: ='[1]07_法均'!$K$12 -> 99.57636 | AM11: ='[1]07_法均'!$E$13 -> 1137629 | AN11: ='[1]07_法均'!$H$13 -> 1116175 | AO11: ='[1]07_法均'!$K$13 -> 98.114148 | AP11: (ｳ)法人均等割 | AQ11: ='[1]07_法均'!$E$14 -> 252098 | AR11: ='[1]07_法均'!$H$14 -> 249173 | AS11: ='[1]07_法均'!$K$14 -> 98.839737 | AT11: ='[1]07_法均'!$E$15 -> 357715 | AU11: ='[1]07_法均'!$H$15 -> 356666 | AV11: ='[1]07_法均'!$K$15 -> 99.70675 | AW11: ='[1]07_法均'!$E$16 -> 344746 | AX11: ='[1]07_法均'!$H$16 -> 343330 | AY11: ='[1]07_法均'!$K$16 -> 99.589263 | AZ11: (ｳ)法人均等割 | BA11: ='[1]07_法均'!$E$17 -> 298724 | BB11: ='[1]07_法均'!$H$17 -> 286320 | BC11: ='[1]07_法均'!$K$17 -> 95.847672 | BD11: ='[1]07_法均'!$E$18 -> 307255 | BE11: ='[1]07_法均'!$H$18 -> 304912 | BF11: ='[1]07_法均'!$K$18 -> 99.237441 | BG11: ='[1]07_法均'!$E$19 -> 226717 | BH11: ='[1]07_法均'!$H$19 -> 225508 | BI11: ='[1]07_法均'!$K$19 -> 99.466736 | BJ11: (ｳ)法人均等割 | BK11: ='[1]07_法均'!$E$20 -> 134338 | BL11: ='[1]07_法均'!$H$20 -> 129619 | BM11: ='[1]07_法均'!$K$20 -> 96.487219 | BN11: ='[1]07_法均'!$E$21 -> 140796 | BO11: ='[1]07_法均'!$H$21 -> 139708 | BP11: ='[1]07_法均'!$K$21 -> 99.227251 | BQ11: ='[1]07_法均'!$E$22 -> 204915 | BR11: ='[1]07_法均'!$H$22 -> 201089 | BS11: ='[1]07_法均'!$K$22 -> 98.132884 | BT11: (ｳ)法人均等割 | BU11: ='[1]07_法均'!$E$23 -> 109659 | BV11: ='[1]07_法均'!$H$23 -> 109054 | BW11: ='[1]07_法均'!$K$23 -> 99.44829 | BX11: ='[1]07_法均'!$E$24 -> 246112 | BY11: ='[1]07_法均'!$H$24 -> 243583 | BZ11: ='[1]07_法均'!$K$24 -> 98.972419 | CA11: ='[1]07_法均'!$E$25 -> 212386 | CB11: ='[1]07_法均'!$H$25 -> 208570 | CC11: ='[1]07_法均'!$K$25 -> 98.203271 | CD11: (ｳ)法人均等割 | CE11: ='[1]07_法均'!$E$26 -> 440767 | CF11: ='[1]07_法均'!$H$26 -> 436858 | CG11: ='[1]07_法均'!$K$26 -> 99.113137 | CH11: ='[1]07_法均'!$E$27 -> 183020 | CI11: ='[1]07_法均'!$H$27 -> 181351 | CJ11: ='[1]07_法均'!$K$27 -> 99.088078 | CK11: ='[1]07_法均'!$E$28 -> 151725 | CL11: ='[1]07_法均'!$H$28 -> 148672 | CM11: ='[1]07_法均'!$K$28 -> 97.987807 | CN11: (ｳ)法人均等割 | CO11: ='[1]07_法均'!$E$29 -> 155114 | CP11: ='[1]07_法均'!$H$29 -> 150317 | CQ11: ='[1]07_法均'!$K$29 -> 96.907436 | CR11: ='[1]07_法均'!$E$30 -> 418681 | CS11: ='[1]07_法均'!$H$30 -> 402802 | CT11: ='[1]07_法均'!$K$30 -> 96.207375 | CU11: ='[1]07_法均'!$E$32 -> 151897 | CV11: ='[1]07_法均'!$H$32 -> 151073 | CW11: ='[1]07_法均'!$K$32 -> 99.457527 | CX11: (ｳ)法人均等割 | CY11: ='[1]07_法均'!$E$33 -> 77069 | CZ11: ='[1]07_法均'!$H$33 -> 74896 | DA11: ='[1]07_法均'!$K$33 -> 97.180449 | DB11: ='[1]07_法均'!$E$34 -> 4334 | DC11: ='[1]07_法均'!$H$34 -> 4269 | DD11: ='[1]07_法均'!$K$34 -> 98.500231 | DE11: ='[1]07_法均'!$E$35 -> 14066 | DF11: ='[1]07_法均'!$H$35 -> 14065 | DG11: ='[1]07_法均'!$K$35 -> 99.992891 | DH11: (ｳ)法人均等割 | DI11: ='[1]07_法均'!$E$37 -> 19733 | DJ11: ='[1]07_法均'!$H$37 -> 19733 | DK11: ='[1]07_法均'!$K$37 -> 100 | DL11: ='[1]07_法均'!$E$38 -> 1801 | DM11: ='[1]07_法均'!$H$38 -> 1801 | DN11: ='[1]07_法均'!$K$38 -> 100 | DO11: ='[1]07_法均'!$E$39 -> 6268 | DP11: ='[1]07_法均'!$H$39 -> 5958 | DQ11: ='[1]07_法均'!$K$39 -> 95.054244 | DR11: (ｳ)法人均等割 | DS11: ='[1]07_法均'!$E$40 -> 3657 | DT11: ='[1]07_法均'!$H$40 -> 3607 | DU11: ='[1]07_法均'!$K$40 -> 98.632759 | DV11: ='[1]07_法均'!$E$41 -> 7066 | DW11: ='[1]07_法均'!$H$41 -> 6736 | DX11: ='[1]07_法均'!$K$41 -> 95.329748 | DY11: ='[1]07_法均'!$E$42 -> 1280 | DZ11: ='[1]07_法均'!$H$42 -> 1280 | EA11: ='[1]07_法均'!$K$42 -> 100 | EB11: (ｳ)法人均等割 | EC11: ='[1]07_法均'!$E$43 -> 18459 | ED11: ='[1]07_法均'!$H$43 -> 18040 | EE11: ='[1]07_法均'!$K$43 -> 97.730105 | EF11: ='[1]07_法均'!$E$44 -> 1125 | EG11: ='[1]07_法均'!$H$44 -> 1125 | EH11: ='[1]07_法均'!$K$44 -> 100 | EI11: ='[1]07_法均'!$E$45 -> 9544 | EJ11: ='[1]07_法均'!$H$45 -> 9293 | EK11: ='[1]07_法均'!$K$45 -> 97.370075
B12: (ｴ)法人税割 | C12: ='[1]08_法割'!$E$48 -> 36539278 | D12: ='[1]08_法割'!$H$48 -> 36202478 | E12: ='[1]08_法割'!$K$48 -> 99.078252 | F12: ='[1]08_法割'!$E$31 -> 35886898 | G12: ='[1]08_法割'!$H$31 -> 35553901 | H12: ='[1]08_法割'!$K$31 -> 99.072093 | I12: ='[1]08_法割'!$E$47 -> 652380 | J12: ='[1]08_法割'!$H$47 -> 648577 | K12: ='[1]08_法割'!$K$47 -> 99.417058 | L12: (ｴ)法人税割 | M12: ='[1]08_法割'!$E$5 -> 4007311 | N12: ='[1]08_法割'!$H$5 -> 3956007 | O12: ='[1]08_法割'!$K$5 -> 98.71974 | P12: ='[1]08_法割'!$E$6 -> 3863585 | Q12: ='[1]08_法割'!$H$6 -> 3833731 | R12: ='[1]08_法割'!$K$6 -> 99.227298 | S12: ='[1]08_法割'!$E$7 -> 2480266 | T12: ='[1]08_法割'!$H$7 -> 2455275 | U12: ='[1]08_法割'!$K$7 -> 98.992406 | V12: (ｴ)法人税割 | W12: ='[1]08_法割'!$E$8 -> 2828794 | X12: ='[1]08_法割'!$H$8 -> 2805961 | Y12: ='[1]08_法割'!$K$8 -> 99.192836 | Z12: ='[1]08_法割'!$E$9 -> 836206 | AA12: ='[1]08_法割'!$H$9 -> 809822 | AB12: ='[1]08_法割'!$K$9 -> 96.844797 | AC12: ='[1]08_法割'!$E$10 -> 3809315 | AD12: ='[1]08_法割'!$H$10 -> 3794060 | AE12: ='[1]08_法割'!$K$10 -> 99.599534 | AF12: (ｴ)法人税割 | AG12: ='[1]08_法割'!$E$11 -> 952768 | AH12: ='[1]08_法割'!$H$11 -> 944213 | AI12: ='[1]08_法割'!$K$11 -> 99.10209 | AJ12: ='[1]08_法割'!$E$12 -> 3530804 | AK12: ='[1]08_法割'!$H$12 -> 3515844 | AL12: ='[1]08_法割'!$K$12 -> 99.5763 | AM12: ='[1]08_法割'!$E$13 -> 2606409 | AN12: ='[1]08_法割'!$H$13 -> 2557253 | AO12: ='[1]08_法割'!$K$13 -> 98.114034 | AP12: (ｴ)法人税割 | AQ12: ='[1]08_法割'!$E$14 -> 536446 | AR12: ='[1]08_法割'!$H$14 -> 530225 | AS12: ='[1]08_法割'!$K$14 -> 98.840331 | AT12: ='[1]08_法割'!$E$15 -> 1681755 | AU12: ='[1]08_法割'!$H$15 -> 1670821 | AV12: ='[1]08_法割'!$K$15 -> 99.349846 | AW12: ='[1]08_法割'!$E$16 -> 1700559 | AX12: ='[1]08_法割'!$H$16 -> 1693580 | AY12: ='[1]08_法割'!$K$16 -> 99.589606 | AZ12: (ｴ)法人税割 | BA12: ='[1]08_法割'!$E$17 -> 527414 | BB12: ='[1]08_法割'!$H$17 -> 523278 | BC12: ='[1]08_法割'!$K$17 -> 99.215796 | BD12: ='[1]08_法割'!$E$18 -> 688570 | BE12: ='[1]08_法割'!$H$18 -> 683456 | BF12: ='[1]08_法割'!$K$18 -> 99.257301 | BG12: ='[1]08_法割'!$E$19 -> 445046 | BH12: ='[1]08_法割'!$H$19 -> 442672 | BI12: ='[1]08_法割'!$K$19 -> 99.466572 | BJ12: (ｴ)法人税割 | BK12: ='[1]08_法割'!$E$20 -> 239258 | BL12: ='[1]08_法割'!$H$20 -> 230853 | BM12: ='[1]08_法割'!$K$20 -> 96.487056 | BN12: ='[1]08_法割'!$E$21 -> 155847 | BO12: ='[1]08_法割'!$H$21 -> 154643 | BP12: ='[1]08_法割'!$K$21 -> 99.227447 | BQ12: ='[1]08_法割'!$E$22 -> 318475 | BR12: ='[1]08_法割'!$H$22 -> 312531 | BS12: ='[1]08_法割'!$K$22 -> 98.133605 | BT12: (ｴ)法人税割 | BU12: ='[1]08_法割'!$E$23 -> 188261 | BV12: ='[1]08_法割'!$H$23 -> 187223 | BW12: ='[1]08_法割'!$K$23 -> 99.448638 | BX12: ='[1]08_法割'!$E$24 -> 384194 | BY12: ='[1]08_法割'!$H$24 -> 380246 | BZ12: ='[1]08_法割'!$K$24 -> 98.972394 | CA12: ='[1]08_法割'!$E$25 -> 322417 | CB12: ='[1]08_法割'!$H$25 -> 316624 | CC12: ='[1]08_法割'!$K$25 -> 98.203259 | CD12: (ｴ)法人税割 | CE12: ='[1]08_法割'!$E$26 -> 1276340 | CF12: ='[1]08_法割'!$H$26 -> 1265017 | CG12: ='[1]08_法割'!$K$26 -> 99.112854 | CH12: ='[1]08_法割'!$E$27 -> 396152 | CI12: ='[1]08_法割'!$H$27 -> 392541 | CJ12: ='[1]08_法割'!$K$27 -> 99.088481 | CK12: ='[1]08_法割'!$E$28 -> 620338 | CL12: ='[1]08_法割'!$H$28 -> 613728 | CM12: ='[1]08_法割'!$K$28 -> 98.934452 | CN12: (ｴ)法人税割 | CO12: ='[1]08_法割'!$E$29 -> 227489 | CP12: ='[1]08_法割'!$H$29 -> 222800 | CQ12: ='[1]08_法割'!$K$29 -> 97.938801 | CR12: ='[1]08_法割'!$E$30 -> 1262879 | CS12: ='[1]08_法割'!$H$30 -> 1261497 | CT12: ='[1]08_法割'!$K$30 -> 99.890568 | CU12: ='[1]08_法割'!$E$32 -> 413696 | CV12: ='[1]08_法割'!$H$32 -> 411455 | CW12: ='[1]08_法割'!$K$32 -> 99.458298 | CX12: (ｴ)法人税割 | CY12: ='[1]08_法割'!$E$33 -> 127807 | CZ12: ='[1]08_法割'!$H$33 -> 127788 | DA12: ='[1]08_法割'!$K$33 -> 99.985134 | DB12: ='[1]08_法割'!$E$34 -> 2170 | DC12: ='[1]08_法割'!$H$34 -> 2165 | DD12: ='[1]08_法割'!$K$34 -> 99.769585 | DE12: ='[1]08_法割'!$E$35 -> 17968 | DF12: ='[1]08_法割'!$H$35 -> 17968 | DG12: ='[1]08_法割'!$K$35 -> 100 | DH12: (ｴ)法人税割 | DI12: ='[1]08_法割'!$E$37 -> 28019 | DJ12: ='[1]08_法割'!$H$37 -> 28019 | DK12: ='[1]08_法割'!$K$37 -> 100 | DL12: ='[1]08_法割'!$E$38 -> 503 | DM12: ='[1]08_法割'!$H$38 -> 503 | DN12: ='[1]08_法割'!$K$38 -> 100 | DO12: ='[1]08_法割'!$E$39 -> 4749 | DP12: ='[1]08_法割'!$H$39 -> 4515 | DQ12: ='[1]08_法割'!$K$39 -> 95.072647 | DR12: (ｴ)法人税割 | DS12: ='[1]08_法割'!$E$40 -> 9039 | DT12: ='[1]08_法割'!$H$40 -> 7739 | DU12: ='[1]08_法割'!$K$40 -> 85.617878 | DV12: ='[1]08_法割'!$E$41 -> 10818 | DW12: ='[1]08_法割'!$H$41 -> 10818 | DX12: ='[1]08_法割'!$K$41 -> 100 | DY12: ='[1]08_法割'!$E$42 -> 728 | DZ12: ='[1]08_法割'!$H$42 -> 728 | EA12: ='[1]08_法割'!$K$42 -> 100 | EB12: (ｴ)法人税割 | EC12: ='[1]08_法割'!$E$43 -> 21964 | ED12: ='[1]08_法割'!$H$43 -> 21962 | EE12: ='[1]08_法割'!$K$43 -> 99.990894 | EF12: ='[1]08_法割'!$E$44 -> 1185 | EG12: ='[1]08_法割'!$H$44 -> 1185 | EH12: ='[1]08_法割'!$K$44 -> 100 | EI12: ='[1]08_法割'!$E$45 -> 13734 | EJ12: ='[1]08_法割'!$H$45 -> 13732 | EK12: ='[1]08_法割'!$K$45 -> 99.985438
B13: イ 固定資産税 | C13: =[1]固定!$E$48 -> 293061697 | D13: =[1]固定!$H$48 -> 288577109 | E13: =[1]固定!$K$48 -> 98.469746 | F13: =[1]固定!$E$31 -> 286392243 | G13: =[1]固定!$H$31 -> 282156542 | H13: =[1]固定!$K$31 -> 98.521014 | I13: =[1]固定!$E$47 -> 6669454 | J13: =[1]固定!$H$47 -> 6420567 | K13: =[1]固定!$K$47 -> 96.268255 | L13: イ 固定資産税 | M13: =[1]固定!$E$5 -> 35891505 | N13: =[1]固定!$H$5 -> 35091288 | O13: =[1]固定!$K$5 -> 97.770456 | P13: =[1]固定!$E$6 -> 17451515 | Q13: =[1]固定!$H$6 -> 17201227 | R13: =[1]固定!$K$6 -> 98.565809 | S13: =[1]固定!$E$7 -> 15718389 | T13: =[1]固定!$H$7 -> 15530161 | U13: =[1]固定!$K$7 -> 98.802498 | V13: イ 固定資産税 | W13: =[1]固定!$E$8 -> 13930634 | X13: =[1]固定!$H$8 -> 13761267 | Y13: =[1]固定!$K$8 -> 98.784212 | Z13: =[1]固定!$E$9 -> 8776011 | AA13: =[1]固定!$H$9 -> 8469906 | AB13: =[1]固定!$K$9 -> 96.512026 | AC13: =[1]固定!$E$10 -> 22107509 | AD13: =[1]固定!$H$10 -> 21792889 | AE13: =[1]固定!$K$10 -> 98.576864 | AF13: イ 固定資産税 | AG13: =[1]固定!$E$11 -> 8493586 | AH13: =[1]固定!$H$11 -> 8379951 | AI13: =[1]固定!$K$11 -> 98.662108 | AJ13: =[1]固定!$E$12 -> 16665602 | AK13: =[1]固定!$H$12 -> 16361294 | AL13: =[1]固定!$K$12 -> 98.174035 | AM13: =[1]固定!$E$13 -> 26089559 | AN13: =[1]固定!$H$13 -> 25822983 | AO13: =[1]固定!$K$13 -> 98.978227 | AP13: イ 固定資産税 | AQ13: =[1]固定!$E$14 -> 7404480 | AR13: =[1]固定!$H$14 -> 7359166 | AS13: =[1]固定!$K$14 -> 99.388019 | AT13: =[1]固定!$E$15 -> 12022599 | AU13: =[1]固定!$H$15 -> 11859656 | AV13: =[1]固定!$K$15 -> 98.644694 | AW13: =[1]固定!$E$16 -> 11759453 | AX13: =[1]固定!$H$16 -> 11670691 | AY13: =[1]固定!$K$16 -> 99.245186 | AZ13: イ 固定資産税 | BA13: =[1]固定!$E$17 -> 8037693 | BB13: =[1]固定!$H$17 -> 7898835 | BC13: =[1]固定!$K$17 -> 98.272415 | BD13: =[1]固定!$E$18 -> 8053057 | BE13: =[1]固定!$H$18 -> 7956746 | BF13: =[1]固定!$K$18 -> 98.804044 | BG13: =[1]固定!$E$19 -> 5698176 | BH13: =[1]固定!$H$19 -> 5677371 | BI13: =[1]固定!$K$19 -> 99.634883 | BJ13: イ 固定資産税 | BK13: =[1]固定!$E$20 -> 3190427 | BL13: =[1]固定!$H$20 -> 3140811 | BM13: =[1]固定!$K$20 -> 98.444848 | BN13: =[1]固定!$E$21 -> 4118531 | BO13: =[1]固定!$H$21 -> 4109055 | BP13: =[1]固定!$K$21 -> 99.769918 | BQ13: =[1]固定!$E$22 -> 5282775 | BR13: =[1]固定!$H$22 -> 5141805 | BS13: =[1]固定!$K$22 -> 97.331516 | BT13: イ 固定資産税 | BU13: =[1]固定!$E$23 -> 3642137 | BV13: =[1]固定!$H$23 -> 3598990 | BW13: =[1]固定!$K$23 -> 98.815338 | BX13: =[1]固定!$E$24 -> 6697100 | BY13: =[1]固定!$H$24 -> 6622619 | BZ13: =[1]固定!$K$24 -> 98.887862 | CA13: =[1]固定!$E$25 -> 4591659 | CB13: =[1]固定!$H$25 -> 4501589 | CC13: =[1]固定!$K$25 -> 98.0384 | CD13: イ 固定資産税 | CE13: =[1]固定!$E$26 -> 13640234 | CF13: =[1]固定!$H$26 -> 13479842 | CG13: =[1]固定!$K$26 -> 98.824126 | CH13: =[1]固定!$E$27 -> 6000784 | CI13: =[1]固定!$H$27 -> 5896438 | CJ13: =[1]固定!$K$27 -> 98.261127 | CK13: =[1]固定!$E$28 -> 4802151 | CL13: =[1]固定!$H$28 -> 4720464 | CM13: =[1]固定!$K$28 -> 98.29895 | CN13: イ 固定資産税 | CO13: =[1]固定!$E$29 -> 4480760 | CP13: =[1]固定!$H$29 -> 4424027 | CQ13: =[1]固定!$K$29 -> 98.733853 | CR13: =[1]固定!$E$30 -> 11845917 | CS13: =[1]固定!$H$30 -> 11687471 | CT13: =[1]固定!$K$30 -> 98.662442 | CU13: =[1]固定!$E$32 -> 3275473 | CV13: =[1]固定!$H$32 -> 3207970 | CW13: =[1]固定!$K$32 -> 97.939137 | CX13: イ 固定資産税 | CY13: =[1]固定!$E$33 -> 1300419 | CZ13: =[1]固定!$H$33 -> 1262800 | DA13: =[1]固定!$K$33 -> 97.107163 | DB13: =[1]固定!$E$34 -> 107672 | DC13: =[1]固定!$H$34 -> 104665 | DD13: =[1]固定!$K$34 -> 97.207259 | DE13: =[1]固定!$E$35 -> 444198 | DF13: =[1]固定!$H$35 -> 440458 | DG13: =[1]固定!$K$35 -> 99.158033 | DH13: イ 固定資産税 | DI13: =[1]固定!$E$37 -> 450751 | DJ13: =[1]固定!$H$37 -> 394243 | DK13: =[1]固定!$K$37 -> 87.463589 | DL13: =[1]固定!$E$38 -> 17065 | DM13: =[1]固定!$H$38 -> 17037 | DN13: =[1]固定!$K$38 -> 99.835921 | DO13: =[1]固定!$E$39 -> 192409 | DP13: =[1]固定!$H$39 -> 159592 | DQ13: =[1]固定!$K$39 -> 82.944145 | DR13: イ 固定資産税 | DS13: =[1]固定!$E$40 -> 99271 | DT13: =[1]固定!$H$40 -> 95944 | DU13: =[1]固定!$K$40 -> 96.648568 | DV13: =[1]固定!$E$41 -> 149690 | DW13: =[1]固定!$H$41 -> 135830 | DX13: =[1]固定!$K$41 -> 90.740864 | DY13: =[1]固定!$E$42 -> 20549 | DZ13: =[1]固定!$H$42 -> 20549 | EA13: =[1]固定!$K$42 -> 100 | EB13: イ 固定資産税 | EC13: =[1]固定!$E$43 -> 452281 | ED13: =[1]固定!$H$43 -> 423361 | EE13: =[1]固定!$K$43 -> 93.605745 | EF13: =[1]固定!$E$44 -> 13382 | EG13: =[1]固定!$H$44 -> 13331 | EH13: =[1]固定!$K$44 -> 99.618891 | EI13: =[1]固定!$E$45 -> 146294 | EJ13: =[1]固定!$H$45 -> 144787 | EK13: =[1]固定!$K$45 -> 98.969883
B14: (ｱ)純固定資産税 | C14: =[1]純固!$E$48 -> 283742927 | D14: =[1]純固!$H$48 -> 279258339 | E14: =[1]純固!$K$48 -> 98.419489 | F14: =[1]純固!$E$31 -> 277505217 | G14: =[1]純固!$H$31 -> 273269516 | H14: =[1]純固!$K$31 -> 98.47365 | I14: =[1]純固!$E$47 -> 6237710 | J14: =[1]純固!$H$47 -> 5988823 | K14: =[1]純固!$K$47 -> 96.009962 | L14: (ｱ)純固定資産税 | M14: =[1]純固!$E$5 -> 35026685 | N14: =[1]純固!$H$5 -> 34226468 | O14: =[1]純固!$K$5 -> 97.715408 | P14: =[1]純固!$E$6 -> 16965247 | Q14: =[1]純固!$H$6 -> 16714959 | R14: =[1]純固!$K$6 -> 98.524702 | S14: =[1]純固!$E$7 -> 15111338 | T14: =[1]純固!$H$7 -> 14923110 | U14: =[1]純固!$K$7 -> 98.754392 | V14: (ｱ)純固定資産税 | W14: =[1]純固!$E$8 -> 13585608 | X14: =[1]純固!$H$8 -> 13416241 | Y14: =[1]純固!$K$8 -> 98.753335 | Z14: =[1]純固!$E$9 -> 8741836 | AA14: =[1]純固!$H$9 -> 8435731 | AB14: =[1]純固!$K$9 -> 96.49839 | AC14: =[1]純固!$E$10 -> 21690215 | AD14: =[1]純固!$H$10 -> 21375595 | AE14: =[1]純固!$K$10 -> 98.549484 | AF14: (ｱ)純固定資産税 | AG14: =[1]純固!$E$11 -> 8210628 | AH14: =[1]純固!$H$11 -> 8096993 | AI14: =[1]純固!$K$11 -> 98.616001 | AJ14: =[1]純固!$E$12 -> 15698846 | AK14: =[1]純固!$H$12 -> 15394538 | AL14: =[1]純固!$K$12 -> 98.06159 | AM14: =[1]純固!$E$13 -> 25489309 | AN14: =[1]純固!$H$13 -> 25222733 | AO14: =[1]純固!$K$13 -> 98.954165 | AP14: (ｱ)純固定資産税 | AQ14: =[1]純固!$E$14 -> 7246676 | AR14: =[1]純固!$H$14 -> 7201362 | AS14: =[1]純固!$K$14 -> 99.374693 | AT14: =[1]純固!$E$15 -> 11523233 | AU14: =[1]純固!$H$15 -> 11360290 | AV14: =[1]純固!$K$15 -> 98.585961 | AW14: =[1]純固!$E$16 -> 11570525 | AX14: =[1]純固!$H$16 -> 11481763 | AY14: =[1]純固!$K$16 -> 99.232861 | AZ14: (ｱ)純固定資産税 | BA14: =[1]純固!$E$17 -> 7272438 | BB14: =[1]純固!$H$17 -> 7133580 | BC14: =[1]純固!$K$17 -> 98.090627 | BD14: =[1]純固!$E$18 -> 7904945 | BE14: =[1]純固!$H$18 -> 7808634 | BF14: =[1]純固!$K$18 -> 98.781636 | BG14: =[1]純固!$E$19 -> 5501344 | BH14: =[1]純固!$H$19 -> 5480539 | BI14: =[1]純固!$K$19 -> 99.62182 | BJ14: (ｱ)純固定資産税 | BK14: =[1]純固!$E$20 -> 3124791 | BL14: =[1]純固!$H$20 -> 3075175 | BM14: =[1]純固!$K$20 -> 98.412182 | BN14: =[1]純固!$E$21 -> 4047633 | BO14: =[1]純固!$H$21 -> 4038157 | BP14: =[1]純固!$K$21 -> 99.765888 | BQ14: =[1]純固!$E$22 -> 4723805 | BR14: =[1]純固!$H$22 -> 4582835 | BS14: =[1]純固!$K$22 -> 97.015753 | BT14: (ｱ)純固定資産税 | BU14: =[1]純固!$E$23 -> 3374189 | BV14: =[1]純固!$H$23 -> 3331042 | BW14: =[1]純固!$K$23 -> 98.721263 | BX14: =[1]純固!$E$24 -> 6474571 | BY14: =[1]純固!$H$24 -> 6400090 | BZ14: =[1]純固!$K$24 -> 98.849638 | CA14: =[1]純固!$E$25 -> 4261070 | CB14: =[1]純固!$H$25 -> 4171000 | CC14: =[1]純固!$K$25 -> 97.886212 | CD14: (ｱ)純固定資産税 | CE14: =[1]純固!$E$26 -> 13436580 | CF14: =[1]純固!$H$26 -> 13276188 | CG14: =[1]純固!$K$26 -> 98.806303 | CH14: =[1]純固!$E$27 -> 5912558 | CI14: =[1]純固!$H$27 -> 5808212 | CJ14: =[1]純固!$K$27 -> 98.23518 | CK14: =[1]純固!$E$28 -> 4717642 | CL14: =[1]純固!$H$28 -> 4635955 | CM14: =[1]純固!$K$28 -> 98.268478 | CN14: (ｱ)純固定資産税 | CO14: =[1]純固!$E$29 -> 4476850 | CP14: =[1]純固!$H$29 -> 4420117 | CQ14: =[1]純固!$K$29 -> 98.732747 | CR14: =[1]純固!$E$30 -> 11416655 | CS14: =[1]純固!$H$30 -> 11258209 | CT14: =[1]純固!$K$30 -> 98.61215 | CU14: =[1]純固!$E$32 -> 3202782 | CV14: =[1]純固!$H$32 -> 3135279 | CW14: =[1]純固!$K$32 -> 97.892364 | CX14: (ｱ)純固定資産税 | CY14: =[1]純固!$E$33 -> 1300419 | CZ14: =[1]純固!$H$33 -> 1262800 | DA14: =[1]純固!$K$33 -> 97.107163 | DB14: =[1]純固!$E$34 -> 107672 | DC14: =[1]純固!$H$34 -> 104665 | DD14: =[1]純固!$K$34 -> 97.207259 | DE14: =[1]純固!$E$35 -> 309523 | DF14: =[1]純固!$H$35 -> 305783 | DG14: =[1]純固!$K$35 -> 98.791689 | DH14: (ｱ)純固定資産税 | DI14: =[1]純固!$E$37 -> 384185 | DJ14: =[1]純固!$H$37 -> 327677 | DK14: =[1]純固!$K$37 -> 85.291461 | DL14: =[1]純固!$E$38 -> 15085 | DM14: =[1]純固!$H$38 -> 15057 | DN14: =[1]純固!$K$38 -> 99.814385 | DO14: =[1]純固!$E$39 -> 177355 | DP14: =[1]純固!$H$39 -> 144538 | DQ14: =[1]純固!$K$39 -> 81.496434 | DR14: (ｱ)純固定資産税 | DS14: =[1]純固!$E$40 -> 76344 | DT14: =[1]純固!$H$40 -> 73017 | DU14: =[1]純固!$K$40 -> 95.642094 | DV14: =[1]純固!$E$41 -> 127782 | DW14: =[1]純固!$H$41 -> 113922 | DX14: =[1]純固!$K$41 -> 89.153402 | DY14: =[1]純固!$E$42 -> 19057 | DZ14: =[1]純固!$H$42 -> 19057 | EA14: =[1]純固!$K$42 -> 100 | EB14: (ｱ)純固定資産税 | EC14: =[1]純固!$E$43 -> 387590 | ED14: =[1]純固!$H$43 -> 358670 | EE14: =[1]純固!$K$43 -> 92.538507 | EF14: =[1]純固!$E$44 -> 12825 | EG14: =[1]純固!$H$44 -> 12774 | EH14: =[1]純固!$K$44 -> 99.602339 | EI14: =[1]純固!$E$45 -> 117091 | EJ14: =[1]純固!$H$45 -> 115584 | EK14: =[1]純固!$K$45 -> 98.712967
B15: ①土地 | C15: ='[1]11_土地'!$E$48 -> 138662914 | D15: ='[1]11_土地'!$H$48 -> 136437274 | E15: ='[1]11_土地'!$K$48 -> 98.394928 | F15: ='[1]11_土地'!$E$31 -> 136030106 | G15: ='[1]11_土地'!$H$31 -> 133896127 | H15: ='[1]11_土地'!$K$31 -> 98.431245 | I15: ='[1]11_土地'!$E$47 -> 2632808 | J15: ='[1]11_土地'!$H$47 -> 2541147 | K15: ='[1]11_土地'!$K$47 -> 96.518508 | L15: ①土地 | M15: ='[1]11_土地'!$E$5 -> 14623299 | N15: ='[1]11_土地'!$H$5 -> 14289216 | O15: ='[1]11_土地'!$K$5 -> 97.715406 | P15: ='[1]11_土地'!$E$6 -> 8714479 | Q15: ='[1]11_土地'!$H$6 -> 8569687 | R15: ='[1]11_土地'!$K$6 -> 98.338489 | S15: ='[1]11_土地'!$E$7 -> 8604137 | T15: ='[1]11_土地'!$H$7 -> 8488562 | U15: ='[1]11_土地'!$K$7 -> 98.656751 | V15: ①土地 | W15: ='[1]11_土地'!$E$8 -> 7288273 | X15: ='[1]11_土地'!$H$8 -> 7184941 | Y15: ='[1]11_土地'!$K$8 -> 98.582216 | Z15: ='[1]11_土地'!$E$9 -> 4010344 | AA15: ='[1]11_土地'!$H$9 -> 3869918 | AB15: ='[1]11_土地'!$K$9 -> 96.498405 | AC15: ='[1]11_土地'!$E$10 -> 10516887 | AD15: ='[1]11_土地'!$H$10 -> 10364338 | AE15: ='[1]11_土地'!$K$10 -> 98.549485 | AF15: ①土地 | AG15: ='[1]11_土地'!$E$11 -> 4054997 | AH15: ='[1]11_土地'!$H$11 -> 3990969 | AI15: ='[1]11_土地'!$K$11 -> 98.42101 | AJ15: ='[1]11_土地'!$E$12 -> 8143754 | AK15: ='[1]11_土地'!$H$12 -> 7979226 | AL15: ='[1]11_土地'!$K$12 -> 97.979703 | AM15: ='[1]11_土地'!$E$13 -> 12015040 | AN15: ='[1]11_土地'!$H$13 -> 11889383 | AO15: ='[1]11_土地'!$K$13 -> 98.954169 | AP15: ①土地 | AQ15: ='[1]11_土地'!$E$14 -> 4047338 | AR15: ='[1]11_土地'!$H$14 -> 4022033 | AS15: ='[1]11_土地'!$K$14 -> 99.374774 | AT15: ='[1]11_土地'!$E$15 -> 6460335 | AU15: ='[1]11_土地'!$H$15 -> 6368407 | AV15: ='[1]11_土地'!$K$15 -> 98.57704 | AW15: ='[1]11_土地'!$E$16 -> 5448061 | AX15: ='[1]11_土地'!$H$16 -> 5406267 | AY15: ='[1]11_土地'!$K$16 -> 99.232865 | AZ15: ①土地 | BA15: ='[1]11_土地'!$E$17 -> 3605699 | BB15: ='[1]11_土地'!$H$17 -> 3536851 | BC15: ='[1]11_土地'!$K$17 -> 98.090578 | BD15: ='[1]11_土地'!$E$18 -> 4158752 | BE15: ='[1]11_土地'!$H$18 -> 4105179 | BF15: ='[1]11_土地'!$K$18 -> 98.711801 | BG15: ='[1]11_土地'!$E$19 -> 2898612 | BH15: ='[1]11_土地'!$H$19 -> 2887696 | BI15: ='[1]11_土地'!$K$19 -> 99.623406 | BJ15: ①土地 | BK15: ='[1]11_土地'!$E$20 -> 1565290 | BL15: ='[1]11_土地'!$H$20 -> 1540538 | BM15: ='[1]11_土地'!$K$20 -> 98.418696 | BN15: ='[1]11_土地'!$E$21 -> 2230948 | BO15: ='[1]11_土地'!$H$21 -> 2225363 | BP15: ='[1]11_土地'!$K$21 -> 99.749658 | BQ15: ='[1]11_土地'!$E$22 -> 2375995 | BR15: ='[1]11_土地'!$H$22 -> 2305089 | BS15: ='[1]11_土地'!$K$22 -> 97.015734 | BT15: ①土地 | BU15: ='[1]11_土地'!$E$23 -> 1668599 | BV15: ='[1]11_土地'!$H$23 -> 1646168 | BW15: ='[1]11_土地'!$K$23 -> 98.655699 | BX15: ='[1]11_土地'!$E$24 -> 3547781 | BY15: ='[1]11_土地'!$H$24 -> 3506968 | BZ15: ='[1]11_土地'!$K$24 -> 98.849619 | CA15: ='[1]11_土地'!$E$25 -> 2281310 | CB15: ='[1]11_土地'!$H$25 -> 2233088 | CC15: ='[1]11_土地'!$K$25 -> 97.886214 | CD15: ①土地 | CE15: ='[1]11_土地'!$E$26 -> 4440585 | CF15: ='[1]11_土地'!$H$26 -> 4371929 | CG15: ='[1]11_土地'!$K$26 -> 98.453897 | CH15: ='[1]11_土地'!$E$27 -> 2884365 | CI15: ='[1]11_土地'!$H$27 -> 2827507 | CJ15: ='[1]11_土地'!$K$27 -> 98.028752 | CK15: ='[1]11_土地'!$E$28 -> 2329902 | CL15: ='[1]11_土地'!$H$28 -> 2289028 | CM15: ='[1]11_土地'!$K$28 -> 98.245677 | CN15: ①土地 | CO15: ='[1]11_土地'!$E$29 -> 2313706 | CP15: ='[1]11_土地'!$H$29 -> 2284385 | CQ15: ='[1]11_土地'!$K$29 -> 98.732726 | CR15: ='[1]11_土地'!$E$30 -> 5801618 | CS15: ='[1]11_土地'!$H$30 -> 5713391 | CT15: ='[1]11_土地'!$K$30 -> 98.479269 | CU15: ='[1]11_土地'!$E$32 -> 1605803 | CV15: ='[1]11_土地'!$H$32 -> 1571959 | CW15: ='[1]11_土地'!$K$32 -> 97.892394 | CX15: ①土地 | CY15: ='[1]11_土地'!$E$33 -> 573451 | CZ15: ='[1]11_土地'!$H$33 -> 553358 | DA15: ='[1]11_土地'!$K$33 -> 96.496126 | DB15: ='[1]11_土地'!$E$34 -> 45549 | DC15: ='[1]11_土地'!$H$34 -> 44573 | DD15: ='[1]11_土地'!$K$34 -> 97.857253 | DE15: ='[1]11_土地'!$E$35 -> 88537 | DF15: ='[1]11_土地'!$H$35 -> 86020 | DG15: ='[1]11_土地'!$K$35 -> 97.157121 | DH15: ①土地 | DI15: ='[1]11_土地'!$E$37 -> 125153 | DJ15: ='[1]11_土地'!$H$37 -> 106743 | DK15: ='[1]11_土地'!$K$37 -> 85.290005 | DL15: ='[1]11_土地'!$E$38 -> 680 | DM15: ='[1]11_土地'!$H$38 -> 675 | DN15: ='[1]11_土地'!$K$38 -> 99.264706 | DO15: ='[1]11_土地'!$E$39 -> 20195 | DP15: ='[1]11_土地'!$H$39 -> 16333 | DQ15: ='[1]11_土地'!$K$39 -> 80.876455 | DR15: ①土地 | DS15: ='[1]11_土地'!$E$40 -> 5469 | DT15: ='[1]11_土地'!$H$40 -> 5232 | DU15: ='[1]11_土地'!$K$40 -> 95.666484 | DV15: ='[1]11_土地'!$E$41 -> 24581 | DW15: ='[1]11_土地'!$H$41 -> 21916 | DX15: ='[1]11_土地'!$K$41 -> 89.158293 | DY15: ='[1]11_土地'!$E$42 -> 618 | DZ15: ='[1]11_土地'!$H$42 -> 618 | EA15: ='[1]11_土地'!$K$42 -> 100 | EB15: ①土地 | EC15: ='[1]11_土地'!$E$43 -> 116972 | ED15: ='[1]11_土地'!$H$43 -> 108244 | EE15: ='[1]11_土地'!$K$43 -> 92.538385 | EF15: ='[1]11_土地'!$E$44 -> 930 | EG15: ='[1]11_土地'!$H$44 -> 926 | EH15: ='[1]11_土地'!$K$44 -> 99.569892 | EI15: ='[1]11_土地'!$E$45 -> 24870 | EJ15: ='[1]11_土地'!$H$45 -> 24550 | EK15: ='[1]11_土地'!$K$45 -> 98.713309
B16: ②家屋 | C16: ='[1]12_家屋'!$E$48 -> 111967519 | D16: ='[1]12_家屋'!$H$48 -> 110099633 | E16: ='[1]12_家屋'!$K$48 -> 98.331761 | F16: ='[1]12_家屋'!$E$31 -> 109710286 | G16: ='[1]12_家屋'!$H$31 -> 107939128 | H16: ='[1]12_家屋'!$K$31 -> 98.385604 | I16: ='[1]12_家屋'!$E$47 -> 2257233 | J16: ='[1]12_家屋'!$H$47 -> 2160505 | K16: ='[1]12_家屋'!$K$47 -> 95.714753 | L16: ②家屋 | M16: ='[1]12_家屋'!$E$5 -> 16231379 | N16: ='[1]12_家屋'!$H$5 -> 15860558 | O16: ='[1]12_家屋'!$K$5 -> 97.715407 | P16: ='[1]12_家屋'!$E$6 -> 6034074 | Q16: ='[1]12_家屋'!$H$6 -> 5933088 | R16: ='[1]12_家屋'!$K$6 -> 98.326404 | S16: ='[1]12_家屋'!$E$7 -> 5065548 | T16: ='[1]12_家屋'!$H$7 -> 4997505 | U16: ='[1]12_家屋'!$K$7 -> 98.656749 | V16: ②家屋 | W16: ='[1]12_家屋'!$E$8 -> 4618164 | X16: ='[1]12_家屋'!$H$8 -> 4552685 | Y16: ='[1]12_家屋'!$K$8 -> 98.582142 | Z16: ='[1]12_家屋'!$E$9 -> 3714799 | AA16: ='[1]12_家屋'!$H$9 -> 3584722 | AB16: ='[1]12_家屋'!$K$9 -> 96.498411 | AC16: ='[1]12_家屋'!$E$10 -> 8255909 | AD16: ='[1]12_家屋'!$H$10 -> 8136155 | AE16: ='[1]12_家屋'!$K$10 -> 98.549475 | AF16: ②家屋 | AG16: ='[1]12_家屋'!$E$11 -> 3096981 | AH16: ='[1]12_家屋'!$H$11 -> 3048080 | AI16: ='[1]12_家屋'!$K$11 -> 98.421011 | AJ16: ='[1]12_家屋'!$E$12 -> 6167056 | AK16: ='[1]12_家屋'!$H$12 -> 6042462 | AL16: ='[1]12_家屋'!$K$12 -> 97.979684 | AM16: ='[1]12_家屋'!$E$13 -> 10723100 | AN16: ='[1]12_家屋'!$H$13 -> 10610954 | AO16: ='[1]12_家屋'!$K$13 -> 98.954164 | AP16: ②家屋 | AQ16: ='[1]12_家屋'!$E$14 -> 2668291 | AR16: ='[1]12_家屋'!$H$14 -> 2651606 | AS16: ='[1]12_家屋'!$K$14 -> 99.374693 | AT16: ='[1]12_家屋'!$E$15 -> 4012244 | AU16: ='[1]12_家屋'!$H$15 -> 3956175 | AV16: ='[1]12_家屋'!$K$15 -> 98.602553 | AW16: ='[1]12_家屋'!$E$16 -> 4602946 | AX16: ='[1]12_家屋'!$H$16 -> 4567635 | AY16: ='[1]12_家屋'!$K$16 -> 99.232861 | AZ16: ②家屋 | BA16: ='[1]12_家屋'!$E$17 -> 2991676 | BB16: ='[1]12_家屋'!$H$17 -> 2934555 | BC16: ='[1]12_家屋'!$K$17 -> 98.090669 | BD16: ='[1]12_家屋'!$E$18 -> 3111382 | BE16: ='[1]12_家屋'!$H$18 -> 3071297 | BF16: ='[1]12_家屋'!$K$18 -> 98.711666 | BG16: ='[1]12_家屋'!$E$19 -> 2095655 | BH16: ='[1]12_家屋'!$H$19 -> 2087538 | BI16: ='[1]12_家屋'!$K$19 -> 99.612675 | BJ16: ②家屋 | BK16: ='[1]12_家屋'!$E$20 -> 1278534 | BL16: ='[1]12_家屋'!$H$20 -> 1258317 | BM16: ='[1]12_家屋'!$K$20 -> 98.418736 | BN16: ='[1]12_家屋'!$E$21 -> 1545658 | BO16: ='[1]12_家屋'!$H$21 -> 1541791 | BP16: ='[1]12_家屋'!$K$21 -> 99.749815 | BQ16: ='[1]12_家屋'!$E$22 -> 1874709 | BR16: ='[1]12_家屋'!$H$22 -> 1818764 | BS16: ='[1]12_家屋'!$K$22 -> 97.015804 | BT16: ②家屋 | BU16: ='[1]12_家屋'!$E$23 -> 1385018 | BV16: ='[1]12_家屋'!$H$23 -> 1366398 | BW16: ='[1]12_家屋'!$K$23 -> 98.655613 | BX16: ='[1]12_家屋'!$E$24 -> 2409948 | BY16: ='[1]12_家屋'!$H$24 -> 2382225 | BZ16: ='[1]12_家屋'!$K$24 -> 98.849643 | CA16: ='[1]12_家屋'!$E$25 -> 1586748 | CB16: ='[1]12_家屋'!$H$25 -> 1553207 | CC16: ='[1]12_家屋'!$K$25 -> 97.88618 | CD16: ②家屋 | CE16: ='[1]12_家屋'!$E$26 -> 5843037 | CF16: ='[1]12_家屋'!$H$26 -> 5752699 | CG16: ='[1]12_家屋'!$K$26 -> 98.45392 | CH16: ='[1]12_家屋'!$E$27 -> 2405109 | CI16: ='[1]12_家屋'!$H$27 -> 2357695 | CJ16: ='[1]12_家屋'!$K$27 -> 98.028613 | CK16: ='[1]12_家屋'!$E$28 -> 1582267 | CL16: ='[1]12_家屋'!$H$28 -> 1554508 | CM16: ='[1]12_家屋'!$K$28 -> 98.245618 | CN16: ②家屋 | CO16: ='[1]12_家屋'!$E$29 -> 1735927 | CP16: ='[1]12_家屋'!$H$29 -> 1713928 | CQ16: ='[1]12_家屋'!$K$29 -> 98.732723 | CR16: ='[1]12_家屋'!$E$30 -> 4674127 | CS16: ='[1]12_家屋'!$H$30 -> 4604581 | CT16: ='[1]12_家屋'!$K$30 -> 98.512107 | CU16: ='[1]12_家屋'!$E$32 -> 1087457 | CV16: ='[1]12_家屋'!$H$32 -> 1064538 | CW16: ='[1]12_家屋'!$K$32 -> 97.892422 | CX16: ②家屋 | CY16: ='[1]12_家屋'!$E$33 -> 552979 | CZ16: ='[1]12_家屋'!$H$33 -> 535947 | DA16: ='[1]12_家屋'!$K$33 -> 96.919955 | DB16: ='[1]12_家屋'!$E$34 -> 35466 | DC16: ='[1]12_家屋'!$H$34 -> 33469 | DD16: ='[1]12_家屋'!$K$34 -> 94.369255 | DE16: ='[1]12_家屋'!$E$35 -> 83814 | DF16: ='[1]12_家屋'!$H$35 -> 82592 | DG16: ='[1]12_家屋'!$K$35 -> 98.54201 | DH16: ②家屋 | DI16: ='[1]12_家屋'!$E$37 -> 137531 | DJ16: ='[1]12_家屋'!$H$37 -> 117306 | DK16: ='[1]12_家屋'!$K$37 -> 85.294225 | DL16: ='[1]12_家屋'!$E$38 -> 4337 | DM16: ='[1]12_家屋'!$H$38 -> 4314 | DN16: ='[1]12_家屋'!$K$38 -> 99.46968 | DO16: ='[1]12_家屋'!$E$39 -> 82059 | DP16: ='[1]12_家屋'!$H$39 -> 66776 | DQ16: ='[1]12_家屋'!$K$39 -> 81.375596 | DR16: ②家屋 | DS16: ='[1]12_家屋'!$E$40 -> 37798 | DT16: ='[1]12_家屋'!$H$40 -> 36173 | DU16: ='[1]12_家屋'!$K$40 -> 95.700831 | DV16: ='[1]12_家屋'!$E$41 -> 39634 | DW16: ='[1]12_家屋'!$H$41 -> 35335 | DX16: ='[1]12_家屋'!$K$41 -> 89.153252 | DY16: ='[1]12_家屋'!$E$42 -> 3147 | DZ16: ='[1]12_家屋'!$H$42 -> 3147 | EA16: ='[1]12_家屋'!$K$42 -> 100 | EB16: ②家屋 | EC16: ='[1]12_家屋'!$E$43 -> 156159 | ED16: ='[1]12_家屋'!$H$43 -> 144507 | EE16: ='[1]12_家屋'!$K$43 -> 92.538374 | EF16: ='[1]12_家屋'!$E$44 -> 2533 | EG16: ='[1]12_家屋'!$H$44 -> 2523 | EH16: ='[1]12_家屋'!$K$44 -> 99.605211 | EI16: ='[1]12_家屋'!$E$45 -> 34319 | EJ16: ='[1]12_家屋'!$H$45 -> 33878 | EK16: ='[1]12_家屋'!$K$45 -> 98.714998
B17: ③債却資産 | C17: ='[1]13_償却'!$E$48 -> 33112494 | D17: ='[1]13_償却'!$H$48 -> 32721432 | E17: ='[1]13_償却'!$K$48 -> 98.81899 | F17: ='[1]13_償却'!$E$31 -> 31764825 | G17: ='[1]13_償却'!$H$31 -> 31434261 | H17: ='[1]13_償却'!$K$31 -> 98.959339 | I17: ='[1]13_償却'!$E$47 -> 1347669 | J17: ='[1]13_償却'!$H$47 -> 1287171 | K17: ='[1]13_償却'!$K$47 -> 95.510916 | L17: ③債却資産 | M17: ='[1]13_償却'!$E$5 -> 4172007 | N17: ='[1]13_償却'!$H$5 -> 4076694 | O17: ='[1]13_償却'!$K$5 -> 97.715416 | P17: ='[1]13_償却'!$E$6 -> 2216694 | Q17: ='[1]13_償却'!$H$6 -> 2212184 | R17: ='[1]13_償却'!$K$6 -> 99.796544 | S17: ='[1]13_償却'!$E$7 -> 1441653 | T17: ='[1]13_償却'!$H$7 -> 1437043 | U17: ='[1]13_償却'!$K$7 -> 99.680228 | V17: ③債却資産 | W17: ='[1]13_償却'!$E$8 -> 1679171 | X17: ='[1]13_償却'!$H$8 -> 1678615 | Y17: ='[1]13_償却'!$K$8 -> 99.966888 | Z17: ='[1]13_償却'!$E$9 -> 1016693 | AA17: ='[1]13_償却'!$H$9 -> 981091 | AB17: ='[1]13_償却'!$K$9 -> 96.498255 | AC17: ='[1]13_償却'!$E$10 -> 2917419 | AD17: ='[1]13_償却'!$H$10 -> 2875102 | AE17: ='[1]13_償却'!$K$10 -> 98.549506 | AF17: ③債却資産 | AG17: ='[1]13_償却'!$E$11 -> 1058650 | AH17: ='[1]13_償却'!$H$11 -> 1057944 | AI17: ='[1]13_償却'!$K$11 -> 99.933311 | AJ17: ='[1]13_償却'!$E$12 -> 1388036 | AK17: ='[1]13_償却'!$H$12 -> 1372850 | AL17: ='[1]13_償却'!$K$12 -> 98.905936 | AM17: ='[1]13_償却'!$E$13 -> 2751169 | AN17: ='[1]13_償却'!$H$13 -> 2722396 | AO17: ='[1]13_償却'!$K$13 -> 98.954154 | AP17: ③債却資産 | AQ17: ='[1]13_償却'!$E$14 -> 531047 | AR17: ='[1]13_償却'!$H$14 -> 527723 | AS17: ='[1]13_償却'!$K$14 -> 99.374067 | AT17: ='[1]13_償却'!$E$15 -> 1050654 | AU17: ='[1]13_償却'!$H$15 -> 1035708 | AV17: ='[1]13_償却'!$K$15 -> 98.577457 | AW17: ='[1]13_償却'!$E$16 -> 1519518 | AX17: ='[1]13_償却'!$H$16 -> 1507861 | AY17: ='[1]13_償却'!$K$16 -> 99.232849 | AZ17: ③債却資産 | BA17: ='[1]13_償却'!$E$17 -> 675063 | BB17: ='[1]13_償却'!$H$17 -> 662174 | BC17: ='[1]13_償却'!$K$17 -> 98.090697 | BD17: ='[1]13_償却'!$E$18 -> 634811 | BE17: ='[1]13_償却'!$H$18 -> 632158 | BF17: ='[1]13_償却'!$K$18 -> 99.58208 | BG17: ='[1]13_償却'!$E$19 -> 507077 | BH17: ='[1]13_償却'!$H$19 -> 505305 | BI17: ='[1]13_償却'!$K$19 -> 99.650546 | BJ17: ③債却資産 | BK17: ='[1]13_償却'!$E$20 -> 280967 | BL17: ='[1]13_償却'!$H$20 -> 276320 | BM17: ='[1]13_償却'!$K$20 -> 98.346069 | BN17: ='[1]13_償却'!$E$21 -> 271027 | BO17: ='[1]13_償却'!$H$21 -> 271003 | BP17: ='[1]13_償却'!$K$21 -> 99.991145 | BQ17: ='[1]13_償却'!$E$22 -> 473101 | BR17: ='[1]13_償却'!$H$22 -> 458982 | BS17: ='[1]13_償却'!$K$22 -> 97.015648 | BT17: ③債却資産 | BU17: ='[1]13_償却'!$E$23 -> 320572 | BV17: ='[1]13_償却'!$H$23 -> 318476 | BW17: ='[1]13_償却'!$K$23 -> 99.346169 | BX17: ='[1]13_償却'!$E$24 -> 516842 | BY17: ='[1]13_償却'!$H$24 -> 510897 | BZ17: ='[1]13_償却'!$K$24 -> 98.849745 | CA17: ='[1]13_償却'!$E$25 -> 393012 | CB17: ='[1]13_償却'!$H$25 -> 384705 | CC17: ='[1]13_償却'!$K$25 -> 97.886324 | CD17: ③債却資産 | CE17: ='[1]13_償却'!$E$26 -> 3152958 | CF17: ='[1]13_償却'!$H$26 -> 3151560 | CG17: ='[1]13_償却'!$K$26 -> 99.955661 | CH17: ='[1]13_償却'!$E$27 -> 623084 | CI17: ='[1]13_償却'!$H$27 -> 623010 | CJ17: ='[1]13_償却'!$K$27 -> 99.988124 | CK17: ='[1]13_償却'!$E$28 -> 805473 | CL17: ='[1]13_償却'!$H$28 -> 792419 | CM17: ='[1]13_償却'!$K$28 -> 98.379337 | CN17: ③債却資産 | CO17: ='[1]13_償却'!$E$29 -> 427217 | CP17: ='[1]13_償却'!$H$29 -> 421804 | CQ17: ='[1]13_償却'!$K$29 -> 98.732962 | CR17: ='[1]13_償却'!$E$30 -> 940910 | CS17: ='[1]13_償却'!$H$30 -> 940237 | CT17: ='[1]13_償却'!$K$30 -> 99.928473 | CU17: ='[1]13_償却'!$E$32 -> 509522 | CV17: ='[1]13_償却'!$H$32 -> 498782 | CW17: ='[1]13_償却'!$K$32 -> 97.892142 | CX17: ③債却資産 | CY17: ='[1]13_償却'!$E$33 -> 173989 | CZ17: ='[1]13_償却'!$H$33 -> 173495 | DA17: ='[1]13_償却'!$K$33 -> 99.716074 | DB17: ='[1]13_償却'!$E$34 -> 26657 | DC17: ='[1]13_償却'!$H$34 -> 26623 | DD17: ='[1]13_償却'!$K$34 -> 99.872454 | DE17: ='[1]13_償却'!$E$35 -> 137172 | DF17: ='[1]13_償却'!$H$35 -> 137171 | DG17: ='[1]13_償却'!$K$35 -> 99.999271 | DH17: ③債却資産 | DI17: ='[1]13_償却'!$E$37 -> 121501 | DJ17: ='[1]13_償却'!$H$37 -> 103628 | DK17: ='[1]13_償却'!$K$37 -> 85.289833 | DL17: ='[1]13_償却'!$E$38 -> 10068 | DM17: ='[1]13_償却'!$H$38 -> 10068 | DN17: ='[1]13_償却'!$K$38 -> 100 | DO17: ='[1]13_償却'!$E$39 -> 75101 | DP17: ='[1]13_償却'!$H$39 -> 61429 | DQ17: ='[1]13_償却'!$K$39 -> 81.795182 | DR17: ③債却資産 | DS17: ='[1]13_償却'!$E$40 -> 33077 | DT17: ='[1]13_償却'!$H$40 -> 31612 | DU17: ='[1]13_償却'!$K$40 -> 95.570941 | DV17: ='[1]13_償却'!$E$41 -> 63567 | DW17: ='[1]13_償却'!$H$41 -> 56671 | DX17: ='[1]13_償却'!$K$41 -> 89.151604 | DY17: ='[1]13_償却'!$E$42 -> 15292 | DZ17: ='[1]13_償却'!$H$42 -> 15292 | EA17: ='[1]13_償却'!$K$42 -> 100 | EB17: ③債却資産 | EC17: ='[1]13_償却'!$E$43 -> 114459 | ED17: ='[1]13_償却'!$H$43 -> 105919 | EE17: ='[1]13_償却'!$K$43 -> 92.538813 | EF17: ='[1]13_償却'!$E$44 -> 9362 | EG17: ='[1]13_償却'!$H$44 -> 9325 | EH17: ='[1]13_償却'!$K$44 -> 99.604785 | EI17: ='[1]13_償却'!$E$45 -> 57902 | EJ17: ='[1]13_償却'!$H$45 -> 57156 | EK17: ='[1]13_償却'!$K$45 -> 98.711616
B18: (ｲ)交付金 | C18: ='[1]14_交付'!$E$48 -> 9318770 | D18: ='[1]14_交付'!$H$48 -> 9318770 | E18: ='[1]14_交付'!$K$48 -> 100 | F18: ='[1]14_交付'!$E$31 -> 8887026 | G18: ='[1]14_交付'!$H$31 -> 8887026 | H18: ='[1]14_交付'!$K$31 -> 100 | I18: ='[1]14_交付'!$E$47 -> 431744 | J18: ='[1]14_交付'!$H$47 -> 431744 | K18: ='[1]14_交付'!$K$47 -> 100 | L18: (ｲ)交付金 | M18: ='[1]14_交付'!$E$5 -> 864820 | N18: ='[1]14_交付'!$H$5 -> 864820 | O18: ='[1]14_交付'!$K$5 -> 100 | P18: ='[1]14_交付'!$E$6 -> 486268 | Q18: ='[1]14_交付'!$H$6 -> 486268 | R18: ='[1]14_交付'!$K$6 -> 100 | S18: ='[1]14_交付'!$E$7 -> 607051 | T18: ='[1]14_交付'!$H$7 -> 607051 | U18: ='[1]14_交付'!$K$7 -> 100 | V18: (ｲ)交付金 | W18: ='[1]14_交付'!$E$8 -> 345026 | X18: ='[1]14_交付'!$H$8 -> 345026 | Y18: ='[1]14_交付'!$K$8 -> 100 | Z18: ='[1]14_交付'!$E$9 -> 34175 | AA18: ='[1]14_交付'!$H$9 -> 34175 | AB18: ='[1]14_交付'!$K$9 -> 100 | AC18: ='[1]14_交付'!$E$10 -> 417294 | AD18: ='[1]14_交付'!$H$10 -> 417294 | AE18: ='[1]14_交付'!$K$10 -> 100 | AF18: (ｲ)交付金 | AG18: ='[1]14_交付'!$E$11 -> 282958 | AH18: ='[1]14_交付'!$H$11 -> 282958 | AI18: ='[1]14_交付'!$K$11 -> 100 | AJ18: ='[1]14_交付'!$E$12 -> 966756 | AK18: ='[1]14_交付'!$H$12 -> 966756 | AL18: ='[1]14_交付'!$K$12 -> 100 | AM18: ='[1]14_交付'!$E$13 -> 600250 | AN18: ='[1]14_交付'!$H$13 -> 600250 | AO18: ='[1]14_交付'!$K$13 -> 100 | AP18: (ｲ)交付金 | AQ18: ='[1]14_交付'!$E$14 -> 157804 | AR18: ='[1]14_交付'!$H$14 -> 157804 | AS18: ='[1]14_交付'!$K$14 -> 100 | AT18: ='[1]14_交付'!$E$15 -> 499366 | AU18: ='[1]14_交付'!$H$15 -> 499366 | AV18: ='[1]14_交付'!$K$15 -> 100 | AW18: ='[1]14_交付'!$E$16 -> 188928 | AX18: ='[1]14_交付'!$H$16 -> 188928 | AY18: ='[1]14_交付'!$K$16 -> 100 | AZ18: (ｲ)交付金 | BA18: ='[1]14_交付'!$E$17 -> 765255 | BB18: ='[1]14_交付'!$H$17 -> 765255 | BC18: ='[1]14_交付'!$K$17 -> 100 | BD18: ='[1]14_交付'!$E$18 -> 148112 | BE18: ='[1]14_交付'!$H$18 -> 148112 | BF18: ='[1]14_交付'!$K$18 -> 100 | BG18: ='[1]14_交付'!$E$19 -> 196832 | BH18: ='[1]14_交付'!$H$19 -> 196832 | BI18: ='[1]14_交付'!$K$19 -> 100 | BJ18: (ｲ)交付金 | BK18: ='[1]14_交付'!$E$20 -> 65636 | BL18: ='[1]14_交付'!$H$20 -> 65636 | BM18: ='[1]14_交付'!$K$20 -> 100 | BN18: ='[1]14_交付'!$E$21 -> 70898 | BO18: ='[1]14_交付'!$H$21 -> 70898 | BP18: ='[1]14_交付'!$K$21 -> 100 | BQ18: ='[1]14_交付'!$E$22 -> 558970 | BR18: ='[1]14_交付'!$H$22 -> 558970 | BS18: ='[1]14_交付'!$K$22 -> 100 | BT18: (ｲ)交付金 | BU18: ='[1]14_交付'!$E$23 -> 267948 | BV18: ='[1]14_交付'!$H$23 -> 267948 | BW18: ='[1]14_交付'!$K$23 -> 100 | BX18: ='[1]14_交付'!$E$24 -> 222529 | BY18: ='[1]14_交付'!$H$24 -> 222529 | BZ18: ='[1]14_交付'!$K$24 -> 100 | CA18: ='[1]14_交付'!$E$25 -> 330589 | CB18: ='[1]14_交付'!$H$25 -> 330589 | CC18: ='[1]14_交付'!$K$25 -> 100 | CD18: (ｲ)交付金 | CE18: ='[1]14_交付'!$E$26 -> 203654 | CF18: ='[1]14_交付'!$H$26 -> 203654 | CG18: ='[1]14_交付'!$K$26 -> 100 | CH18: ='[1]14_交付'!$E$27 -> 88226 | CI18: ='[1]14_交付'!$H$27 -> 88226 | CJ18: ='[1]14_交付'!$K$27 -> 100 | CK18: ='[1]14_交付'!$E$28 -> 84509 | CL18: ='[1]14_交付'!$H$28 -> 84509 | CM18: ='[1]14_交付'!$K$28 -> 100 | CN18: (ｲ)交付金 | CO18: ='[1]14_交付'!$E$29 -> 3910 | CP18: ='[1]14_交付'!$H$29 -> 3910 | CQ18: ='[1]14_交付'!$K$29 -> 100 | CR18: ='[1]14_交付'!$E$30 -> 429262 | CS18: ='[1]14_交付'!$H$30 -> 429262 | CT18: ='[1]14_交付'!$K$30 -> 100 | CU18: ='[1]14_交付'!$E$32 -> 72691 | CV18: ='[1]14_交付'!$H$32 -> 72691 | CW18: ='[1]14_交付'!$K$32 -> 100 | CX18: (ｲ)交付金 | CY18: ='[1]14_交付'!$E$33 -> 0 | CZ18: ='[1]14_交付'!$H$33 -> 0 | DA18: ='[1]14_交付'!$K$33 -> 0 | DB18: ='[1]14_交付'!$E$34 -> 0 | DC18: ='[1]14_交付'!$H$34 -> 0 | DD18: ='[1]14_交付'!$K$34 -> 0 | DE18: ='[1]14_交付'!$E$35 -> 134675 | DF18: ='[1]14_交付'!$H$35 -> 134675 | DG18: ='[1]14_交付'!$K$35 -> 100 | DH18: (ｲ)交付金 | DI18: ='[1]14_交付'!$E$37 -> 66566 | DJ18: ='[1]14_交付'!$H$37 -> 66566 | DK18: ='[1]14_交付'!$K$37 -> 100 | DL18: ='[1]14_交付'!$E$38 -> 1980 | DM18: ='[1]14_交付'!$H$38 -> 1980 | DN18: ='[1]14_交付'!$K$38 -> 100 | DO18: ='[1]14_交付'!$E$39 -> 15054 | DP18: ='[1]14_交付'!$H$39 -> 15054 | DQ18: ='[1]14_交付'!$K$39 -> 100 | DR18: (ｲ)交付金 | DS18: ='[1]14_交付'!$E$40 -> 22927 | DT18: ='[1]14_交付'!$H$40 -> 22927 | DU18: ='[1]14_交付'!$K$40 -> 100 | DV18: ='[1]14_交付'!$E$41 -> 21908 | DW18: ='[1]14_交付'!$H$41 -> 21908 | DX18: ='[1]14_交付'!$K$41 -> 100 | DY18: ='[1]14_交付'!$E$42 -> 1492 | DZ18: ='[1]14_交付'!$H$42 -> 1492 | EA18: ='[1]14_交付'!$K$42 -> 100 | EB18: (ｲ)交付金 | EC18: ='[1]14_交付'!$E$43 -> 64691 | ED18: ='[1]14_交付'!$H$43 -> 64691 | EE18: ='[1]14_交付'!$K$43 -> 100 | EF18: ='[1]14_交付'!$E$44 -> 557 | EG18: ='[1]14_交付'!$H$44 -> 557 | EH18: ='[1]14_交付'!$K$44 -> 100 | EI18: ='[1]14_交付'!$E$45 -> 29203 | EJ18: ='[1]14_交付'!$H$45 -> 29203 | EK18: ='[1]14_交付'!$K$45 -> 100
B19: ウ 軽自動車税 | C19: ='[1]17_軽自'!$E$48 -> 4093371 | D19: ='[1]17_軽自'!$H$48 -> 3883336 | E19: ='[1]17_軽自'!$K$48 -> 94.868899 | F19: ='[1]17_軽自'!$E$31 -> 3807199 | G19: ='[1]17_軽自'!$H$31 -> 3611496 | H19: ='[1]17_軽自'!$K$31 -> 94.859659 | I19: ='[1]17_軽自'!$E$47 -> 286172 | J19: ='[1]17_軽自'!$H$47 -> 271840 | K19: ='[1]17_軽自'!$K$47 -> 94.991823 | L19: ウ 軽自動車税 | M19: ='[1]17_軽自'!$E$5 -> 683835 | N19: ='[1]17_軽自'!$H$5 -> 655641 | O19: ='[1]17_軽自'!$K$5 -> 95.877076 | P19: ='[1]17_軽自'!$E$6 -> 176797 | Q19: ='[1]17_軽自'!$H$6 -> 168726 | R19: ='[1]17_軽自'!$K$6 -> 95.434877 | S19: ='[1]17_軽自'!$E$7 -> 52966 | T19: ='[1]17_軽自'!$H$7 -> 47778 | U19: ='[1]17_軽自'!$K$7 -> 90.205037 | V19: ウ 軽自動車税 | W19: ='[1]17_軽自'!$E$8 -> 96165 | X19: ='[1]17_軽自'!$H$8 -> 89750 | Y19: ='[1]17_軽自'!$K$8 -> 93.329174 | Z19: ='[1]17_軽自'!$E$9 -> 252100 | AA19: ='[1]17_軽自'!$H$9 -> 240240 | AB19: ='[1]17_軽自'!$K$9 -> 95.295518 | AC19: ='[1]17_軽自'!$E$10 -> 179659 | AD19: ='[1]17_軽自'!$H$10 -> 170483 | AE19: ='[1]17_軽自'!$K$10 -> 94.892546 | AF19: ウ 軽自動車税 | AG19: ='[1]17_軽自'!$E$11 -> 118072 | AH19: ='[1]17_軽自'!$H$11 -> 112618 | AI19: ='[1]17_軽自'!$K$11 -> 95.380785 | AJ19: ='[1]17_軽自'!$E$12 -> 123859 | AK19: ='[1]17_軽自'!$H$12 -> 115597 | AL19: ='[1]17_軽自'!$K$12 -> 93.329512 | AM19: ='[1]17_軽自'!$E$13 -> 434203 | AN19: ='[1]17_軽自'!$H$13 -> 405335 | AO19: ='[1]17_軽自'!$K$13 -> 93.351497 | AP19: ウ 軽自動車税 | AQ19: ='[1]17_軽自'!$E$14 -> 57970 | AR19: ='[1]17_軽自'!$H$14 -> 55045 | AS19: ='[1]17_軽自'!$K$14 -> 94.954287 | AT19: ='[1]17_軽自'!$E$15 -> 134901 | AU19: ='[1]17_軽自'!$H$15 -> 126310 | AV19: ='[1]17_軽自'!$K$15 -> 93.631626 | AW19: ='[1]17_軽自'!$E$16 -> 153522 | AX19: ='[1]17_軽自'!$H$16 -> 148261 | AY19: ='[1]17_軽自'!$K$16 -> 96.57313 | AZ19: ウ 軽自動車税 | BA19: ='[1]17_軽自'!$E$17 -> 131957 | BB19: ='[1]17_軽自'!$H$17 -> 124112 | BC19: ='[1]17_軽自'!$K$17 -> 94.054882 | BD19: ='[1]17_軽自'!$E$18 -> 65624 | BE19: ='[1]17_軽自'!$H$18 -> 63172 | BF19: ='[1]17_軽自'!$K$18 -> 96.263562 | BG19: ='[1]17_軽自'!$E$19 -> 44172 | BH19: ='[1]17_軽自'!$H$19 -> 42978 | BI19: ='[1]17_軽自'!$K$19 -> 97.29693 | BJ19: ウ 軽自動車税 | BK19: ='[1]17_軽自'!$E$20 -> 85530 | BL19: ='[1]17_軽自'!$H$20 -> 80927 | BM19: ='[1]17_軽自'!$K$20 -> 94.618263 | BN19: ='[1]17_軽自'!$E$21 -> 43451 | BO19: ='[1]17_軽自'!$H$21 -> 42099 | BP19: ='[1]17_軽自'!$K$21 -> 96.888449 | BQ19: ='[1]17_軽自'!$E$22 -> 103197 | BR19: ='[1]17_軽自'!$H$22 -> 97534 | BS19: ='[1]17_軽自'!$K$22 -> 94.512437 | BT19: ウ 軽自動車税 | BU19: ='[1]17_軽自'!$E$23 -> 67949 | BV19: ='[1]17_軽自'!$H$23 -> 63752 | BW19: ='[1]17_軽自'!$K$23 -> 93.823309 | BX19: ='[1]17_軽自'!$E$24 -> 99950 | BY19: ='[1]17_軽自'!$H$24 -> 97062 | BZ19: ='[1]17_軽自'!$K$24 -> 97.110555 | CA19: ='[1]17_軽自'!$E$25 -> 141655 | CB19: ='[1]17_軽自'!$H$25 -> 128469 | CC19: ='[1]17_軽自'!$K$25 -> 90.691469 | CD19: ウ 軽自動車税 | CE19: ='[1]17_軽自'!$E$26 -> 112526 | CF19: ='[1]17_軽自'!$H$26 -> 107366 | CG19: ='[1]17_軽自'!$K$26 -> 95.414393 | CH19: ='[1]17_軽自'!$E$27 -> 66381 | CI19: ='[1]17_軽自'!$H$27 -> 64873 | CJ19: ='[1]17_軽自'!$K$27 -> 97.728266 | CK19: ='[1]17_軽自'!$E$28 -> 88198 | CL19: ='[1]17_軽自'!$H$28 -> 82215 | CM19: ='[1]17_軽自'!$K$28 -> 93.216399 | CN19: ウ 軽自動車税 | CO19: ='[1]17_軽自'!$E$29 -> 179376 | CP19: ='[1]17_軽自'!$H$29 -> 173701 | CQ19: ='[1]17_軽自'!$K$29 -> 96.836255 | CR19: ='[1]17_軽自'!$E$30 -> 113184 | CS19: ='[1]17_軽自'!$H$30 -> 107452 | CT19: ='[1]17_軽自'!$K$30 -> 94.93568 | CU19: ='[1]17_軽自'!$E$32 -> 90786 | CV19: ='[1]17_軽自'!$H$32 -> 85129 | CW19: ='[1]17_軽自'!$K$32 -> 93.768863 | CX19: ウ 軽自動車税 | CY19: ='[1]17_軽自'!$E$33 -> 39567 | CZ19: ='[1]17_軽自'!$H$33 -> 37635 | DA19: ='[1]17_軽自'!$K$33 -> 95.117143 | DB19: ='[1]17_軽自'!$E$34 -> 7195 | DC19: ='[1]17_軽自'!$H$34 -> 7175 | DD19: ='[1]17_軽自'!$K$34 -> 99.722029 | DE19: ='[1]17_軽自'!$E$35 -> 14037 | DF19: ='[1]17_軽自'!$H$35 -> 13998 | DG19: ='[1]17_軽自'!$K$35 -> 99.722163 | DH19: ウ 軽自動車税 | DI19: ='[1]17_軽自'!$E$37 -> 43561 | DJ19: ='[1]17_軽自'!$H$37 -> 42564 | DK19: ='[1]17_軽自'!$K$37 -> 97.711255 | DL19: ='[1]17_軽自'!$E$38 -> 1620 | DM19: ='[1]17_軽自'!$H$38 -> 1620 | DN19: ='[1]17_軽自'!$K$38 -> 100 | DO19: ='[1]17_軽自'!$E$39 -> 17741 | DP19: ='[1]17_軽自'!$H$39 -> 16108 | DQ19: ='[1]17_軽自'!$K$39 -> 90.795333 | DR19: ウ 軽自動車税 | DS19: ='[1]17_軽自'!$E$40 -> 9541 | DT19: ='[1]17_軽自'!$H$40 -> 9494 | DU19: ='[1]17_軽自'!$K$40 -> 99.507389 | DV19: ='[1]17_軽自'!$E$41 -> 13495 | DW19: ='[1]17_軽自'!$H$41 -> 11698 | DX19: ='[1]17_軽自'!$K$41 -> 86.683957 | DY19: ='[1]17_軽自'!$E$42 -> 1065 | DZ19: ='[1]17_軽自'!$H$42 -> 1065 | EA19: ='[1]17_軽自'!$K$42 -> 100 | EB19: ウ 軽自動車税 | EC19: ='[1]17_軽自'!$E$43 -> 37761 | ED19: ='[1]17_軽自'!$H$43 -> 35591 | EE19: ='[1]17_軽自'!$K$43 -> 94.25333 | EF19: ='[1]17_軽自'!$E$44 -> 1030 | EG19: ='[1]17_軽自'!$H$44 -> 1024 | EH19: ='[1]17_軽自'!$K$44 -> 99.417476 | EI19: ='[1]17_軽自'!$E$45 -> 8773 | EJ19: ='[1]17_軽自'!$H$45 -> 8739 | EK19: ='[1]17_軽自'!$K$45 -> 99.612447
B20: エ 市町村たばこ税 | C20: ='[1]18_たば'!$E$48 -> 24397328 | D20: ='[1]18_たば'!$H$48 -> 24397031 | E20: ='[1]18_たば'!$K$48 -> 99.998783 | F20: ='[1]18_たば'!$E$31 -> 23580050 | G20: ='[1]18_たば'!$H$31 -> 23579753 | H20: ='[1]18_たば'!$K$31 -> 99.99874 | I20: ='[1]18_たば'!$E$47 -> 817278 | J20: ='[1]18_たば'!$H$47 -> 817278 | K20: ='[1]18_たば'!$K$47 -> 100 | L20: エ 市町村たばこ税 | M20: ='[1]18_たば'!$E$5 -> 3446962 | N20: ='[1]18_たば'!$H$5 -> 3446962 | O20: ='[1]18_たば'!$K$5 -> 100 | P20: ='[1]18_たば'!$E$6 -> 1368993 | Q20: ='[1]18_たば'!$H$6 -> 1368696 | R20: ='[1]18_たば'!$K$6 -> 99.978305 | S20: ='[1]18_たば'!$E$7 -> 946853 | T20: ='[1]18_たば'!$H$7 -> 946853 | U20: ='[1]18_たば'!$K$7 -> 100 | V20: エ 市町村たばこ税 | W20: ='[1]18_たば'!$E$8 -> 814091 | X20: ='[1]18_たば'!$H$8 -> 814091 | Y20: ='[1]18_たば'!$K$8 -> 100 | Z20: ='[1]18_たば'!$E$9 -> 897411 | AA20: ='[1]18_たば'!$H$9 -> 897411 | AB20: ='[1]18_たば'!$K$9 -> 100 | AC20: ='[1]18_たば'!$E$10 -> 1451412 | AD20: ='[1]18_たば'!$H$10 -> 1451412 | AE20: ='[1]18_たば'!$K$10 -> 100 | AF20: エ 市町村たばこ税 | AG20: ='[1]18_たば'!$E$11 -> 811177 | AH20: ='[1]18_たば'!$H$11 -> 811177 | AI20: ='[1]18_たば'!$K$11 -> 100 | AJ20: ='[1]18_たば'!$E$12 -> 1295932 | AK20: ='[1]18_たば'!$H$12 -> 1295932 | AL20: ='[1]18_たば'!$K$12 -> 100 | AM20: ='[1]18_たば'!$E$13 -> 2298104 | AN20: ='[1]18_たば'!$H$13 -> 2298104 | AO20: ='[1]18_たば'!$K$13 -> 100 | AP20: エ 市町村たばこ税 | AQ20: ='[1]18_たば'!$E$14 -> 521313 | AR20: ='[1]18_たば'!$H$14 -> 521313 | AS20: ='[1]18_たば'!$K$14 -> 100 | AT20: ='[1]18_たば'!$E$15 -> 864685 | AU20: ='[1]18_たば'!$H$15 -> 864685 | AV20: ='[1]18_たば'!$K$15 -> 100 | AW20: ='[1]18_たば'!$E$16 -> 877865 | AX20: ='[1]18_たば'!$H$16 -> 877865 | AY20: ='[1]18_たば'!$K$16 -> 100 | AZ20: エ 市町村たばこ税 | BA20: ='[1]18_たば'!$E$17 -> 729207 | BB20: ='[1]18_たば'!$H$17 -> 729207 | BC20: ='[1]18_たば'!$K$17 -> 100 | BD20: ='[1]18_たば'!$E$18 -> 830251 | BE20: ='[1]18_たば'!$H$18 -> 830251 | BF20: ='[1]18_たば'!$K$18 -> 100 | BG20: ='[1]18_たば'!$E$19 -> 419293 | BH20: ='[1]18_たば'!$H$19 -> 419293 | BI20: ='[1]18_たば'!$K$19 -> 100 | BJ20: エ 市町村たばこ税 | BK20: ='[1]18_たば'!$E$20 -> 435668 | BL20: ='[1]18_たば'!$H$20 -> 435668 | BM20: ='[1]18_たば'!$K$20 -> 100 | BN20: ='[1]18_たば'!$E$21 -> 355223 | BO20: ='[1]18_たば'!$H$21 -> 355223 | BP20: ='[1]18_たば'!$K$21 -> 100 | BQ20: ='[1]18_たば'!$E$22 -> 553163 | BR20: ='[1]18_たば'!$H$22 -> 553163 | BS20: ='[1]18_たば'!$K$22 -> 100 | BT20: エ 市町村たばこ税 | BU20: ='[1]18_たば'!$E$23 -> 387187 | BV20: ='[1]18_たば'!$H$23 -> 387187 | BW20: ='[1]18_たば'!$K$23 -> 100 | BX20: ='[1]18_たば'!$E$24 -> 606943 | BY20: ='[1]18_たば'!$H$24 -> 606943 | BZ20: ='[1]18_たば'!$K$24 -> 100 | CA20: ='[1]18_たば'!$E$25 -> 498758 | CB20: ='[1]18_たば'!$H$25 -> 498758 | CC20: ='[1]18_たば'!$K$25 -> 100 | CD20: エ 市町村たばこ税 | CE20: ='[1]18_たば'!$E$26 -> 845425 | CF20: ='[1]18_たば'!$H$26 -> 845425 | CG20: ='[1]18_たば'!$K$26 -> 100 | CH20: ='[1]18_たば'!$E$27 -> 441128 | CI20: ='[1]18_たば'!$H$27 -> 441128 | CJ20: ='[1]18_たば'!$K$27 -> 100 | CK20: ='[1]18_たば'!$E$28 -> 459664 | CL20: ='[1]18_たば'!$H$28 -> 459664 | CM20: ='[1]18_たば'!$K$28 -> 100 | CN20: エ 市町村たばこ税 | CO20: ='[1]18_たば'!$E$29 -> 425787 | CP20: ='[1]18_たば'!$H$29 -> 425787 | CQ20: ='[1]18_たば'!$K$29 -> 100 | CR20: ='[1]18_たば'!$E$30 -> 997555 | CS20: ='[1]18_たば'!$H$30 -> 997555 | CT20: ='[1]18_たば'!$K$30 -> 100 | CU20: ='[1]18_たば'!$E$32 -> 406177 | CV20: ='[1]18_たば'!$H$32 -> 406177 | CW20: ='[1]18_たば'!$K$32 -> 100 | CX20: エ 市町村たばこ税 | CY20: ='[1]18_たば'!$E$33 -> 114330 | CZ20: ='[1]18_たば'!$H$33 -> 114330 | DA20: ='[1]18_たば'!$K$33 -> 100 | DB20: ='[1]18_たば'!$E$34 -> 3502 | DC20: ='[1]18_たば'!$H$34 -> 3502 | DD20: ='[1]18_たば'!$K$34 -> 100 | DE20: ='[1]18_たば'!$E$35 -> 22403 | DF20: ='[1]18_たば'!$H$35 -> 22403 | DG20: ='[1]18_たば'!$K$35 -> 100 | DH20: エ 市町村たばこ税 | DI20: ='[1]18_たば'!$E$37 -> 76328 | DJ20: ='[1]18_たば'!$H$37 -> 76328 | DK20: ='[1]18_たば'!$K$37 -> 100 | DL20: ='[1]18_たば'!$E$38 -> 2699 | DM20: ='[1]18_たば'!$H$38 -> 2699 | DN20: ='[1]18_たば'!$K$38 -> 100 | DO20: ='[1]18_たば'!$E$39 -> 26527 | DP20: ='[1]18_たば'!$H$39 -> 26527 | DQ20: ='[1]18_たば'!$K$39 -> 100 | DR20: エ 市町村たばこ税 | DS20: ='[1]18_たば'!$E$40 -> 17608 | DT20: ='[1]18_たば'!$H$40 -> 17608 | DU20: ='[1]18_たば'!$K$40 -> 100 | DV20: ='[1]18_たば'!$E$41 -> 31887 | DW20: ='[1]18_たば'!$H$41 -> 31887 | DX20: ='[1]18_たば'!$K$41 -> 100 | DY20: ='[1]18_たば'!$E$42 -> 3334 | DZ20: ='[1]18_たば'!$H$42 -> 3334 | EA20: ='[1]18_たば'!$K$42 -> 100 | EB20: エ 市町村たばこ税 | EC20: ='[1]18_たば'!$E$43 -> 85512 | ED20: ='[1]18_たば'!$H$43 -> 85512 | EE20: ='[1]18_たば'!$K$43 -> 100 | EF20: ='[1]18_たば'!$E$44 -> 2757 | EG20: ='[1]18_たば'!$H$44 -> 2757 | EH20: ='[1]18_たば'!$K$44 -> 100 | EI20: ='[1]18_たば'!$E$45 -> 24214 | EJ20: ='[1]18_たば'!$H$45 -> 24214 | EK20: ='[1]18_たば'!$K$45 -> 100
B21: オ 鉱産税 | C21: ='[1]19_鉱産'!$E$48 -> 4374 | D21: ='[1]19_鉱産'!$H$48 -> 4374 | E21: ='[1]19_鉱産'!$K$48 -> 100 | F21: ='[1]19_鉱産'!$E$31 -> 2 | G21: ='[1]19_鉱産'!$H$31 -> 2 | H21: ='[1]19_鉱産'!$K$31 -> 100 | I21: ='[1]19_鉱産'!$E$47 -> 4372 | J21: ='[1]19_鉱産'!$H$47 -> 4372 | K21: ='[1]19_鉱産'!$K$47 -> 100 | L21: オ 鉱産税 | M21: ='[1]19_鉱産'!$E$5 -> 0 | N21: ='[1]19_鉱産'!$H$5 -> 0 | O21: ='[1]19_鉱産'!$K$5 -> 0 | P21: ='[1]19_鉱産'!$E$6 -> 0 | Q21: ='[1]19_鉱産'!$H$6 -> 0 | R21: ='[1]19_鉱産'!$K$6 -> 0 | S21: ='[1]19_鉱産'!$E$7 -> 0 | T21: ='[1]19_鉱産'!$H$7 -> 0 | U21: ='[1]19_鉱産'!$K$7 -> 0 | V21: オ 鉱産税 | W21: ='[1]19_鉱産'!$E$8 -> 0 | X21: ='[1]19_鉱産'!$H$8 -> 0 | Y21: ='[1]19_鉱産'!$K$8 -> 0 | Z21: ='[1]19_鉱産'!$E$9 -> 2 | AA21: ='[1]19_鉱産'!$H$9 -> 2 | AB21: ='[1]19_鉱産'!$K$9 -> 100 | AC21: ='[1]19_鉱産'!$E$10 -> 0 | AD21: ='[1]19_鉱産'!$H$10 -> 0 | AE21: ='[1]19_鉱産'!$K$10 -> 0 | AF21: オ 鉱産税 | AG21: ='[1]19_鉱産'!$E$11 -> 0 | AH21: ='[1]19_鉱産'!$H$11 -> 0 | AI21: ='[1]19_鉱産'!$K$11 -> 0 | AJ21: ='[1]19_鉱産'!$E$12 -> 0 | AK21: ='[1]19_鉱産'!$H$12 -> 0 | AL21: ='[1]19_鉱産'!$K$12 -> 0 | AM21: ='[1]19_鉱産'!$E$13 -> 0 | AN21: ='[1]19_鉱産'!$H$13 -> 0 | AO21: ='[1]19_鉱産'!$K$13 -> 0 | AP21: オ 鉱産税 | AQ21: ='[1]19_鉱産'!$E$14 -> 0 | AR21: ='[1]19_鉱産'!$H$14 -> 0 | AS21: ='[1]19_鉱産'!$K$14 -> 0 | AT21: ='[1]19_鉱産'!$E$15 -> 0 | AU21: ='[1]19_鉱産'!$H$15 -> 0 | AV21: ='[1]19_鉱産'!$K$15 -> 0 | AW21: ='[1]19_鉱産'!$E$16 -> 0 | AX21: ='[1]19_鉱産'!$H$16 -> 0 | AY21: ='[1]19_鉱産'!$K$16 -> 0 | AZ21: オ 鉱産税 | BA21: ='[1]19_鉱産'!$E$17 -> 0 | BB21: ='[1]19_鉱産'!$H$17 -> 0 | BC21: ='[1]19_鉱産'!$K$17 -> 0 | BD21: ='[1]19_鉱産'!$E$18 -> 0 | BE21: ='[1]19_鉱産'!$H$18 -> 0 | BF21: ='[1]19_鉱産'!$K$18 -> 0 | BG21: ='[1]19_鉱産'!$E$19 -> 0 | BH21: ='[1]19_鉱産'!$H$19 -> 0 | BI21: ='[1]19_鉱産'!$K$19 -> 0 | BJ21: オ 鉱産税 | BK21: ='[1]19_鉱産'!$E$20 -> 0 | BL21: ='[1]19_鉱産'!$H$20 -> 0 | BM21: ='[1]19_鉱産'!$K$20 -> 0 | BN21: ='[1]19_鉱産'!$E$21 -> 0 | BO21: ='[1]19_鉱産'!$H$21 -> 0 | BP21: ='[1]19_鉱産'!$K$21 -> 0 | BQ21: ='[1]19_鉱産'!$E$22 -> 0 | BR21: ='[1]19_鉱産'!$H$22 -> 0 | BS21: ='[1]19_鉱産'!$K$22 -> 0 | BT21: オ 鉱産税 | BU21: ='[1]19_鉱産'!$E$23 -> 0 | BV21: ='[1]19_鉱産'!$H$23 -> 0 | BW21: ='[1]19_鉱産'!$K$23 -> 0 | BX21: ='[1]19_鉱産'!$E$24 -> 0 | BY21: ='[1]19_鉱産'!$H$24 -> 0 | BZ21: ='[1]19_鉱産'!$K$24 -> 0 | CA21: ='[1]19_鉱産'!$E$25 -> 0 | CB21: ='[1]19_鉱産'!$H$25 -> 0 | CC21: ='[1]19_鉱産'!$K$25 -> 0 | CD21: オ 鉱産税 | CE21: ='[1]19_鉱産'!$E$26 -> 0 | CF21: ='[1]19_鉱産'!$H$26 -> 0 | CG21: ='[1]19_鉱産'!$K$26 -> 0 | CH21: ='[1]19_鉱産'!$E$27 -> 0 | CI21: ='[1]19_鉱産'!$H$27 -> 0 | CJ21: ='[1]19_鉱産'!$K$27 -> 0 | CK21: ='[1]19_鉱産'!$E$28 -> 0 | CL21: ='[1]19_鉱産'!$H$28 -> 0 | CM21: ='[1]19_鉱産'!$K$28 -> 0 | CN21: オ 鉱産税 | CO21: ='[1]19_鉱産'!$E$29 -> 0 | CP21: ='[1]19_鉱産'!$H$29 -> 0 | CQ21: ='[1]19_鉱産'!$K$29 -> 0 | CR21: ='[1]19_鉱産'!$E$30 -> 0 | CS21: ='[1]19_鉱産'!$H$30 -> 0 | CT21: ='[1]19_鉱産'!$K$30 -> 0 | CU21: ='[1]19_鉱産'!$E$32 -> 0 | CV21: ='[1]19_鉱産'!$H$32 -> 0 | CW21: ='[1]19_鉱産'!$K$32 -> 0 | CX21: オ 鉱産税 | CY21: ='[1]19_鉱産'!$E$33 -> 0 | CZ21: ='[1]19_鉱産'!$H$33 -> 0 | DA21: ='[1]19_鉱産'!$K$33 -> 0 | DB21: ='[1]19_鉱産'!$E$34 -> 0 | DC21: ='[1]19_鉱産'!$H$34 -> 0 | DD21: ='[1]19_鉱産'!$K$34 -> 0 | DE21: ='[1]19_鉱産'!$E$35 -> 4372 | DF21: ='[1]19_鉱産'!$H$35 -> 4372 | DG21: ='[1]19_鉱産'!$K$35 -> 100 | DH21: オ 鉱産税 | DI21: ='[1]19_鉱産'!$E$37 -> 0 | DJ21: ='[1]19_鉱産'!$H$37 -> 0 | DK21: ='[1]19_鉱産'!$K$37 -> 0 | DL21: ='[1]19_鉱産'!$E$38 -> 0 | DM21: ='[1]19_鉱産'!$H$38 -> 0 | DN21: ='[1]19_鉱産'!$K$38 -> 0 | DO21: ='[1]19_鉱産'!$E$39 -> 0 | DP21: ='[1]19_鉱産'!$H$39 -> 0 | DQ21: ='[1]19_鉱産'!$K$39 -> 0 | DR21: オ 鉱産税 | DS21: ='[1]19_鉱産'!$E$40 -> 0 | DT21: ='[1]19_鉱産'!$H$40 -> 0 | DU21: ='[1]19_鉱産'!$K$40 -> 0 | DV21: ='[1]19_鉱産'!$E$41 -> 0 | DW21: ='[1]19_鉱産'!$H$41 -> 0 | DX21: ='[1]19_鉱産'!$K$41 -> 0 | DY21: ='[1]19_鉱産'!$E$42 -> 0 | DZ21: ='[1]19_鉱産'!$H$42 -> 0 | EA21: ='[1]19_鉱産'!$K$42 -> 0 | EB21: オ 鉱産税 | EC21: ='[1]19_鉱産'!$E$43 -> 0 | ED21: ='[1]19_鉱産'!$H$43 -> 0 | EE21: ='[1]19_鉱産'!$K$43 -> 0 | EF21: ='[1]19_鉱産'!$E$44 -> 0 | EG21: ='[1]19_鉱産'!$H$44 -> 0 | EH21: ='[1]19_鉱産'!$K$44 -> 0 | EI21: ='[1]19_鉱産'!$E$45 -> 0 | EJ21: ='[1]19_鉱産'!$H$45 -> 0 | EK21: ='[1]19_鉱産'!$K$45 -> 0
B22: カ 特別土地保有税 | C22: =[1]土保!$E$48 -> 17405 | D22: =[1]土保!$H$48 -> 60 | E22: =[1]土保!$K$48 -> 0.34472853 | F22: =[1]土保!$E$31 -> 17405 | G22: =[1]土保!$H$31 -> 60 | H22: =[1]土保!$K$31 -> 0.34472853 | I22: =[1]土保!$E$47 -> 0 | J22: =[1]土保!$H$47 -> 0 | K22: =[1]土保!$K$47 -> 0 | L22: カ 特別土地保有税 | M22: =[1]土保!$E$5 -> 0 | N22: =[1]土保!$H$5 -> 0 | O22: =[1]土保!$K$5 -> 0 | P22: =[1]土保!$E$6 -> 0 | Q22: =[1]土保!$H$6 -> 0 | R22: =[1]土保!$K$6 -> 0 | S22: =[1]土保!$E$7 -> 0 | T22: =[1]土保!$H$7 -> 0 | U22: =[1]土保!$K$7 -> 0 | V22: カ 特別土地保有税 | W22: =[1]土保!$E$8 -> 0 | X22: =[1]土保!$H$8 -> 0 | Y22: =[1]土保!$K$8 -> 0 | Z22: =[1]土保!$E$9 -> 0 | AA22: =[1]土保!$H$9 -> 0 | AB22: =[1]土保!$K$9 -> 0 | AC22: =[1]土保!$E$10 -> 0 | AD22: =[1]土保!$H$10 -> 0 | AE22: =[1]土保!$K$10 -> 0 | AF22: カ 特別土地保有税 | AG22: =[1]土保!$E$11 -> 0 | AH22: =[1]土保!$H$11 -> 0 | AI22: =[1]土保!$K$11 -> 0 | AJ22: =[1]土保!$E$12 -> 0 | AK22: =[1]土保!$H$12 -> 0 | AL22: =[1]土保!$K$12 -> 0 | AM22: =[1]土保!$E$13 -> 0 | AN22: =[1]土保!$H$13 -> 0 | AO22: =[1]土保!$K$13 -> 0 | AP22: カ 特別土地保有税 | AQ22: =[1]土保!$E$14 -> 0 | AR22: =[1]土保!$H$14 -> 0 | AS22: =[1]土保!$K$14 -> 0 | AT22: =[1]土保!$E$15 -> 17405 | AU22: =[1]土保!$H$15 -> 60 | AV22: =[1]土保!$K$15 -> 0.34472853 | AW22: =[1]土保!$E$16 -> 0 | AX22: =[1]土保!$H$16 -> 0 | AY22: =[1]土保!$K$16 -> 0 | AZ22: カ 特別土地保有税 | BA22: =[1]土保!$E$17 -> 0 | BB22: =[1]土保!$H$17 -> 0 | BC22: =[1]土保!$K$17 -> 0 | BD22: =[1]土保!$E$18 -> 0 | BE22: =[1]土保!$H$18 -> 0 | BF22: =[1]土保!$K$18 -> 0 | BG22: =[1]土保!$E$19 -> 0 | BH22: =[1]土保!$H$19 -> 0 | BI22: =[1]土保!$K$19 -> 0 | BJ22: カ 特別土地保有税 | BK22: =[1]土保!$E$20 -> 0 | BL22: =[1]土保!$H$20 -> 0 | BM22: =[1]土保!$K$20 -> 0 | BN22: =[1]土保!$E$21 -> 0 | BO22: =[1]土保!$H$21 -> 0 | BP22: =[1]土保!$K$21 -> 0 | BQ22: =[1]土保!$E$22 -> 0 | BR22: =[1]土保!$H$22 -> 0 | BS22: =[1]土保!$K$22 -> 0 | BT22: カ 特別土地保有税 | BU22: =[1]土保!$E$23 -> 0 | BV22: =[1]土保!$H$23 -> 0 | BW22: =[1]土保!$K$23 -> 0 | BX22: =[1]土保!$E$24 -> 0 | BY22: =[1]土保!$H$24 -> 0 | BZ22: =[1]土保!$K$24 -> 0 | CA22: =[1]土保!$E$25 -> 0 | CB22: =[1]土保!$H$25 -> 0 | CC22: =[1]土保!$K$25 -> 0 | CD22: カ 特別土地保有税 | CE22: =[1]土保!$E$26 -> 0 | CF22: =[1]土保!$H$26 -> 0 | CG22: =[1]土保!$K$26 -> 0 | CH22: =[1]土保!$E$27 -> 0 | CI22: =[1]土保!$H$27 -> 0 | CJ22: =[1]土保!$K$27 -> 0 | CK22: =[1]土保!$E$28 -> 0 | CL22: =[1]土保!$H$28 -> 0 | CM22: =[1]土保!$K$28 -> 0 | CN22: カ 特別土地保有税 | CO22: =[1]土保!$E$29 -> 0 | CP22: =[1]土保!$H$29 -> 0 | CQ22: =[1]土保!$K$29 -> 0 | CR22: =[1]土保!$E$30 -> 0 | CS22: =[1]土保!$H$30 -> 0 | CT22: =[1]土保!$K$30 -> 0 | CU22: =[1]土保!$E$32 -> 0 | CV22: =[1]土保!$H$32 -> 0 | CW22: =[1]土保!$K$32 -> 0 | CX22: カ 特別土地保有税 | CY22: =[1]土保!$E$33 -> 0 | CZ22: =[1]土保!$H$33 -> 0 | DA22: =[1]土保!$K$33 -> 0 | DB22: =[1]土保!$E$34 -> 0 | DC22: =[1]土保!$H$34 -> 0 | DD22: =[1]土保!$K$34 -> 0 | DE22: =[1]土保!$E$35 -> 0 | DF22: =[1]土保!$H$35 -> 0 | DG22: =[1]土保!$K$35 -> 0 | DH22: カ 特別土地保有税 | DI22: =[1]土保!$E$37 -> 0 | DJ22: =[1]土保!$H$37 -> 0 | DK22: =[1]土保!$K$37 -> 0 | DL22: =[1]土保!$E$38 -> 0 | DM22: =[1]土保!$H$38 -> 0 | DN22: =[1]土保!$K$38 -> 0 | DO22: =[1]土保!$E$39 -> 0 | DP22: =[1]土保!$H$39 -> 0 | DQ22: =[1]土保!$K$39 -> 0 | DR22: カ 特別土地保有税 | DS22: =[1]土保!$E$40 -> 0 | DT22: =[1]土保!$H$40 -> 0 | DU22: =[1]土保!$K$40 -> 0 | DV22: =[1]土保!$E$41 -> 0 | DW22: =[1]土保!$H$41 -> 0 | DX22: =[1]土保!$K$41 -> 0 | DY22: =[1]土保!$E$42 -> 0 | DZ22: =[1]土保!$H$42 -> 0 | EA22: =[1]土保!$K$42 -> 0 | EB22: カ 特別土地保有税 | EC22: =[1]土保!$E$43 -> 0 | ED22: =[1]土保!$H$43 -> 0 | EE22: =[1]土保!$K$43 -> 0 | EF22: =[1]土保!$E$44 -> 0 | EG22: =[1]土保!$H$44 -> 0 | EH22: =[1]土保!$K$44 -> 0 | EI22: =[1]土保!$E$45 -> 0 | EJ22: =[1]土保!$H$45 -> 0 | EK22: =[1]土保!$K$45 -> 0
B23: (ｱ)保有分 | C23: ='[1]21_保有'!$E$48 -> 17405 | D23: ='[1]21_保有'!$H$48 -> 60 | E23: ='[1]21_保有'!$K$48 -> 0.34472853 | F23: ='[1]21_保有'!$E$31 -> 17405 | G23: ='[1]21_保有'!$H$31 -> 60 | H23: ='[1]21_保有'!$K$31 -> 0.34472853 | I23: ='[1]21_保有'!$E$47 -> 0 | J23: ='[1]21_保有'!$H$47 -> 0 | K23: ='[1]21_保有'!$K$47 -> 0 | L23: (ｱ)保有分 | M23: ='[1]21_保有'!$E$5 -> 0 | N23: ='[1]21_保有'!$H$5 -> 0 | O23: ='[1]21_保有'!$K$5 -> 0 | P23: ='[1]21_保有'!$E$6 -> 0 | Q23: ='[1]21_保有'!$H$6 -> 0 | R23: ='[1]21_保有'!$K$6 -> 0 | S23: ='[1]21_保有'!$E$7 -> 0 | T23: ='[1]21_保有'!$H$7 -> 0 | U23: ='[1]21_保有'!$K$7 -> 0 | V23: (ｱ)保有分 | W23: ='[1]21_保有'!$E$8 -> 0 | X23: ='[1]21_保有'!$H$8 -> 0 | Y23: ='[1]21_保有'!$K$8 -> 0 | Z23: ='[1]21_保有'!$E$9 -> 0 | AA23: ='[1]21_保有'!$H$9 -> 0 | AB23: ='[1]21_保有'!$K$9 -> 0 | AC23: ='[1]21_保有'!$E$10 -> 0 | AD23: ='[1]21_保有'!$H$10 -> 0 | AE23: ='[1]21_保有'!$K$10 -> 0 | AF23: (ｱ)保有分 | AG23: ='[1]21_保有'!$E$11 -> 0 | AH23: ='[1]21_保有'!$H$11 -> 0 | AI23: ='[1]21_保有'!$K$11 -> 0 | AJ23: ='[1]21_保有'!$E$12 -> 0 | AK23: ='[1]21_保有'!$H$12 -> 0 | AL23: ='[1]21_保有'!$K$12 -> 0 | AM23: ='[1]21_保有'!$E$13 -> 0 | AN23: ='[1]21_保有'!$H$13 -> 0 | AO23: ='[1]21_保有'!$K$13 -> 0 | AP23: (ｱ)保有分 | AQ23: ='[1]21_保有'!$E$14 -> 0 | AR23: ='[1]21_保有'!$H$14 -> 0 | AS23: ='[1]21_保有'!$K$14 -> 0 | AT23: ='[1]21_保有'!$E$15 -> 17405 | AU23: ='[1]21_保有'!$H$15 -> 60 | AV23: ='[1]21_保有'!$K$15 -> 0.34472853 | AW23: ='[1]21_保有'!$E$16 -> 0 | AX23: ='[1]21_保有'!$H$16 -> 0 | AY23: ='[1]21_保有'!$K$16 -> 0 | AZ23: (ｱ)保有分 | BA23: ='[1]21_保有'!$E$17 -> 0 | BB23: ='[1]21_保有'!$H$17 -> 0 | BC23: ='[1]21_保有'!$K$17 -> 0 | BD23: ='[1]21_保有'!$E$18 -> 0 | BE23: ='[1]21_保有'!$H$18 -> 0 | BF23: ='[1]21_保有'!$K$18 -> 0 | BG23: ='[1]21_保有'!$E$19 -> 0 | BH23: ='[1]21_保有'!$H$19 -> 0 | BI23: ='[1]21_保有'!$K$19 -> 0 | BJ23: (ｱ)保有分 | BK23: ='[1]21_保有'!$E$20 -> 0 | BL23: ='[1]21_保有'!$H$20 -> 0 | BM23: ='[1]21_保有'!$K$20 -> 0 | BN23: ='[1]21_保有'!$E$21 -> 0 | BO23: ='[1]21_保有'!$H$21 -> 0 | BP23: ='[1]21_保有'!$K$21 -> 0 | BQ23: ='[1]21_保有'!$E$22 -> 0 | BR23: ='[1]21_保有'!$H$22 -> 0 | BS23: ='[1]21_保有'!$K$22 -> 0 | BT23: (ｱ)保有分 | BU23: ='[1]21_保有'!$E$23 -> 0 | BV23: ='[1]21_保有'!$H$23 -> 0 | BW23: ='[1]21_保有'!$K$23 -> 0 | BX23: ='[1]21_保有'!$E$24 -> 0 | BY23: ='[1]21_保有'!$H$24 -> 0 | BZ23: ='[1]21_保有'!$K$24 -> 0 | CA23: ='[1]21_保有'!$E$25 -> 0 | CB23: ='[1]21_保有'!$H$25 -> 0 | CC23: ='[1]21_保有'!$K$25 -> 0 | CD23: (ｱ)保有分 | CE23: ='[1]21_保有'!$E$26 -> 0 | CF23: ='[1]21_保有'!$H$26 -> 0 | CG23: ='[1]21_保有'!$K$26 -> 0 | CH23: ='[1]21_保有'!$E$27 -> 0 | CI23: ='[1]21_保有'!$H$27 -> 0 | CJ23: ='[1]21_保有'!$K$27 -> 0 | CK23: ='[1]21_保有'!$E$28 -> 0 | CL23: ='[1]21_保有'!$H$28 -> 0 | CM23: ='[1]21_保有'!$K$28 -> 0 | CN23: (ｱ)保有分 | CO23: ='[1]21_保有'!$E$29 -> 0 | CP23: ='[1]21_保有'!$H$29 -> 0 | CQ23: ='[1]21_保有'!$K$29 -> 0 | CR23: ='[1]21_保有'!$E$30 -> 0 | CS23: ='[1]21_保有'!$H$30 -> 0 | CT23: ='[1]21_保有'!$K$30 -> 0 | CU23: ='[1]21_保有'!$E$32 -> 0 | CV23: ='[1]21_保有'!$H$32 -> 0 | CW23: ='[1]21_保有'!$K$32 -> 0 | CX23: (ｱ)保有分 | CY23: ='[1]21_保有'!$E$33 -> 0 | CZ23: ='[1]21_保有'!$H$33 -> 0 | DA23: ='[1]21_保有'!$K$33 -> 0 | DB23: ='[1]21_保有'!$E$34 -> 0 | DC23: ='[1]21_保有'!$H$34 -> 0 | DD23: ='[1]21_保有'!$K$34 -> 0 | DE23: ='[1]21_保有'!$E$35 -> 0 | DF23: ='[1]21_保有'!$H$35 -> 0 | DG23: ='[1]21_保有'!$K$35 -> 0 | DH23: (ｱ)保有分 | DI23: ='[1]21_保有'!$E$37 -> 0 | DJ23: ='[1]21_保有'!$H$37 -> 0 | DK23: ='[1]21_保有'!$K$37 -> 0 | DL23: ='[1]21_保有'!$E$38 -> 0 | DM23: ='[1]21_保有'!$H$38 -> 0 | DN23: ='[1]21_保有'!$K$38 -> 0 | DO23: ='[1]21_保有'!$E$39 -> 0 | DP23: ='[1]21_保有'!$H$39 -> 0 | DQ23: ='[1]21_保有'!$K$39 -> 0 | DR23: (ｱ)保有分 | DS23: ='[1]21_保有'!$E$40 -> 0 | DT23: ='[1]21_保有'!$H$40 -> 0 | DU23: ='[1]21_保有'!$K$40 -> 0 | DV23: ='[1]21_保有'!$E$41 -> 0 | DW23: ='[1]21_保有'!$H$41 -> 0 | DX23: ='[1]21_保有'!$K$41 -> 0 | DY23: ='[1]21_保有'!$E$42 -> 0 | DZ23: ='[1]21_保有'!$H$42 -> 0 | EA23: ='[1]21_保有'!$K$42 -> 0 | EB23: (ｱ)保有分 | EC23: ='[1]21_保有'!$E$43 -> 0 | ED23: ='[1]21_保有'!$H$43 -> 0 | EE23: ='[1]21_保有'!$K$43 -> 0 | EF23: ='[1]21_保有'!$E$44 -> 0 | EG23: ='[1]21_保有'!$H$44 -> 0 | EH23: ='[1]21_保有'!$K$44 -> 0 | EI23: ='[1]21_保有'!$E$45 -> 0 | EJ23: ='[1]21_保有'!$H$45 -> 0 | EK23: ='[1]21_保有'!$K$45 -> 0
B24: (ｲ)取得分 | C24: ='[1]22_取得'!$E$48 -> 0 | D24: ='[1]22_取得'!$H$48 -> 0 | E24: ='[1]22_取得'!$K$48 -> 0 | F24: ='[1]22_取得'!$E$31 -> 0 | G24: ='[1]22_取得'!$H$31 -> 0 | H24: ='[1]22_取得'!$K$31 -> 0 | I24: ='[1]22_取得'!$E$47 -> 0 | J24: ='[1]22_取得'!$H$47 -> 0 | K24: ='[1]22_取得'!$K$47 -> 0 | L24: (ｲ)取得分 | M24: ='[1]22_取得'!$E$5 -> 0 | N24: ='[1]22_取得'!$H$5 -> 0 | O24: ='[1]22_取得'!$K$5 -> 0 | P24: ='[1]22_取得'!$E$6 -> 0 | Q24: ='[1]22_取得'!$H$6 -> 0 | R24: ='[1]22_取得'!$K$6 -> 0 | S24: ='[1]22_取得'!$E$7 -> 0 | T24: ='[1]22_取得'!$H$7 -> 0 | U24: ='[1]22_取得'!$K$7 -> 0 | V24: (ｲ)取得分 | W24: ='[1]22_取得'!$E$8 -> 0 | X24: ='[1]22_取得'!$H$8 -> 0 | Y24: ='[1]22_取得'!$K$8 -> 0 | Z24: ='[1]22_取得'!$E$9 -> 0 | AA24: ='[1]22_取得'!$H$9 -> 0 | AB24: ='[1]22_取得'!$K$9 -> 0 | AC24: ='[1]22_取得'!$E$10 -> 0 | AD24: ='[1]22_取得'!$H$10 -> 0 | AE24: ='[1]22_取得'!$K$10 -> 0 | AF24: (ｲ)取得分 | AG24: ='[1]22_取得'!$E$11 -> 0 | AH24: ='[1]22_取得'!$H$11 -> 0 | AI24: ='[1]22_取得'!$K$11 -> 0 | AJ24: ='[1]22_取得'!$E$12 -> 0 | AK24: ='[1]22_取得'!$H$12 -> 0 | AL24: ='[1]22_取得'!$K$12 -> 0 | AM24: ='[1]22_取得'!$E$13 -> 0 | AN24: ='[1]22_取得'!$H$13 -> 0 | AO24: ='[1]22_取得'!$K$13 -> 0 | AP24: (ｲ)取得分 | AQ24: ='[1]22_取得'!$E$14 -> 0 | AR24: ='[1]22_取得'!$H$14 -> 0 | AS24: ='[1]22_取得'!$K$14 -> 0 | AT24: ='[1]22_取得'!$E$15 -> 0 | AU24: ='[1]22_取得'!$H$15 -> 0 | AV24: ='[1]22_取得'!$K$15 -> 0 | AW24: ='[1]22_取得'!$E$16 -> 0 | AX24: ='[1]22_取得'!$H$16 -> 0 | AY24: ='[1]22_取得'!$K$16 -> 0 | AZ24: (ｲ)取得分 | BA24: ='[1]22_取得'!$E$17 -> 0 | BB24: ='[1]22_取得'!$H$17 -> 0 | BC24: ='[1]22_取得'!$K$17 -> 0 | BD24: ='[1]22_取得'!$E$18 -> 0 | BE24: ='[1]22_取得'!$H$18 -> 0 | BF24: ='[1]22_取得'!$K$18 -> 0 | BG24: ='[1]22_取得'!$E$19 -> 0 | BH24: ='[1]22_取得'!$H$19 -> 0 | BI24: ='[1]22_取得'!$K$19 -> 0 | BJ24: (ｲ)取得分 | BK24: ='[1]22_取得'!$E$20 -> 0 | BL24: ='[1]22_取得'!$H$20 -> 0 | BM24: ='[1]22_取得'!$K$20 -> 0 | BN24: ='[1]22_取得'!$E$21 -> 0 | BO24: ='[1]22_取得'!$H$21 -> 0 | BP24: ='[1]22_取得'!$K$21 -> 0 | BQ24: ='[1]22_取得'!$E$22 -> 0 | BR24: ='[1]22_取得'!$H$22 -> 0 | BS24: ='[1]22_取得'!$K$22 -> 0 | BT24: (ｲ)取得分 | BU24: ='[1]22_取得'!$E$23 -> 0 | BV24: ='[1]22_取得'!$H$23 -> 0 | BW24: ='[1]22_取得'!$K$23 -> 0 | BX24: ='[1]22_取得'!$E$24 -> 0 | BY24: ='[1]22_取得'!$H$24 -> 0 | BZ24: ='[1]22_取得'!$K$24 -> 0 | CA24: ='[1]22_取得'!$E$25 -> 0 | CB24: ='[1]22_取得'!$H$25 -> 0 | CC24: ='[1]22_取得'!$K$25 -> 0 | CD24: (ｲ)取得分 | CE24: ='[1]22_取得'!$E$26 -> 0 | CF24: ='[1]22_取得'!$H$26 -> 0 | CG24: ='[1]22_取得'!$K$26 -> 0 | CH24: ='[1]22_取得'!$E$27 -> 0 | CI24: ='[1]22_取得'!$H$27 -> 0 | CJ24: ='[1]22_取得'!$K$27 -> 0 | CK24: ='[1]22_取得'!$E$28 -> 0 | CL24: ='[1]22_取得'!$H$28 -> 0 | CM24: ='[1]22_取得'!$K$28 -> 0 | CN24: (ｲ)取得分 | CO24: ='[1]22_取得'!$E$29 -> 0 | CP24: ='[1]22_取得'!$H$29 -> 0 | CQ24: ='[1]22_取得'!$K$29 -> 0 | CR24: ='[1]22_取得'!$E$30 -> 0 | CS24: ='[1]22_取得'!$H$30 -> 0 | CT24: ='[1]22_取得'!$K$30 -> 0 | CU24: ='[1]22_取得'!$E$32 -> 0 | CV24: ='[1]22_取得'!$H$32 -> 0 | CW24: ='[1]22_取得'!$K$32 -> 0 | CX24: (ｲ)取得分 | CY24: ='[1]22_取得'!$E$33 -> 0 | CZ24: ='[1]22_取得'!$H$33 -> 0 | DA24: ='[1]22_取得'!$K$33 -> 0 | DB24: ='[1]22_取得'!$E$34 -> 0 | DC24: ='[1]22_取得'!$H$34 -> 0 | DD24: ='[1]22_取得'!$K$34 -> 0 | DE24: ='[1]22_取得'!$E$35 -> 0 | DF24: ='[1]22_取得'!$H$35 -> 0 | DG24: ='[1]22_取得'!$K$35 -> 0 | DH24: (ｲ)取得分 | DI24: ='[1]22_取得'!$E$37 -> 0 | DJ24: ='[1]22_取得'!$H$37 -> 0 | DK24: ='[1]22_取得'!$K$37 -> 0 | DL24: ='[1]22_取得'!$E$38 -> 0 | DM24: ='[1]22_取得'!$H$38 -> 0 | DN24: ='[1]22_取得'!$K$38 -> 0 | DO24: ='[1]22_取得'!$E$39 -> 0 | DP24: ='[1]22_取得'!$H$39 -> 0 | DQ24: ='[1]22_取得'!$K$39 -> 0 | DR24: (ｲ)取得分 | DS24: ='[1]22_取得'!$E$40 -> 0 | DT24: ='[1]22_取得'!$H$40 -> 0 | DU24: ='[1]22_取得'!$K$40 -> 0 | DV24: ='[1]22_取得'!$E$41 -> 0 | DW24: ='[1]22_取得'!$H$41 -> 0 | DX24: ='[1]22_取得'!$K$41 -> 0 | DY24: ='[1]22_取得'!$E$42 -> 0 | DZ24: ='[1]22_取得'!$H$42 -> 0 | EA24: ='[1]22_取得'!$K$42 -> 0 | EB24: (ｲ)取得分 | EC24: ='[1]22_取得'!$E$43 -> 0 | ED24: ='[1]22_取得'!$H$43 -> 0 | EE24: ='[1]22_取得'!$K$43 -> 0 | EF24: ='[1]22_取得'!$E$44 -> 0 | EG24: ='[1]22_取得'!$H$44 -> 0 | EH24: ='[1]22_取得'!$K$44 -> 0 | EI24: ='[1]22_取得'!$E$45 -> 0 | EJ24: ='[1]22_取得'!$H$45 -> 0 | EK24: ='[1]22_取得'!$K$45 -> 0
B25: (2) 法定外普通税 | C25: ='[1]24_外普'!$E$48 -> 0 | D25: ='[1]24_外普'!$H$48 -> 0 | E25: ='[1]24_外普'!$K$48 -> 0 | F25: ='[1]24_外普'!$E$31 -> 0 | G25: ='[1]24_外普'!$H$31 -> 0 | H25: ='[1]24_外普'!$K$31 -> 0 | I25: ='[1]24_外普'!$E$47 -> 0 | J25: ='[1]24_外普'!$H$47 -> 0 | K25: ='[1]24_外普'!$K$47 -> 0 | L25: (2) 法定外普通税 | M25: ='[1]24_外普'!$E$5 -> 0 | N25: ='[1]24_外普'!$H$5 -> 0 | O25: ='[1]24_外普'!$K$5 -> 0 | P25: ='[1]24_外普'!$E$6 -> 0 | Q25: ='[1]24_外普'!$H$6 -> 0 | R25: ='[1]24_外普'!$K$6 -> 0 | S25: ='[1]24_外普'!$E$7 -> 0 | T25: ='[1]24_外普'!$H$7 -> 0 | U25: ='[1]24_外普'!$K$7 -> 0 | V25: (2) 法定外普通税 | W25: ='[1]24_外普'!$E$8 -> 0 | X25: ='[1]24_外普'!$H$8 -> 0 | Y25: ='[1]24_外普'!$K$8 -> 0 | Z25: ='[1]24_外普'!$E$9 -> 0 | AA25: ='[1]24_外普'!$H$9 -> 0 | AB25: ='[1]24_外普'!$K$9 -> 0 | AC25: ='[1]24_外普'!$E$10 -> 0 | AD25: ='[1]24_外普'!$H$10 -> 0 | AE25: ='[1]24_外普'!$K$10 -> 0 | AF25: (2) 法定外普通税 | AG25: ='[1]24_外普'!$E$11 -> 0 | AH25: ='[1]24_外普'!$H$11 -> 0 | AI25: ='[1]24_外普'!$K$11 -> 0 | AJ25: ='[1]24_外普'!$E$12 -> 0 | AK25: ='[1]24_外普'!$H$12 -> 0 | AL25: ='[1]24_外普'!$K$12 -> 0 | AM25: ='[1]24_外普'!$E$13 -> 0 | AN25: ='[1]24_外普'!$H$13 -> 0 | AO25: ='[1]24_外普'!$K$13 -> 0 | AP25: (2) 法定外普通税 | AQ25: ='[1]24_外普'!$E$14 -> 0 | AR25: ='[1]24_外普'!$H$14 -> 0 | AS25: ='[1]24_外普'!$K$14 -> 0 | AT25: ='[1]24_外普'!$E$15 -> 0 | AU25: ='[1]24_外普'!$H$15 -> 0 | AV25: ='[1]24_外普'!$K$15 -> 0 | AW25: ='[1]24_外普'!$E$16 -> 0 | AX25: ='[1]24_外普'!$H$16 -> 0 | AY25: ='[1]24_外普'!$K$16 -> 0 | AZ25: (2) 法定外普通税 | BA25: ='[1]24_外普'!$E$17 -> 0 | BB25: ='[1]24_外普'!$H$17 -> 0 | BC25: ='[1]24_外普'!$K$17 -> 0 | BD25: ='[1]24_外普'!$E$18 -> 0 | BE25: ='[1]24_外普'!$H$18 -> 0 | BF25: ='[1]24_外普'!$K$18 -> 0 | BG25: ='[1]24_外普'!$E$19 -> 0 | BH25: ='[1]24_外普'!$H$19 -> 0 | BI25: ='[1]24_外普'!$K$19 -> 0 | BJ25: (2) 法定外普通税 | BK25: ='[1]24_外普'!$E$20 -> 0 | BL25: ='[1]24_外普'!$H$20 -> 0 | BM25: ='[1]24_外普'!$K$20 -> 0 | BN25: ='[1]24_外普'!$E$21 -> 0 | BO25: ='[1]24_外普'!$H$21 -> 0 | BP25: ='[1]24_外普'!$K$21 -> 0 | BQ25: ='[1]24_外普'!$E$22 -> 0 | BR25: ='[1]24_外普'!$H$22 -> 0 | BS25: ='[1]24_外普'!$K$22 -> 0 | BT25: (2) 法定外普通税 | BU25: ='[1]24_外普'!$E$23 -> 0 | BV25: ='[1]24_外普'!$H$23 -> 0 | BW25: ='[1]24_外普'!$K$23 -> 0 | BX25: ='[1]24_外普'!$E$24 -> 0 | BY25: ='[1]24_外普'!$H$24 -> 0 | BZ25: ='[1]24_外普'!$K$24 -> 0 | CA25: ='[1]24_外普'!$E$25 -> 0 | CB25: ='[1]24_外普'!$H$25 -> 0 | CC25: ='[1]24_外普'!$K$25 -> 0 | CD25: (2) 法定外普通税 | CE25: ='[1]24_外普'!$E$26 -> 0 | CF25: ='[1]24_外普'!$H$26 -> 0 | CG25: ='[1]24_外普'!$K$26 -> 0 | CH25: ='[1]24_外普'!$E$27 -> 0 | CI25: ='[1]24_外普'!$H$27 -> 0 | CJ25: ='[1]24_外普'!$K$27 -> 0 | CK25: ='[1]24_外普'!$E$28 -> 0 | CL25: ='[1]24_外普'!$H$28 -> 0 | CM25: ='[1]24_外普'!$K$28 -> 0 | CN25: (2) 法定外普通税 | CO25: ='[1]24_外普'!$E$29 -> 0 | CP25: ='[1]24_外普'!$H$29 -> 0 | CQ25: ='[1]24_外普'!$K$29 -> 0 | CR25: ='[1]24_外普'!$E$30 -> 0 | CS25: ='[1]24_外普'!$H$30 -> 0 | CT25: ='[1]24_外普'!$K$30 -> 0 | CU25: ='[1]24_外普'!$E$32 -> 0 | CV25: ='[1]24_外普'!$H$32 -> 0 | CW25: ='[1]24_外普'!$K$32 -> 0 | CX25: (2) 法定外普通税 | CY25: ='[1]24_外普'!$E$33 -> 0 | CZ25: ='[1]24_外普'!$H$33 -> 0 | DA25: ='[1]24_外普'!$K$33 -> 0 | DB25: ='[1]24_外普'!$E$34 -> 0 | DC25: ='[1]24_外普'!$H$34 -> 0 | DD25: ='[1]24_外普'!$K$34 -> 0 | DE25: ='[1]24_外普'!$E$35 -> 0 | DF25: ='[1]24_外普'!$H$35 -> 0 | DG25: ='[1]24_外普'!$K$35 -> 0 | DH25: (2) 法定外普通税 | DI25: ='[1]24_外普'!$E$37 -> 0 | DJ25: ='[1]24_外普'!$H$37 -> 0 | DK25: ='[1]24_外普'!$K$37 -> 0 | DL25: ='[1]24_外普'!$E$38 -> 0 | DM25: ='[1]24_外普'!$H$38 -> 0 | DN25: ='[1]24_外普'!$K$38 -> 0 | DO25: ='[1]24_外普'!$E$39 -> 0 | DP25: ='[1]24_外普'!$H$39 -> 0 | DQ25: ='[1]24_外普'!$K$39 -> 0 | DR25: (2) 法定外普通税 | DS25: ='[1]24_外普'!$E$40 -> 0 | DT25: ='[1]24_外普'!$H$40 -> 0 | DU25: ='[1]24_外普'!$K$40 -> 0 | DV25: ='[1]24_外普'!$E$41 -> 0 | DW25: ='[1]24_外普'!$H$41 -> 0 | DX25: ='[1]24_外普'!$K$41 -> 0 | DY25: ='[1]24_外普'!$E$42 -> 0 | DZ25: ='[1]24_外普'!$H$42 -> 0 | EA25: ='[1]24_外普'!$K$42 -> 0 | EB25: (2) 法定外普通税 | EC25: ='[1]24_外普'!$E$43 -> 0 | ED25: ='[1]24_外普'!$H$43 -> 0 | EE25: ='[1]24_外普'!$K$43 -> 0 | EF25: ='[1]24_外普'!$E$44 -> 0 | EG25: ='[1]24_外普'!$H$44 -> 0 | EH25: ='[1]24_外普'!$K$44 -> 0 | EI25: ='[1]24_外普'!$E$45 -> 0 | EJ25: ='[1]24_外普'!$H$45 -> 0 | EK25: ='[1]24_外普'!$K$45 -> 0
B26: ２ 目的税 | C26: =[1]目的!$E$48 -> 58137144 | D26: =[1]目的!$H$48 -> 57191373 | E26: =[1]目的!$K$48 -> 98.373207 | F26: =[1]目的!$E$31 -> 57360555 | G26: =[1]目的!$H$31 -> 56433227 | H26: =[1]目的!$K$31 -> 98.383335 | I26: =[1]目的!$E$47 -> 776589 | J26: =[1]目的!$H$47 -> 758146 | K26: =[1]目的!$K$47 -> 97.625127 | L26: ２ 目的税 | M26: =[1]目的!$E$5 -> 8930100 | N26: =[1]目的!$H$5 -> 8762568 | O26: =[1]目的!$K$5 -> 98.123963 | P26: =[1]目的!$E$6 -> 2990997 | Q26: =[1]目的!$H$6 -> 2941004 | R26: =[1]目的!$K$6 -> 98.328551 | S26: =[1]目的!$E$7 -> 3221595 | T26: =[1]目的!$H$7 -> 3186931 | U26: =[1]目的!$K$7 -> 98.924011 | V26: ２ 目的税 | W26: =[1]目的!$E$8 -> 2972651 | X26: =[1]目的!$H$8 -> 2936175 | Y26: =[1]目的!$K$8 -> 98.772947 | Z26: =[1]目的!$E$9 -> 1624487 | AA26: =[1]目的!$H$9 -> 1545345 | AB26: =[1]目的!$K$9 -> 95.128185 | AC26: =[1]目的!$E$10 -> 3313813 | AD26: =[1]目的!$H$10 -> 3253408 | AE26: =[1]目的!$K$10 -> 98.177175 | AF26: ２ 目的税 | AG26: =[1]目的!$E$11 -> 1522778 | AH26: =[1]目的!$H$11 -> 1499124 | AI26: =[1]目的!$K$11 -> 98.446655 | AJ26: =[1]目的!$E$12 -> 3326943 | AK26: =[1]目的!$H$12 -> 3244146 | AL26: =[1]目的!$K$12 -> 97.511319 | AM26: =[1]目的!$E$13 -> 5694983 | AN26: =[1]目的!$H$13 -> 5638610 | AO26: =[1]目的!$K$13 -> 99.010129 | AP26: ２ 目的税 | AQ26: =[1]目的!$E$14 -> 1788365 | AR26: =[1]目的!$H$14 -> 1776953 | AS26: =[1]目的!$K$14 -> 99.361875 | AT26: =[1]目的!$E$15 -> 2319803 | AU26: =[1]目的!$H$15 -> 2285121 | AV26: =[1]目的!$K$15 -> 98.504959 | AW26: =[1]目的!$E$16 -> 2295319 | AX26: =[1]目的!$H$16 -> 2277555 | AY26: =[1]目的!$K$16 -> 99.226077 | AZ26: ２ 目的税 | BA26: =[1]目的!$E$17 -> 1754904 | BB26: =[1]目的!$H$17 -> 1721521 | BC26: =[1]目的!$K$17 -> 98.097731 | BD26: =[1]目的!$E$18 -> 1865845 | BE26: =[1]目的!$H$18 -> 1841305 | BF26: =[1]目的!$K$18 -> 98.684778 | BG26: =[1]目的!$E$19 -> 1250225 | BH26: =[1]目的!$H$19 -> 1245538 | BI26: =[1]目的!$K$19 -> 99.625107 | BJ26: ２ 目的税 | BK26: =[1]目的!$E$20 -> 604961 | BL26: =[1]目的!$H$20 -> 593046 | BM26: =[1]目的!$K$20 -> 98.030452 | BN26: =[1]目的!$E$21 -> 852382 | BO26: =[1]目的!$H$21 -> 850248 | BP26: =[1]目的!$K$21 -> 99.749643 | BQ26: =[1]目的!$E$22 -> 1003953 | BR26: =[1]目的!$H$22 -> 968033 | BS26: =[1]目的!$K$22 -> 96.422143 | BT26: ２ 目的税 | BU26: =[1]目的!$E$23 -> 719812 | BV26: =[1]目的!$H$23 -> 709669 | BW26: =[1]目的!$K$23 -> 98.590882 | BX26: =[1]目的!$E$24 -> 1314967 | BY26: =[1]目的!$H$24 -> 1299665 | BZ26: =[1]目的!$K$24 -> 98.836321 | CA26: =[1]目的!$E$25 -> 869354 | CB26: =[1]目的!$H$25 -> 851279 | CC26: =[1]目的!$K$25 -> 97.92087 | CD26: ２ 目的税 | CE26: =[1]目的!$E$26 -> 1747527 | CF26: =[1]目的!$H$26 -> 1718994 | CG26: =[1]目的!$K$26 -> 98.367236 | CH26: =[1]目的!$E$27 -> 1213557 | CI26: =[1]目的!$H$27 -> 1189633 | CJ26: =[1]目的!$K$27 -> 98.028605 | CK26: =[1]目的!$E$28 -> 831707 | CL26: =[1]目的!$H$28 -> 818744 | CM26: =[1]目的!$K$28 -> 98.441398 | CN26: ２ 目的税 | CO26: =[1]目的!$E$29 -> 870856 | CP26: =[1]目的!$H$29 -> 860459 | CQ26: =[1]目的!$K$29 -> 98.806117 | CR26: =[1]目的!$E$30 -> 2458671 | CS26: =[1]目的!$H$30 -> 2418153 | CT26: =[1]目的!$K$30 -> 98.352037 | CU26: =[1]目的!$E$32 -> 553853 | CV26: =[1]目的!$H$32 -> 542468 | CW26: =[1]目的!$K$32 -> 97.9444 | CX26: ２ 目的税 | CY26: =[1]目的!$E$33 -> 205823 | CZ26: =[1]目的!$H$33 -> 198823 | DA26: =[1]目的!$K$33 -> 96.59902 | DB26: =[1]目的!$E$34 -> 1944 | DC26: =[1]目的!$H$34 -> 1944 | DD26: =[1]目的!$K$34 -> 100 | DE26: =[1]目的!$E$35 -> 7408 | DF26: =[1]目的!$H$35 -> 7350 | DG26: =[1]目的!$K$35 -> 99.217063 | DH26: ２ 目的税 | DI26: =[1]目的!$E$37 -> 3931 | DJ26: =[1]目的!$H$37 -> 3931 | DK26: =[1]目的!$K$37 -> 100 | DL26: =[1]目的!$E$38 -> 0 | DM26: =[1]目的!$H$38 -> 0 | DN26: =[1]目的!$K$38 -> 0 | DO26: =[1]目的!$E$39 -> 384 | DP26: =[1]目的!$H$39 -> 384 | DQ26: =[1]目的!$K$39 -> 100 | DR26: ２ 目的税 | DS26: =[1]目的!$E$40 -> 0 | DT26: =[1]目的!$H$40 -> 0 | DU26: =[1]目的!$K$40 -> 0 | DV26: =[1]目的!$E$41 -> 3246 | DW26: =[1]目的!$H$41 -> 3246 | DX26: =[1]目的!$K$41 -> 100 | DY26: =[1]目的!$E$42 -> 0 | DZ26: =[1]目的!$H$42 -> 0 | EA26: =[1]目的!$K$42 -> 0 | EB26: ２ 目的税 | EC26: =[1]目的!$E$43 -> 0 | ED26: =[1]目的!$H$43 -> 0 | EE26: =[1]目的!$K$43 -> 0 | EF26: =[1]目的!$E$44 -> 0 | EG26: =[1]目的!$H$44 -> 0 | EH26: =[1]目的!$K$44 -> 0 | EI26: =[1]目的!$E$45 -> 0 | EJ26: =[1]目的!$H$45 -> 0 | EK26: =[1]目的!$K$45 -> 0
B27: (1) 法定目的税 | C27: =[1]目的!$E$48 -> 58137144 | D27: =[1]目的!$H$48 -> 57191373 | E27: =[1]目的!$K$48 -> 98.373207 | F27: =[1]目的!$E$31 -> 57360555 | G27: =[1]目的!$H$31 -> 56433227 | H27: =[1]目的!$K$31 -> 98.383335 | I27: =[1]目的!$E$47 -> 776589 | J27: =[1]目的!$H$47 -> 758146 | K27: =[1]目的!$K$47 -> 97.625127 | L27: (1) 法定目的税 | M27: =[1]目的!$E$5 -> 8930100 | N27: =[1]目的!$H$5 -> 8762568 | O27: =[1]目的!$K$5 -> 98.123963 | P27: =[1]目的!$E$6 -> 2990997 | Q27: =[1]目的!$H$6 -> 2941004 | R27: =[1]目的!$K$6 -> 98.328551 | S27: =[1]目的!$E$7 -> 3221595 | T27: =[1]目的!$H$7 -> 3186931 | U27: =[1]目的!$K$7 -> 98.924011 | V27: (1) 法定目的税 | W27: =[1]目的!$E$8 -> 2972651 | X27: =[1]目的!$H$8 -> 2936175 | Y27: =[1]目的!$K$8 -> 98.772947 | Z27: =[1]目的!$E$9 -> 1624487 | AA27: =[1]目的!$H$9 -> 1545345 | AB27: =[1]目的!$K$9 -> 95.128185 | AC27: =[1]目的!$E$10 -> 3313813 | AD27: =[1]目的!$H$10 -> 3253408 | AE27: =[1]目的!$K$10 -> 98.177175 | AF27: (1) 法定目的税 | AG27: =[1]目的!$E$11 -> 1522778 | AH27: =[1]目的!$H$11 -> 1499124 | AI27: =[1]目的!$K$11 -> 98.446655 | AJ27: =[1]目的!$E$12 -> 3326943 | AK27: =[1]目的!$H$12 -> 3244146 | AL27: =[1]目的!$K$12 -> 97.511319 | AM27: =[1]目的!$E$13 -> 5694983 | AN27: =[1]目的!$H$13 -> 5638610 | AO27: =[1]目的!$K$13 -> 99.010129 | AP27: (1) 法定目的税 | AQ27: =[1]目的!$E$14 -> 1788365 | AR27: =[1]目的!$H$14 -> 1776953 | AS27: =[1]目的!$K$14 -> 99.361875 | AT27: =[1]目的!$E$15 -> 2319803 | AU27: =[1]目的!$H$15 -> 2285121 | AV27: =[1]目的!$K$15 -> 98.504959 | AW27: =[1]目的!$E$16 -> 2295319 | AX27: =[1]目的!$H$16 -> 2277555 | AY27: =[1]目的!$K$16 -> 99.226077 | AZ27: (1) 法定目的税 | BA27: =[1]目的!$E$17 -> 1754904 | BB27: =[1]目的!$H$17 -> 1721521 | BC27: =[1]目的!$K$17 -> 98.097731 | BD27: =[1]目的!$E$18 -> 1865845 | BE27: =[1]目的!$H$18 -> 1841305 | BF27: =[1]目的!$K$18 -> 98.684778 | BG27: =[1]目的!$E$19 -> 1250225 | BH27: =[1]目的!$H$19 -> 1245538 | BI27: =[1]目的!$K$19 -> 99.625107 | BJ27: (1) 法定目的税 | BK27: =[1]目的!$E$20 -> 604961 | BL27: =[1]目的!$H$20 -> 593046 | BM27: =[1]目的!$K$20 -> 98.030452 | BN27: =[1]目的!$E$21 -> 852382 | BO27: =[1]目的!$H$21 -> 850248 | BP27: =[1]目的!$K$21 -> 99.749643 | BQ27: =[1]目的!$E$22 -> 1003953 | BR27: =[1]目的!$H$22 -> 968033 | BS27: =[1]目的!$K$22 -> 96.422143 | BT27: (1) 法定目的税 | BU27: =[1]目的!$E$23 -> 719812 | BV27: =[1]目的!$H$23 -> 709669 | BW27: =[1]目的!$K$23 -> 98.590882 | BX27: =[1]目的!$E$24 -> 1314967 | BY27: =[1]目的!$H$24 -> 1299665 | BZ27: =[1]目的!$K$24 -> 98.836321 | CA27: =[1]目的!$E$25 -> 869354 | CB27: =[1]目的!$H$25 -> 851279 | CC27: =[1]目的!$K$25 -> 97.92087 | CD27: (1) 法定目的税 | CE27: =[1]目的!$E$26 -> 1747527 | CF27: =[1]目的!$H$26 -> 1718994 | CG27: =[1]目的!$K$26 -> 98.367236 | CH27: =[1]目的!$E$27 -> 1213557 | CI27: =[1]目的!$H$27 -> 1189633 | CJ27: =[1]目的!$K$27 -> 98.028605 | CK27: =[1]目的!$E$28 -> 831707 | CL27: =[1]目的!$H$28 -> 818744 | CM27: =[1]目的!$K$28 -> 98.441398 | CN27: (1) 法定目的税 | CO27: =[1]目的!$E$29 -> 870856 | CP27: =[1]目的!$H$29 -> 860459 | CQ27: =[1]目的!$K$29 -> 98.806117 | CR27: =[1]目的!$E$30 -> 2458671 | CS27: =[1]目的!$H$30 -> 2418153 | CT27: =[1]目的!$K$30 -> 98.352037 | CU27: =[1]目的!$E$32 -> 553853 | CV27: =[1]目的!$H$32 -> 542468 | CW27: =[1]目的!$K$32 -> 97.9444 | CX27: (1) 法定目的税 | CY27: =[1]目的!$E$33 -> 205823 | CZ27: =[1]目的!$H$33 -> 198823 | DA27: =[1]目的!$K$33 -> 96.59902 | DB27: =[1]目的!$E$34 -> 1944 | DC27: =[1]目的!$H$34 -> 1944 | DD27: =[1]目的!$K$34 -> 100 | DE27: =[1]目的!$E$35 -> 7408 | DF27: =[1]目的!$H$35 -> 7350 | DG27: =[1]目的!$K$35 -> 99.217063 | DH27: (1) 法定目的税 | DI27: =[1]目的!$E$37 -> 3931 | DJ27: =[1]目的!$H$37 -> 3931 | DK27: =[1]目的!$K$37 -> 100 | DL27: =[1]目的!$E$38 -> 0 | DM27: =[1]目的!$H$38 -> 0 | DN27: =[1]目的!$K$38 -> 0 | DO27: =[1]目的!$E$39 -> 384 | DP27: =[1]目的!$H$39 -> 384 | DQ27: =[1]目的!$K$39 -> 100 | DR27: (1) 法定目的税 | DS27: =[1]目的!$E$40 -> 0 | DT27: =[1]目的!$H$40 -> 0 | DU27: =[1]目的!$K$40 -> 0 | DV27: =[1]目的!$E$41 -> 3246 | DW27: =[1]目的!$H$41 -> 3246 | DX27: =[1]目的!$K$41 -> 100 | DY27: =[1]目的!$E$42 -> 0 | DZ27: =[1]目的!$H$42 -> 0 | EA27: =[1]目的!$K$42 -> 0 | EB27: (1) 法定目的税 | EC27: =[1]目的!$E$43 -> 0 | ED27: =[1]目的!$H$43 -> 0 | EE27: =[1]目的!$K$43 -> 0 | EF27: =[1]目的!$E$44 -> 0 | EG27: =[1]目的!$H$44 -> 0 | EH27: =[1]目的!$K$44 -> 0 | EI27: =[1]目的!$E$45 -> 0 | EJ27: =[1]目的!$H$45 -> 0 | EK27: =[1]目的!$K$45 -> 0
B28: ア 入湯税 | C28: ='[1]27_入湯'!$E$48 -> 41921 | D28: ='[1]27_入湯'!$H$48 -> 41863 | E28: ='[1]27_入湯'!$K$48 -> 99.861645 | F28: ='[1]27_入湯'!$E$31 -> 24981 | G28: ='[1]27_入湯'!$H$31 -> 24981 | H28: ='[1]27_入湯'!$K$31 -> 100 | I28: ='[1]27_入湯'!$E$47 -> 16940 | J28: ='[1]27_入湯'!$H$47 -> 16882 | K28: ='[1]27_入湯'!$K$47 -> 99.657615 | L28: ア 入湯税 | M28: ='[1]27_入湯'!$E$5 -> 0 | N28: ='[1]27_入湯'!$H$5 -> 0 | O28: ='[1]27_入湯'!$K$5 -> 0 | P28: ='[1]27_入湯'!$E$6 -> 0 | Q28: ='[1]27_入湯'!$H$6 -> 0 | R28: ='[1]27_入湯'!$K$6 -> 0 | S28: ='[1]27_入湯'!$E$7 -> 0 | T28: ='[1]27_入湯'!$H$7 -> 0 | U28: ='[1]27_入湯'!$K$7 -> 0 | V28: ア 入湯税 | W28: ='[1]27_入湯'!$E$8 -> 3 | X28: ='[1]27_入湯'!$H$8 -> 3 | Y28: ='[1]27_入湯'!$K$8 -> 100 | Z28: ='[1]27_入湯'!$E$9 -> 6841 | AA28: ='[1]27_入湯'!$H$9 -> 6841 | AB28: ='[1]27_入湯'!$K$9 -> 100 | AC28: ='[1]27_入湯'!$E$10 -> 0 | AD28: ='[1]27_入湯'!$H$10 -> 0 | AE28: ='[1]27_入湯'!$K$10 -> 0 | AF28: ア 入湯税 | AG28: ='[1]27_入湯'!$E$11 -> 0 | AH28: ='[1]27_入湯'!$H$11 -> 0 | AI28: ='[1]27_入湯'!$K$11 -> 0 | AJ28: ='[1]27_入湯'!$E$12 -> 0 | AK28: ='[1]27_入湯'!$H$12 -> 0 | AL28: ='[1]27_入湯'!$K$12 -> 0 | AM28: ='[1]27_入湯'!$E$13 -> 6609 | AN28: ='[1]27_入湯'!$H$13 -> 6609 | AO28: ='[1]27_入湯'!$K$13 -> 100 | AP28: ア 入湯税 | AQ28: ='[1]27_入湯'!$E$14 -> 0 | AR28: ='[1]27_入湯'!$H$14 -> 0 | AS28: ='[1]27_入湯'!$K$14 -> 0 | AT28: ='[1]27_入湯'!$E$15 -> 0 | AU28: ='[1]27_入湯'!$H$15 -> 0 | AV28: ='[1]27_入湯'!$K$15 -> 0 | AW28: ='[1]27_入湯'!$E$16 -> 0 | AX28: ='[1]27_入湯'!$H$16 -> 0 | AY28: ='[1]27_入湯'!$K$16 -> 0 | AZ28: ア 入湯税 | BA28: ='[1]27_入湯'!$E$17 -> 0 | BB28: ='[1]27_入湯'!$H$17 -> 0 | BC28: ='[1]27_入湯'!$K$17 -> 0 | BD28: ='[1]27_入湯'!$E$18 -> 0 | BE28: ='[1]27_入湯'!$H$18 -> 0 | BF28: ='[1]27_入湯'!$K$18 -> 0 | BG28: ='[1]27_入湯'!$E$19 -> 0 | BH28: ='[1]27_入湯'!$H$19 -> 0 | BI28: ='[1]27_入湯'!$K$19 -> 0 | BJ28: ア 入湯税 | BK28: ='[1]27_入湯'!$E$20 -> 0 | BL28: ='[1]27_入湯'!$H$20 -> 0 | BM28: ='[1]27_入湯'!$K$20 -> 0 | BN28: ='[1]27_入湯'!$E$21 -> 0 | BO28: ='[1]27_入湯'!$H$21 -> 0 | BP28: ='[1]27_入湯'!$K$21 -> 0 | BQ28: ='[1]27_入湯'!$E$22 -> 0 | BR28: ='[1]27_入湯'!$H$22 -> 0 | BS28: ='[1]27_入湯'!$K$22 -> 0 | BT28: ア 入湯税 | BU28: ='[1]27_入湯'!$E$23 -> 0 | BV28: ='[1]27_入湯'!$H$23 -> 0 | BW28: ='[1]27_入湯'!$K$23 -> 0 | BX28: ='[1]27_入湯'!$E$24 -> 0 | BY28: ='[1]27_入湯'!$H$24 -> 0 | BZ28: ='[1]27_入湯'!$K$24 -> 0 | CA28: ='[1]27_入湯'!$E$25 -> 3 | CB28: ='[1]27_入湯'!$H$25 -> 3 | CC28: ='[1]27_入湯'!$K$25 -> 100 | CD28: ア 入湯税 | CE28: ='[1]27_入湯'!$E$26 -> 0 | CF28: ='[1]27_入湯'!$H$26 -> 0 | CG28: ='[1]27_入湯'!$K$26 -> 0 | CH28: ='[1]27_入湯'!$E$27 -> 0 | CI28: ='[1]27_入湯'!$H$27 -> 0 | CJ28: ='[1]27_入湯'!$K$27 -> 0 | CK28: ='[1]27_入湯'!$E$28 -> 0 | CL28: ='[1]27_入湯'!$H$28 -> 0 | CM28: ='[1]27_入湯'!$K$28 -> 0 | CN28: ア 入湯税 | CO28: ='[1]27_入湯'!$E$29 -> 11525 | CP28: ='[1]27_入湯'!$H$29 -> 11525 | CQ28: ='[1]27_入湯'!$K$29 -> 100 | CR28: ='[1]27_入湯'!$E$30 -> 0 | CS28: ='[1]27_入湯'!$H$30 -> 0 | CT28: ='[1]27_入湯'!$K$30 -> 0 | CU28: ='[1]27_入湯'!$E$32 -> 0 | CV28: ='[1]27_入湯'!$H$32 -> 0 | CW28: ='[1]27_入湯'!$K$32 -> 0 | CX28: ア 入湯税 | CY28: ='[1]27_入湯'!$E$33 -> 27 | CZ28: ='[1]27_入湯'!$H$33 -> 27 | DA28: ='[1]27_入湯'!$K$33 -> 100 | DB28: ='[1]27_入湯'!$E$34 -> 1944 | DC28: ='[1]27_入湯'!$H$34 -> 1944 | DD28: ='[1]27_入湯'!$K$34 -> 100 | DE28: ='[1]27_入湯'!$E$35 -> 7408 | DF28: ='[1]27_入湯'!$H$35 -> 7350 | DG28: ='[1]27_入湯'!$K$35 -> 99.217063 | DH28: ア 入湯税 | DI28: ='[1]27_入湯'!$E$37 -> 3931 | DJ28: ='[1]27_入湯'!$H$37 -> 3931 | DK28: ='[1]27_入湯'!$K$37 -> 100 | DL28: ='[1]27_入湯'!$E$38 -> 0 | DM28: ='[1]27_入湯'!$H$38 -> 0 | DN28: ='[1]27_入湯'!$K$38 -> 0 | DO28: ='[1]27_入湯'!$E$39 -> 384 | DP28: ='[1]27_入湯'!$H$39 -> 384 | DQ28: ='[1]27_入湯'!$K$39 -> 100 | DR28: ア 入湯税 | DS28: ='[1]27_入湯'!$E$40 -> 0 | DT28: ='[1]27_入湯'!$H$40 -> 0 | DU28: ='[1]27_入湯'!$K$40 -> 0 | DV28: ='[1]27_入湯'!$E$41 -> 3246 | DW28: ='[1]27_入湯'!$H$41 -> 3246 | DX28: ='[1]27_入湯'!$K$41 -> 100 | DY28: ='[1]27_入湯'!$E$42 -> 0 | DZ28: ='[1]27_入湯'!$H$42 -> 0 | EA28: ='[1]27_入湯'!$K$42 -> 0 | EB28: ア 入湯税 | EC28: ='[1]27_入湯'!$E$43 -> 0 | ED28: ='[1]27_入湯'!$H$43 -> 0 | EE28: ='[1]27_入湯'!$K$43 -> 0 | EF28: ='[1]27_入湯'!$E$44 -> 0 | EG28: ='[1]27_入湯'!$H$44 -> 0 | EH28: ='[1]27_入湯'!$K$44 -> 0 | EI28: ='[1]27_入湯'!$E$45 -> 0 | EJ28: ='[1]27_入湯'!$H$45 -> 0 | EK28: ='[1]27_入湯'!$K$45 -> 0
B29: イ 事業所税 | C29: ='[1]28_事所'!$E$48 -> 3821929 | D29: ='[1]28_事所'!$H$48 -> 3813858 | E29: ='[1]28_事所'!$K$48 -> 99.788824 | F29: ='[1]28_事所'!$E$31 -> 3821929 | G29: ='[1]28_事所'!$H$31 -> 3813858 | H29: ='[1]28_事所'!$K$31 -> 99.788824 | I29: ='[1]28_事所'!$E$47 -> 0 | J29: ='[1]28_事所'!$H$47 -> 0 | K29: ='[1]28_事所'!$K$47 -> 0 | L29: イ 事業所税 | M29: ='[1]28_事所'!$E$5 -> 1914194 | N29: ='[1]28_事所'!$H$5 -> 1907725 | O29: ='[1]28_事所'!$K$5 -> 99.662051 | P29: ='[1]28_事所'!$E$6 -> 0 | Q29: ='[1]28_事所'!$H$6 -> 0 | R29: ='[1]28_事所'!$K$6 -> 0 | S29: ='[1]28_事所'!$E$7 -> 680797 | T29: ='[1]28_事所'!$H$7 -> 680797 | U29: ='[1]28_事所'!$K$7 -> 100 | V29: イ 事業所税 | W29: ='[1]28_事所'!$E$8 -> 400108 | X29: ='[1]28_事所'!$H$8 -> 400108 | Y29: ='[1]28_事所'!$K$8 -> 100 | Z29: ='[1]28_事所'!$E$9 -> 0 | AA29: ='[1]28_事所'!$H$9 -> 0 | AB29: ='[1]28_事所'!$K$9 -> 0 | AC29: ='[1]28_事所'!$E$10 -> 0 | AD29: ='[1]28_事所'!$H$10 -> 0 | AE29: ='[1]28_事所'!$K$10 -> 0 | AF29: イ 事業所税 | AG29: ='[1]28_事所'!$E$11 -> 0 | AH29: ='[1]28_事所'!$H$11 -> 0 | AI29: ='[1]28_事所'!$K$11 -> 0 | AJ29: ='[1]28_事所'!$E$12 -> 0 | AK29: ='[1]28_事所'!$H$12 -> 0 | AL29: ='[1]28_事所'!$K$12 -> 0 | AM29: ='[1]28_事所'!$E$13 -> 826830 | AN29: ='[1]28_事所'!$H$13 -> 825228 | AO29: ='[1]28_事所'!$K$13 -> 99.806248 | AP29: イ 事業所税 | AQ29: ='[1]28_事所'!$E$14 -> 0 | AR29: ='[1]28_事所'!$H$14 -> 0 | AS29: ='[1]28_事所'!$K$14 -> 0 | AT29: ='[1]28_事所'!$E$15 -> 0 | AU29: ='[1]28_事所'!$H$15 -> 0 | AV29: ='[1]28_事所'!$K$15 -> 0 | AW29: ='[1]28_事所'!$E$16 -> 0 | AX29: ='[1]28_事所'!$H$16 -> 0 | AY29: ='[1]28_事所'!$K$16 -> 0 | AZ29: イ 事業所税 | BA29: ='[1]28_事所'!$E$17 -> 0 | BB29: ='[1]28_事所'!$H$17 -> 0 | BC29: ='[1]28_事所'!$K$17 -> 0 | BD29: ='[1]28_事所'!$E$18 -> 0 | BE29: ='[1]28_事所'!$H$18 -> 0 | BF29: ='[1]28_事所'!$K$18 -> 0 | BG29: ='[1]28_事所'!$E$19 -> 0 | BH29: ='[1]28_事所'!$H$19 -> 0 | BI29: ='[1]28_事所'!$K$19 -> 0 | BJ29: イ 事業所税 | BK29: ='[1]28_事所'!$E$20 -> 0 | BL29: ='[1]28_事所'!$H$20 -> 0 | BM29: ='[1]28_事所'!$K$20 -> 0 | BN29: ='[1]28_事所'!$E$21 -> 0 | BO29: ='[1]28_事所'!$H$21 -> 0 | BP29: ='[1]28_事所'!$K$21 -> 0 | BQ29: ='[1]28_事所'!$E$22 -> 0 | BR29: ='[1]28_事所'!$H$22 -> 0 | BS29: ='[1]28_事所'!$K$22 -> 0 | BT29: イ 事業所税 | BU29: ='[1]28_事所'!$E$23 -> 0 | BV29: ='[1]28_事所'!$H$23 -> 0 | BW29: ='[1]28_事所'!$K$23 -> 0 | BX29: ='[1]28_事所'!$E$24 -> 0 | BY29: ='[1]28_事所'!$H$24 -> 0 | BZ29: ='[1]28_事所'!$K$24 -> 0 | CA29: ='[1]28_事所'!$E$25 -> 0 | CB29: ='[1]28_事所'!$H$25 -> 0 | CC29: ='[1]28_事所'!$K$25 -> 0 | CD29: イ 事業所税 | CE29: ='[1]28_事所'!$E$26 -> 0 | CF29: ='[1]28_事所'!$H$26 -> 0 | CG29: ='[1]28_事所'!$K$26 -> 0 | CH29: ='[1]28_事所'!$E$27 -> 0 | CI29: ='[1]28_事所'!$H$27 -> 0 | CJ29: ='[1]28_事所'!$K$27 -> 0 | CK29: ='[1]28_事所'!$E$28 -> 0 | CL29: ='[1]28_事所'!$H$28 -> 0 | CM29: ='[1]28_事所'!$K$28 -> 0 | CN29: イ 事業所税 | CO29: ='[1]28_事所'!$E$29 -> 0 | CP29: ='[1]28_事所'!$H$29 -> 0 | CQ29: ='[1]28_事所'!$K$29 -> 0 | CR29: ='[1]28_事所'!$E$30 -> 0 | CS29: ='[1]28_事所'!$H$30 -> 0 | CT29: ='[1]28_事所'!$K$30 -> 0 | CU29: ='[1]28_事所'!$E$32 -> 0 | CV29: ='[1]28_事所'!$H$32 -> 0 | CW29: ='[1]28_事所'!$K$32 -> 0 | CX29: イ 事業所税 | CY29: ='[1]28_事所'!$E$33 -> 0 | CZ29: ='[1]28_事所'!$H$33 -> 0 | DA29: ='[1]28_事所'!$K$33 -> 0 | DB29: ='[1]28_事所'!$E$34 -> 0 | DC29: ='[1]28_事所'!$H$34 -> 0 | DD29: ='[1]28_事所'!$K$34 -> 0 | DE29: ='[1]28_事所'!$E$35 -> 0 | DF29: ='[1]28_事所'!$H$35 -> 0 | DG29: ='[1]28_事所'!$K$35 -> 0 | DH29: イ 事業所税 | DI29: ='[1]28_事所'!$E$37 -> 0 | DJ29: ='[1]28_事所'!$H$37 -> 0 | DK29: ='[1]28_事所'!$K$37 -> 0 | DL29: ='[1]28_事所'!$E$38 -> 0 | DM29: ='[1]28_事所'!$H$38 -> 0 | DN29: ='[1]28_事所'!$K$38 -> 0 | DO29: ='[1]28_事所'!$E$39 -> 0 | DP29: ='[1]28_事所'!$H$39 -> 0 | DQ29: ='[1]28_事所'!$K$39 -> 0 | DR29: イ 事業所税 | DS29: ='[1]28_事所'!$E$40 -> 0 | DT29: ='[1]28_事所'!$H$40 -> 0 | DU29: ='[1]28_事所'!$K$40 -> 0 | DV29: ='[1]28_事所'!$E$41 -> 0 | DW29: ='[1]28_事所'!$H$41 -> 0 | DX29: ='[1]28_事所'!$K$41 -> 0 | DY29: ='[1]28_事所'!$E$42 -> 0 | DZ29: ='[1]28_事所'!$H$42 -> 0 | EA29: ='[1]28_事所'!$K$42 -> 0 | EB29: イ 事業所税 | EC29: ='[1]28_事所'!$E$43 -> 0 | ED29: ='[1]28_事所'!$H$43 -> 0 | EE29: ='[1]28_事所'!$K$43 -> 0 | EF29: ='[1]28_事所'!$E$44 -> 0 | EG29: ='[1]28_事所'!$H$44 -> 0 | EH29: ='[1]28_事所'!$K$44 -> 0 | EI29: ='[1]28_事所'!$E$45 -> 0 | EJ29: ='[1]28_事所'!$H$45 -> 0 | EK29: ='[1]28_事所'!$K$45 -> 0
B30: ウ 都市計画税 | C30: ='[1]29_都計'!$E$48 -> 54273294 | D30: ='[1]29_都計'!$H$48 -> 53335652 | E30: ='[1]29_都計'!$K$48 -> 98.272369 | F30: ='[1]29_都計'!$E$31 -> 53513645 | G30: ='[1]29_都計'!$H$31 -> 52594388 | H30: ='[1]29_都計'!$K$31 -> 98.282201 | I30: ='[1]29_都計'!$E$47 -> 759649 | J30: ='[1]29_都計'!$H$47 -> 741264 | K30: ='[1]29_都計'!$K$47 -> 97.579803 | L30: ウ 都市計画税 | M30: ='[1]29_都計'!$E$5 -> 7015906 | N30: ='[1]29_都計'!$H$5 -> 6854843 | O30: ='[1]29_都計'!$K$5 -> 97.704316 | P30: ='[1]29_都計'!$E$6 -> 2990997 | Q30: ='[1]29_都計'!$H$6 -> 2941004 | R30: ='[1]29_都計'!$K$6 -> 98.328551 | S30: ='[1]29_都計'!$E$7 -> 2540798 | T30: ='[1]29_都計'!$H$7 -> 2506134 | U30: ='[1]29_都計'!$K$7 -> 98.635704 | V30: ウ 都市計画税 | W30: ='[1]29_都計'!$E$8 -> 2572540 | X30: ='[1]29_都計'!$H$8 -> 2536064 | Y30: ='[1]29_都計'!$K$8 -> 98.582102 | Z30: ='[1]29_都計'!$E$9 -> 1617646 | AA30: ='[1]29_都計'!$H$9 -> 1538504 | AB30: ='[1]29_都計'!$K$9 -> 95.107582 | AC30: ='[1]29_都計'!$E$10 -> 3313813 | AD30: ='[1]29_都計'!$H$10 -> 3253408 | AE30: ='[1]29_都計'!$K$10 -> 98.177175 | AF30: ウ 都市計画税 | AG30: ='[1]29_都計'!$E$11 -> 1522778 | AH30: ='[1]29_都計'!$H$11 -> 1499124 | AI30: ='[1]29_都計'!$K$11 -> 98.446655 | AJ30: ='[1]29_都計'!$E$12 -> 3326943 | AK30: ='[1]29_都計'!$H$12 -> 3244146 | AL30: ='[1]29_都計'!$K$12 -> 97.511319 | AM30: ='[1]29_都計'!$E$13 -> 4861544 | AN30: ='[1]29_都計'!$H$13 -> 4806773 | AO30: ='[1]29_都計'!$K$13 -> 98.873383 | AP30: ウ 都市計画税 | AQ30: ='[1]29_都計'!$E$14 -> 1788365 | AR30: ='[1]29_都計'!$H$14 -> 1776953 | AS30: ='[1]29_都計'!$K$14 -> 99.361875 | AT30: ='[1]29_都計'!$E$15 -> 2319803 | AU30: ='[1]29_都計'!$H$15 -> 2285121 | AV30: ='[1]29_都計'!$K$15 -> 98.504959 | AW30: ='[1]29_都計'!$E$16 -> 2295319 | AX30: ='[1]29_都計'!$H$16 -> 2277555 | AY30: ='[1]29_都計'!$K$16 -> 99.226077 | AZ30: ウ 都市計画税 | BA30: ='[1]29_都計'!$E$17 -> 1754904 | BB30: ='[1]29_都計'!$H$17 -> 1721521 | BC30: ='[1]29_都計'!$K$17 -> 98.097731 | BD30: ='[1]29_都計'!$E$18 -> 1865845 | BE30: ='[1]29_都計'!$H$18 -> 1841305 | BF30: ='[1]29_都計'!$K$18 -> 98.684778 | BG30: ='[1]29_都計'!$E$19 -> 1250225 | BH30: ='[1]29_都計'!$H$19 -> 1245538 | BI30: ='[1]29_都計'!$K$19 -> 99.625107 | BJ30: ウ 都市計画税 | BK30: ='[1]29_都計'!$E$20 -> 604961 | BL30: ='[1]29_都計'!$H$20 -> 593046 | BM30: ='[1]29_都計'!$K$20 -> 98.030452 | BN30: ='[1]29_都計'!$E$21 -> 852382 | BO30: ='[1]29_都計'!$H$21 -> 850248 | BP30: ='[1]29_都計'!$K$21 -> 99.749643 | BQ30: ='[1]29_都計'!$E$22 -> 1003953 | BR30: ='[1]29_都計'!$H$22 -> 968033 | BS30: ='[1]29_都計'!$K$22 -> 96.422143 | BT30: ウ 都市計画税 | BU30: ='[1]29_都計'!$E$23 -> 719812 | BV30: ='[1]29_都計'!$H$23 -> 709669 | BW30: ='[1]29_都計'!$K$23 -> 98.590882 | BX30: ='[1]29_都計'!$E$24 -> 1314967 | BY30: ='[1]29_都計'!$H$24 -> 1299665 | BZ30: ='[1]29_都計'!$K$24 -> 98.836321 | CA30: ='[1]29_都計'!$E$25 -> 869351 | CB30: ='[1]29_都計'!$H$25 -> 851276 | CC30: ='[1]29_都計'!$K$25 -> 97.920863 | CD30: ウ 都市計画税 | CE30: ='[1]29_都計'!$E$26 -> 1747527 | CF30: ='[1]29_都計'!$H$26 -> 1718994 | CG30: ='[1]29_都計'!$K$26 -> 98.367236 | CH30: ='[1]29_都計'!$E$27 -> 1213557 | CI30: ='[1]29_都計'!$H$27 -> 1189633 | CJ30: ='[1]29_都計'!$K$27 -> 98.028605 | CK30: ='[1]29_都計'!$E$28 -> 831707 | CL30: ='[1]29_都計'!$H$28 -> 818744 | CM30: ='[1]29_都計'!$K$28 -> 98.441398 | CN30: ウ 都市計画税 | CO30: ='[1]29_都計'!$E$29 -> 859331 | CP30: ='[1]29_都計'!$H$29 -> 848934 | CQ30: ='[1]29_都計'!$K$29 -> 98.790105 | CR30: ='[1]29_都計'!$E$30 -> 2458671 | CS30: ='[1]29_都計'!$H$30 -> 2418153 | CT30: ='[1]29_都計'!$K$30 -> 98.352037 | CU30: ='[1]29_都計'!$E$32 -> 553853 | CV30: ='[1]29_都計'!$H$32 -> 542468 | CW30: ='[1]29_都計'!$K$32 -> 97.9444 | CX30: ウ 都市計画税 | CY30: ='[1]29_都計'!$E$33 -> 205796 | CZ30: ='[1]29_都計'!$H$33 -> 198796 | DA30: ='[1]29_都計'!$K$33 -> 96.598573 | DB30: ='[1]29_都計'!$E$34 -> 0 | DC30: ='[1]29_都計'!$H$34 -> 0 | DD30: ='[1]29_都計'!$K$34 -> 0 | DE30: ='[1]29_都計'!$E$35 -> 0 | DF30: ='[1]29_都計'!$H$35 -> 0 | DG30: ='[1]29_都計'!$K$35 -> 0 | DH30: ウ 都市計画税 | DI30: ='[1]29_都計'!$E$37 -> 0 | DJ30: ='[1]29_都計'!$H$37 -> 0 | DK30: ='[1]29_都計'!$K$37 -> 0 | DL30: ='[1]29_都計'!$E$38 -> 0 | DM30: ='[1]29_都計'!$H$38 -> 0 | DN30: ='[1]29_都計'!$K$38 -> 0 | DO30: ='[1]29_都計'!$E$39 -> 0 | DP30: ='[1]29_都計'!$H$39 -> 0 | DQ30: ='[1]29_都計'!$K$39 -> 0 | DR30: ウ 都市計画税 | DS30: ='[1]29_都計'!$E$40 -> 0 | DT30: ='[1]29_都計'!$H$40 -> 0 | DU30: ='[1]29_都計'!$K$40 -> 0 | DV30: ='[1]29_都計'!$E$41 -> 0 | DW30: ='[1]29_都計'!$H$41 -> 0 | DX30: ='[1]29_都計'!$K$41 -> 0 | DY30: ='[1]29_都計'!$E$42 -> 0 | DZ30: ='[1]29_都計'!$H$42 -> 0 | EA30: ='[1]29_都計'!$K$42 -> 0 | EB30: ウ 都市計画税 | EC30: ='[1]29_都計'!$E$43 -> 0 | ED30: ='[1]29_都計'!$H$43 -> 0 | EE30: ='[1]29_都計'!$K$43 -> 0 | EF30: ='[1]29_都計'!$E$44 -> 0 | EG30: ='[1]29_都計'!$H$44 -> 0 | EH30: ='[1]29_都計'!$K$44 -> 0 | EI30: ='[1]29_都計'!$E$45 -> 0 | EJ30: ='[1]29_都計'!$H$45 -> 0 | EK30: ='[1]29_都計'!$K$45 -> 0
B31: (ｱ)土地 | C31: ='[1]30_都土'!$E$48 -> 34138841 | D31: ='[1]30_都土'!$H$48 -> 33556984 | E31: ='[1]30_都土'!$K$48 -> 98.295616 | F31: ='[1]30_都土'!$E$31 -> 33674398 | G31: ='[1]30_都土'!$H$31 -> 33104023 | H31: ='[1]30_都土'!$K$31 -> 98.306206 | I31: ='[1]30_都土'!$E$47 -> 464443 | J31: ='[1]30_都土'!$H$47 -> 452961 | K31: ='[1]30_都土'!$K$47 -> 97.527791 | L31: (ｱ)土地 | M31: ='[1]30_都土'!$E$5 -> 3839035 | N31: ='[1]30_都土'!$H$5 -> 3750903 | O31: ='[1]30_都土'!$K$5 -> 97.704319 | P31: ='[1]30_都土'!$E$6 -> 1921541 | Q31: ='[1]30_都土'!$H$6 -> 1889302 | R31: ='[1]30_都土'!$K$6 -> 98.322232 | S31: ='[1]30_都土'!$E$7 -> 1780766 | T31: ='[1]30_都土'!$H$7 -> 1756471 | U31: ='[1]30_都土'!$K$7 -> 98.635699 | V31: (ｱ)土地 | W31: ='[1]30_都土'!$E$8 -> 1791159 | X31: ='[1]30_都土'!$H$8 -> 1765762 | Y31: ='[1]30_都土'!$K$8 -> 98.582091 | Z31: ='[1]30_都土'!$E$9 -> 958123 | AA31: ='[1]30_都土'!$H$9 -> 911247 | AB31: ='[1]30_都土'!$K$9 -> 95.107518 | AC31: ='[1]30_都土'!$E$10 -> 2075785 | AD31: ='[1]30_都土'!$H$10 -> 2037947 | AE31: ='[1]30_都土'!$K$10 -> 98.177172 | AF31: (ｱ)土地 | AG31: ='[1]30_都土'!$E$11 -> 953815 | AH31: ='[1]30_都土'!$H$11 -> 938998 | AI31: ='[1]30_都土'!$K$11 -> 98.446554 | AJ31: ='[1]30_都土'!$E$12 -> 2157709 | AK31: ='[1]30_都土'!$H$12 -> 2104011 | AL31: ='[1]30_都土'!$K$12 -> 97.511342 | AM31: ='[1]30_都土'!$E$13 -> 2969057 | AN31: ='[1]30_都土'!$H$13 -> 2935608 | AO31: ='[1]30_都土'!$K$13 -> 98.873413 | AP31: (ｱ)土地 | AQ31: ='[1]30_都土'!$E$14 -> 1246581 | AR31: ='[1]30_都土'!$H$14 -> 1238627 | AS31: ='[1]30_都土'!$K$14 -> 99.361935 | AT31: ='[1]30_都土'!$E$15 -> 1587169 | AU31: ='[1]30_都土'!$H$15 -> 1563261 | AV31: ='[1]30_都土'!$K$15 -> 98.49367 | AW31: ='[1]30_都土'!$E$16 -> 1426874 | AX31: ='[1]30_都土'!$H$16 -> 1415831 | AY31: ='[1]30_都土'!$K$16 -> 99.22607 | AZ31: (ｱ)土地 | BA31: ='[1]30_都土'!$E$17 -> 1109827 | BB31: ='[1]30_都土'!$H$17 -> 1088716 | BC31: ='[1]30_都土'!$K$17 -> 98.097812 | BD31: ='[1]30_都土'!$E$18 -> 1235284 | BE31: ='[1]30_都土'!$H$18 -> 1219038 | BF31: ='[1]30_都土'!$K$18 -> 98.684837 | BG31: ='[1]30_都土'!$E$19 -> 826349 | BH31: ='[1]30_都土'!$H$19 -> 823300 | BI31: ='[1]30_都土'!$K$19 -> 99.631028 | BJ31: (ｱ)土地 | BK31: ='[1]30_都土'!$E$20 -> 376649 | BL31: ='[1]30_都土'!$H$20 -> 369231 | BM31: ='[1]30_都土'!$K$20 -> 98.030527 | BN31: ='[1]30_都土'!$E$21 -> 585264 | BO31: ='[1]30_都土'!$H$21 -> 583799 | BP31: ='[1]30_都土'!$K$21 -> 99.749686 | BQ31: ='[1]30_都土'!$E$22 -> 636703 | BR31: ='[1]30_都土'!$H$22 -> 613922 | BS31: ='[1]30_都土'!$K$22 -> 96.422037 | BT31: (ｱ)土地 | BU31: ='[1]30_都土'!$E$23 -> 458382 | BV31: ='[1]30_都土'!$H$23 -> 451924 | BW31: ='[1]30_都土'!$K$23 -> 98.591131 | BX31: ='[1]30_都土'!$E$24 -> 882520 | BY31: ='[1]30_都土'!$H$24 -> 872249 | BZ31: ='[1]30_都土'!$K$24 -> 98.836174 | CA31: ='[1]30_都土'!$E$25 -> 564569 | CB31: ='[1]30_都土'!$H$25 -> 552831 | CC31: ='[1]30_都土'!$K$25 -> 97.920892 | CD31: (ｱ)土地 | CE31: ='[1]30_都土'!$E$26 -> 876559 | CF31: ='[1]30_都土'!$H$26 -> 862247 | CG31: ='[1]30_都土'!$K$26 -> 98.367252 | CH31: ='[1]30_都土'!$E$27 -> 731063 | CI31: ='[1]30_都土'!$H$27 -> 716651 | CJ31: ='[1]30_都土'!$K$27 -> 98.028624 | CK31: ='[1]30_都土'!$E$28 -> 541965 | CL31: ='[1]30_都土'!$H$28 -> 533518 | CM31: ='[1]30_都土'!$K$28 -> 98.441412 | CN31: (ｱ)土地 | CO31: ='[1]30_都土'!$E$29 -> 556279 | CP31: ='[1]30_都土'!$H$29 -> 549548 | CQ31: ='[1]30_都土'!$K$29 -> 98.789996 | CR31: ='[1]30_都土'!$E$30 -> 1585371 | CS31: ='[1]30_都土'!$H$30 -> 1559081 | CT31: ='[1]30_都土'!$K$30 -> 98.341713 | CU31: ='[1]30_都土'!$E$32 -> 349240 | CV31: ='[1]30_都土'!$H$32 -> 342061 | CW31: ='[1]30_都土'!$K$32 -> 97.944394 | CX31: (ｱ)土地 | CY31: ='[1]30_都土'!$E$33 -> 115203 | CZ31: ='[1]30_都土'!$H$33 -> 110900 | DA31: ='[1]30_都土'!$K$33 -> 96.264854 | DB31: ='[1]30_都土'!$E$34 -> 0 | DC31: ='[1]30_都土'!$H$34 -> 0 | DD31: ='[1]30_都土'!$K$34 -> 0 | DE31: ='[1]30_都土'!$E$35 -> 0 | DF31: ='[1]30_都土'!$H$35 -> 0 | DG31: ='[1]30_都土'!$K$35 -> 0 | DH31: (ｱ)土地 | DI31: ='[1]30_都土'!$E$37 -> 0 | DJ31: ='[1]30_都土'!$H$37 -> 0 | DK31: ='[1]30_都土'!$K$37 -> 0 | DL31: ='[1]30_都土'!$E$38 -> 0 | DM31: ='[1]30_都土'!$H$38 -> 0 | DN31: ='[1]30_都土'!$K$38 -> 0 | DO31: ='[1]30_都土'!$E$39 -> 0 | DP31: ='[1]30_都土'!$H$39 -> 0 | DQ31: ='[1]30_都土'!$K$39 -> 0 | DR31: (ｱ)土地 | DS31: ='[1]30_都土'!$E$40 -> 0 | DT31: ='[1]30_都土'!$H$40 -> 0 | DU31: ='[1]30_都土'!$K$40 -> 0 | DV31: ='[1]30_都土'!$E$41 -> 0 | DW31: ='[1]30_都土'!$H$41 -> 0 | DX31: ='[1]30_都土'!$K$41 -> 0 | DY31: ='[1]30_都土'!$E$42 -> 0 | DZ31: ='[1]30_都土'!$H$42 -> 0 | EA31: ='[1]30_都土'!$K$42 -> 0 | EB31: (ｱ)土地 | EC31: ='[1]30_都土'!$E$43 -> 0 | ED31: ='[1]30_都土'!$H$43 -> 0 | EE31: ='[1]30_都土'!$K$43 -> 0 | EF31: ='[1]30_都土'!$E$44 -> 0 | EG31: ='[1]30_都土'!$H$44 -> 0 | EH31: ='[1]30_都土'!$K$44 -> 0 | EI31: ='[1]30_都土'!$E$45 -> 0 | EJ31: ='[1]30_都土'!$H$45 -> 0 | EK31: ='[1]30_都土'!$K$45 -> 0
B32: (ｲ)家屋 | C32: ='[1]31_都家'!$E$48 -> 20134453 | D32: ='[1]31_都家'!$H$48 -> 19778668 | E32: ='[1]31_都家'!$K$48 -> 98.232954 | F32: ='[1]31_都家'!$E$31 -> 19839247 | G32: ='[1]31_都家'!$H$31 -> 19490365 | H32: ='[1]31_都家'!$K$31 -> 98.241455 | I32: ='[1]31_都家'!$E$47 -> 295206 | J32: ='[1]31_都家'!$H$47 -> 288303 | K32: ='[1]31_都家'!$K$47 -> 97.661633 | L32: (ｲ)家屋 | M32: ='[1]31_都家'!$E$5 -> 3176871 | N32: ='[1]31_都家'!$H$5 -> 3103940 | O32: ='[1]31_都家'!$K$5 -> 97.704313 | P32: ='[1]31_都家'!$E$6 -> 1069456 | Q32: ='[1]31_都家'!$H$6 -> 1051702 | R32: ='[1]31_都家'!$K$6 -> 98.339904 | S32: ='[1]31_都家'!$E$7 -> 760032 | T32: ='[1]31_都家'!$H$7 -> 749663 | U32: ='[1]31_都家'!$K$7 -> 98.635715 | V32: (ｲ)家屋 | W32: ='[1]31_都家'!$E$8 -> 781381 | X32: ='[1]31_都家'!$H$8 -> 770302 | Y32: ='[1]31_都家'!$K$8 -> 98.582126 | Z32: ='[1]31_都家'!$E$9 -> 659523 | AA32: ='[1]31_都家'!$H$9 -> 627257 | AB32: ='[1]31_都家'!$K$9 -> 95.107676 | AC32: ='[1]31_都家'!$E$10 -> 1238028 | AD32: ='[1]31_都家'!$H$10 -> 1215461 | AE32: ='[1]31_都家'!$K$10 -> 98.177182 | AF32: (ｲ)家屋 | AG32: ='[1]31_都家'!$E$11 -> 568963 | AH32: ='[1]31_都家'!$H$11 -> 560126 | AI32: ='[1]31_都家'!$K$11 -> 98.446823 | AJ32: ='[1]31_都家'!$E$12 -> 1169234 | AK32: ='[1]31_都家'!$H$12 -> 1140135 | AL32: ='[1]31_都家'!$K$12 -> 97.511277 | AM32: ='[1]31_都家'!$E$13 -> 1892487 | AN32: ='[1]31_都家'!$H$13 -> 1871165 | AO32: ='[1]31_都家'!$K$13 -> 98.873334 | AP32: (ｲ)家屋 | AQ32: ='[1]31_都家'!$E$14 -> 541784 | AR32: ='[1]31_都家'!$H$14 -> 538326 | AS32: ='[1]31_都家'!$K$14 -> 99.361738 | AT32: ='[1]31_都家'!$E$15 -> 732634 | AU32: ='[1]31_都家'!$H$15 -> 721860 | AV32: ='[1]31_都家'!$K$15 -> 98.529416 | AW32: ='[1]31_都家'!$E$16 -> 868445 | AX32: ='[1]31_都家'!$H$16 -> 861724 | AY32: ='[1]31_都家'!$K$16 -> 99.226088 | AZ32: (ｲ)家屋 | BA32: ='[1]31_都家'!$E$17 -> 645077 | BB32: ='[1]31_都家'!$H$17 -> 632805 | BC32: ='[1]31_都家'!$K$17 -> 98.097591 | BD32: ='[1]31_都家'!$E$18 -> 630561 | BE32: ='[1]31_都家'!$H$18 -> 622267 | BF32: ='[1]31_都家'!$K$18 -> 98.684663 | BG32: ='[1]31_都家'!$E$19 -> 423876 | BH32: ='[1]31_都家'!$H$19 -> 422238 | BI32: ='[1]31_都家'!$K$19 -> 99.613566 | BJ32: (ｲ)家屋 | BK32: ='[1]31_都家'!$E$20 -> 228312 | BL32: ='[1]31_都家'!$H$20 -> 223815 | BM32: ='[1]31_都家'!$K$20 -> 98.030327 | BN32: ='[1]31_都家'!$E$21 -> 267118 | BO32: ='[1]31_都家'!$H$21 -> 266449 | BP32: ='[1]31_都家'!$K$21 -> 99.749549 | BQ32: ='[1]31_都家'!$E$22 -> 367250 | BR32: ='[1]31_都家'!$H$22 -> 354111 | BS32: ='[1]31_都家'!$K$22 -> 96.422328 | BT32: (ｲ)家屋 | BU32: ='[1]31_都家'!$E$23 -> 261430 | BV32: ='[1]31_都家'!$H$23 -> 257745 | BW32: ='[1]31_都家'!$K$23 -> 98.590445 | BX32: ='[1]31_都家'!$E$24 -> 432447 | BY32: ='[1]31_都家'!$H$24 -> 427416 | BZ32: ='[1]31_都家'!$K$24 -> 98.83662 | CA32: ='[1]31_都家'!$E$25 -> 304782 | CB32: ='[1]31_都家'!$H$25 -> 298445 | CC32: ='[1]31_都家'!$K$25 -> 97.920809 | CD32: (ｲ)家屋 | CE32: ='[1]31_都家'!$E$26 -> 870968 | CF32: ='[1]31_都家'!$H$26 -> 856747 | CG32: ='[1]31_都家'!$K$26 -> 98.367219 | CH32: ='[1]31_都家'!$E$27 -> 482494 | CI32: ='[1]31_都家'!$H$27 -> 472982 | CJ32: ='[1]31_都家'!$K$27 -> 98.028577 | CK32: ='[1]31_都家'!$E$28 -> 289742 | CL32: ='[1]31_都家'!$H$28 -> 285226 | CM32: ='[1]31_都家'!$K$28 -> 98.441372 | CN32: (ｲ)家屋 | CO32: ='[1]31_都家'!$E$29 -> 303052 | CP32: ='[1]31_都家'!$H$29 -> 299386 | CQ32: ='[1]31_都家'!$K$29 -> 98.790307 | CR32: ='[1]31_都家'!$E$30 -> 873300 | CS32: ='[1]31_都家'!$H$30 -> 859072 | CT32: ='[1]31_都家'!$K$30 -> 98.370778 | CU32: ='[1]31_都家'!$E$32 -> 204613 | CV32: ='[1]31_都家'!$H$32 -> 200407 | CW32: ='[1]31_都家'!$K$32 -> 97.944412 | CX32: (ｲ)家屋 | CY32: ='[1]31_都家'!$E$33 -> 90593 | CZ32: ='[1]31_都家'!$H$33 -> 87896 | DA32: ='[1]31_都家'!$K$33 -> 97.022949 | DB32: ='[1]31_都家'!$E$34 -> 0 | DC32: ='[1]31_都家'!$H$34 -> 0 | DD32: ='[1]31_都家'!$K$34 -> 0 | DE32: ='[1]31_都家'!$E$35 -> 0 | DF32: ='[1]31_都家'!$H$35 -> 0 | DG32: ='[1]31_都家'!$K$35 -> 0 | DH32: (ｲ)家屋 | DI32: ='[1]31_都家'!$E$37 -> 0 | DJ32: ='[1]31_都家'!$H$37 -> 0 | DK32: ='[1]31_都家'!$K$37 -> 0 | DL32: ='[1]31_都家'!$E$38 -> 0 | DM32: ='[1]31_都家'!$H$38 -> 0 | DN32: ='[1]31_都家'!$K$38 -> 0 | DO32: ='[1]31_都家'!$E$39 -> 0 | DP32: ='[1]31_都家'!$H$39 -> 0 | DQ32: ='[1]31_都家'!$K$39 -> 0 | DR32: (ｲ)家屋 | DS32: ='[1]31_都家'!$E$40 -> 0 | DT32: ='[1]31_都家'!$H$40 -> 0 | DU32: ='[1]31_都家'!$K$40 -> 0 | DV32: ='[1]31_都家'!$E$41 -> 0 | DW32: ='[1]31_都家'!$H$41 -> 0 | DX32: ='[1]31_都家'!$K$41 -> 0 | DY32: ='[1]31_都家'!$E$42 -> 0 | DZ32: ='[1]31_都家'!$H$42 -> 0 | EA32: ='[1]31_都家'!$K$42 -> 0 | EB32: (ｲ)家屋 | EC32: ='[1]31_都家'!$E$43 -> 0 | ED32: ='[1]31_都家'!$H$43 -> 0 | EE32: ='[1]31_都家'!$K$43 -> 0 | EF32: ='[1]31_都家'!$E$44 -> 0 | EG32: ='[1]31_都家'!$H$44 -> 0 | EH32: ='[1]31_都家'!$K$44 -> 0 | EI32: ='[1]31_都家'!$E$45 -> 0 | EJ32: ='[1]31_都家'!$H$45 -> 0 | EK32: ='[1]31_都家'!$K$45 -> 0
B33: エ 水利地益税 | C33: 0 | D33: 0 | E33: 0 | F33: 0 | G33: 0 | H33: 0 | I33: 0 | J33: 0 | K33: 0 | L33: エ 水利地益税 | M33: 0 | N33: 0 | O33: 0 | P33: 0 | Q33: 0 | R33: 0 | S33: 0 | T33: 0 | U33: 0 | V33: エ 水利地益税 | W33: 0 | X33: 0 | Y33: 0 | Z33: 0 | AA33: 0 | AB33: 0 | AC33: 0 | AD33: 0 | AE33: 0 | AF33: エ 水利地益税 | AG33: 0 | AH33: 0 | AI33: 0 | AJ33: 0 | AK33: 0 | AL33: 0 | AM33: 0 | AN33: 0 | AO33: 0 | AP33: エ 水利地益税 | AQ33: 0 | AR33: 0 | AS33: 0 | AT33: 0 | AU33: 0 | AV33: 0 | AW33: 0 | AX33: 0 | AY33: 0 | AZ33: エ 水利地益税 | BA33: 0 | BB33: 0 | BC33: 0 | BD33: 0 | BE33: 0 | BF33: 0 | BG33: 0 | BH33: 0 | BI33: 0 | BJ33: エ 水利地益税 | BK33: 0 | BL33: 0 | BM33: 0 | BN33: 0 | BO33: 0 | BP33: 0 | BQ33: 0 | BR33: 0 | BS33: 0 | BT33: エ 水利地益税 | BU33: 0 | BV33: 0 | BW33: 0 | BX33: 0 | BY33: 0 | BZ33: 0 | CA33: 0 | CB33: 0 | CC33: 0 | CD33: エ 水利地益税 | CE33: 0 | CF33: 0 | CG33: 0 | CH33: 0 | CI33: 0 | CJ33: 0 | CK33: 0 | CL33: 0 | CM33: 0 | CN33: エ 水利地益税 | CO33: 0 | CP33: 0 | CQ33: 0 | CR33: 0 | CS33: 0 | CT33: 0 | CU33: 0 | CV33: 0 | CW33: 0 | CX33: エ 水利地益税 | CY33: 0 | CZ33: 0 | DA33: 0 | DB33: 0 | DC33: 0 | DD33: 0 | DE33: 0 | DF33: 0 | DG33: 0 | DH33: エ 水利地益税 | DI33: 0 | DJ33: 0 | DK33: 0 | DL33: 0 | DM33: 0 | DN33: 0 | DO33: 0 | DP33: 0 | DQ33: 0 | DR33: エ 水利地益税 | DS33: 0 | DT33: 0 | DU33: 0 | DV33: 0 | DW33: 0 | DX33: 0 | DY33: 0 | DZ33: 0 | EA33: 0 | EB33: エ 水利地益税 | EC33: 0 | ED33: 0 | EE33: 0 | EF33: 0 | EG33: 0 | EH33: 0 | EI33: 0 | EJ33: 0 | EK33: 0
B34: オ 共同施設税 | C34: 0 | D34: 0 | E34: 0 | F34: 0 | G34: 0 | H34: 0 | I34: 0 | J34: 0 | K34: 0 | L34: オ 共同施設税 | M34: 0 | N34: 0 | O34: 0 | P34: 0 | Q34: 0 | R34: 0 | S34: 0 | T34: 0 | U34: 0 | V34: オ 共同施設税 | W34: 0 | X34: 0 | Y34: 0 | Z34: 0 | AA34: 0 | AB34: 0 | AC34: 0 | AD34: 0 | AE34: 0 | AF34: オ 共同施設税 | AG34: 0 | AH34: 0 | AI34: 0 | AJ34: 0 | AK34: 0 | AL34: 0 | AM34: 0 | AN34: 0 | AO34: 0 | AP34: オ 共同施設税 | AQ34: 0 | AR34: 0 | AS34: 0 | AT34: 0 | AU34: 0 | AV34: 0 | AW34: 0 | AX34: 0 | AY34: 0 | AZ34: オ 共同施設税 | BA34: 0 | BB34: 0 | BC34: 0 | BD34: 0 | BE34: 0 | BF34: 0 | BG34: 0 | BH34: 0 | BI34: 0 | BJ34: オ 共同施設税 | BK34: 0 | BL34: 0 | BM34: 0 | BN34: 0 | BO34: 0 | BP34: 0 | BQ34: 0 | BR34: 0 | BS34: 0 | BT34: オ 共同施設税 | BU34: 0 | BV34: 0 | BW34: 0 | BX34: 0 | BY34: 0 | BZ34: 0 | CA34: 0 | CB34: 0 | CC34: 0 | CD34: オ 共同施設税 | CE34: 0 | CF34: 0 | CG34: 0 | CH34: 0 | CI34: 0 | CJ34: 0 | CK34: 0 | CL34: 0 | CM34: 0 | CN34: オ 共同施設税 | CO34: 0 | CP34: 0 | CQ34: 0 | CR34: 0 | CS34: 0 | CT34: 0 | CU34: 0 | CV34: 0 | CW34: 0 | CX34: オ 共同施設税 | CY34: 0 | CZ34: 0 | DA34: 0 | DB34: 0 | DC34: 0 | DD34: 0 | DE34: 0 | DF34: 0 | DG34: 0 | DH34: オ 共同施設税 | DI34: 0 | DJ34: 0 | DK34: 0 | DL34: 0 | DM34: 0 | DN34: 0 | DO34: 0 | DP34: 0 | DQ34: 0 | DR34: オ 共同施設税 | DS34: 0 | DT34: 0 | DU34: 0 | DV34: 0 | DW34: 0 | DX34: 0 | DY34: 0 | DZ34: 0 | EA34: 0 | EB34: オ 共同施設税 | EC34: 0 | ED34: 0 | EE34: 0 | EF34: 0 | EG34: 0 | EH34: 0 | EI34: 0 | EJ34: 0 | EK34: 0
B35: カ 宅地開発税 | C35: 0 | D35: 0 | E35: 0 | F35: 0 | G35: 0 | H35: 0 | I35: 0 | J35: 0 | K35: 0 | L35: カ 宅地開発税 | M35: 0 | N35: 0 | O35: 0 | P35: 0 | Q35: 0 | R35: 0 | S35: 0 | T35: 0 | U35: 0 | V35: カ 宅地開発税 | W35: 0 | X35: 0 | Y35: 0 | Z35: 0 | AA35: 0 | AB35: 0 | AC35: 0 | AD35: 0 | AE35: 0 | AF35: カ 宅地開発税 | AG35: 0 | AH35: 0 | AI35: 0 | AJ35: 0 | AK35: 0 | AL35: 0 | AM35: 0 | AN35: 0 | AO35: 0 | AP35: カ 宅地開発税 | AQ35: 0 | AR35: 0 | AS35: 0 | AT35: 0 | AU35: 0 | AV35: 0 | AW35: 0 | AX35: 0 | AY35: 0 | AZ35: カ 宅地開発税 | BA35: 0 | BB35: 0 | BC35: 0 | BD35: 0 | BE35: 0 | BF35: 0 | BG35: 0 | BH35: 0 | BI35: 0 | BJ35: カ 宅地開発税 | BK35: 0 | BL35: 0 | BM35: 0 | BN35: 0 | BO35: 0 | BP35: 0 | BQ35: 0 | BR35: 0 | BS35: 0 | BT35: カ 宅地開発税 | BU35: 0 | BV35: 0 | BW35: 0 | BX35: 0 | BY35: 0 | BZ35: 0 | CA35: 0 | CB35: 0 | CC35: 0 | CD35: カ 宅地開発税 | CE35: 0 | CF35: 0 | CG35: 0 | CH35: 0 | CI35: 0 | CJ35: 0 | CK35: 0 | CL35: 0 | CM35: 0 | CN35: カ 宅地開発税 | CO35: 0 | CP35: 0 | CQ35: 0 | CR35: 0 | CS35: 0 | CT35: 0 | CU35: 0 | CV35: 0 | CW35: 0 | CX35: カ 宅地開発税 | CY35: 0 | CZ35: 0 | DA35: 0 | DB35: 0 | DC35: 0 | DD35: 0 | DE35: 0 | DF35: 0 | DG35: 0 | DH35: カ 宅地開発税 | DI35: 0 | DJ35: 0 | DK35: 0 | DL35: 0 | DM35: 0 | DN35: 0 | DO35: 0 | DP35: 0 | DQ35: 0 | DR35: カ 宅地開発税 | DS35: 0 | DT35: 0 | DU35: 0 | DV35: 0 | DW35: 0 | DX35: 0 | DY35: 0 | DZ35: 0 | EA35: 0 | EB35: カ 宅地開発税 | EC35: 0 | ED35: 0 | EE35: 0 | EF35: 0 | EG35: 0 | EH35: 0 | EI35: 0 | EJ35: 0 | EK35: 0
B36: (2) 法定外目的税 | C36: 0 | D36: 0 | E36: 0 | F36: 0 | G36: 0 | H36: 0 | I36: 0 | J36: 0 | K36: 0 | L36: (2) 法定外目的税 | M36: 0 | N36: 0 | O36: 0 | P36: 0 | Q36: 0 | R36: 0 | S36: 0 | T36: 0 | U36: 0 | V36: (2) 法定外目的税 | W36: 0 | X36: 0 | Y36: 0 | Z36: 0 | AA36: 0 | AB36: 0 | AC36: 0 | AD36: 0 | AE36: 0 | AF36: (2) 法定外目的税 | AG36: 0 | AH36: 0 | AI36: 0 | AJ36: 0 | AK36: 0 | AL36: 0 | AM36: 0 | AN36: 0 | AO36: 0 | AP36: (2) 法定外目的税 | AQ36: 0 | AR36: 0 | AS36: 0 | AT36: 0 | AU36: 0 | AV36: 0 | AW36: 0 | AX36: 0 | AY36: 0 | AZ36: (2) 法定外目的税 | BA36: 0 | BB36: 0 | BC36: 0 | BD36: 0 | BE36: 0 | BF36: 0 | BG36: 0 | BH36: 0 | BI36: 0 | BJ36: (2) 法定外目的税 | BK36: 0 | BL36: 0 | BM36: 0 | BN36: 0 | BO36: 0 | BP36: 0 | BQ36: 0 | BR36: 0 | BS36: 0 | BT36: (2) 法定外目的税 | BU36: 0 | BV36: 0 | BW36: 0 | BX36: 0 | BY36: 0 | BZ36: 0 | CA36: 0 | CB36: 0 | CC36: 0 | CD36: (2) 法定外目的税 | CE36: 0 | CF36: 0 | CG36: 0 | CH36: 0 | CI36: 0 | CJ36: 0 | CK36: 0 | CL36: 0 | CM36: 0 | CN36: (2) 法定外目的税 | CO36: 0 | CP36: 0 | CQ36: 0 | CR36: 0 | CS36: 0 | CT36: 0 | CU36: 0 | CV36: 0 | CW36: 0 | CX36: (2) 法定外目的税 | CY36: 0 | CZ36: 0 | DA36: 0 | DB36: 0 | DC36: 0 | DD36: 0 | DE36: 0 | DF36: 0 | DG36: 0 | DH36: (2) 法定外目的税 | DI36: 0 | DJ36: 0 | DK36: 0 | DL36: 0 | DM36: 0 | DN36: 0 | DO36: 0 | DP36: 0 | DQ36: 0 | DR36: (2) 法定外目的税 | DS36: 0 | DT36: 0 | DU36: 0 | DV36: 0 | DW36: 0 | DX36: 0 | DY36: 0 | DZ36: 0 | EA36: 0 | EB36: (2) 法定外目的税 | EC36: 0 | ED36: 0 | EE36: 0 | EF36: 0 | EG36: 0 | EH36: 0 | EI36: 0 | EJ36: 0 | EK36: 0
B37: ３ 旧法による税 | C37: 0 | D37: 0 | E37: 0 | F37: 0 | G37: 0 | H37: 0 | I37: 0 | J37: 0 | K37: 0 | L37: ３ 旧法による税 | M37: 0 | N37: 0 | O37: 0 | P37: 0 | Q37: 0 | R37: 0 | S37: 0 | T37: 0 | U37: 0 | V37: ３ 旧法による税 | W37: 0 | X37: 0 | Y37: 0 | Z37: 0 | AA37: 0 | AB37: 0 | AC37: 0 | AD37: 0 | AE37: 0 | AF37: ３ 旧法による税 | AG37: 0 | AH37: 0 | AI37: 0 | AJ37: 0 | AK37: 0 | AL37: 0 | AM37: 0 | AN37: 0 | AO37: 0 | AP37: ３ 旧法による税 | AQ37: 0 | AR37: 0 | AS37: 0 | AT37: 0 | AU37: 0 | AV37: 0 | AW37: 0 | AX37: 0 | AY37: 0 | AZ37: ３ 旧法による税 | BA37: 0 | BB37: 0 | BC37: 0 | BD37: 0 | BE37: 0 | BF37: 0 | BG37: 0 | BH37: 0 | BI37: 0 | BJ37: ３ 旧法による税 | BK37: 0 | BL37: 0 | BM37: 0 | BN37: 0 | BO37: 0 | BP37: 0 | BQ37: 0 | BR37: 0 | BS37: 0 | BT37: ３ 旧法による税 | BU37: 0 | BV37: 0 | BW37: 0 | BX37: 0 | BY37: 0 | BZ37: 0 | CA37: 0 | CB37: 0 | CC37: 0 | CD37: ３ 旧法による税 | CE37: 0 | CF37: 0 | CG37: 0 | CH37: 0 | CI37: 0 | CJ37: 0 | CK37: 0 | CL37: 0 | CM37: 0 | CN37: ３ 旧法による税 | CO37: 0 | CP37: 0 | CQ37: 0 | CR37: 0 | CS37: 0 | CT37: 0 | CU37: 0 | CV37: 0 | CW37: 0 | CX37: ３ 旧法による税 | CY37: 0 | CZ37: 0 | DA37: 0 | DB37: 0 | DC37: 0 | DD37: 0 | DE37: 0 | DF37: 0 | DG37: 0 | DH37: ３ 旧法による税 | DI37: 0 | DJ37: 0 | DK37: 0 | DL37: 0 | DM37: 0 | DN37: 0 | DO37: 0 | DP37: 0 | DQ37: 0 | DR37: ３ 旧法による税 | DS37: 0 | DT37: 0 | DU37: 0 | DV37: 0 | DW37: 0 | DX37: 0 | DY37: 0 | DZ37: 0 | EA37: 0 | EB37: ３ 旧法による税 | EC37: 0 | ED37: 0 | EE37: 0 | EF37: 0 | EG37: 0 | EH37: 0 | EI37: 0 | EJ37: 0 | EK37: 0
B38: 合 計 | C38: =[1]合計!$E$48 -> 745814539 | D38: =[1]合計!$H$48 -> 729068381 | E38: =[1]合計!$K$48 -> 97.754648 | F38: =[1]合計!$E$31 -> 731644292 | G38: =[1]合計!$H$31 -> 715408631 | H38: =[1]合計!$K$31 -> 97.780935 | I38: =[1]合計!$E$47 -> 14170247 | J38: =[1]合計!$H$47 -> 13659750 | K38: =[1]合計!$K$47 -> 96.397402 | L38: 合 計 | M38: =[1]合計!$E$5 -> 91723396 | N38: =[1]合計!$H$5 -> 89167575 | O38: =[1]合計!$K$5 -> 97.213556 | P38: =[1]合計!$E$6 -> 40149363 | Q38: =[1]合計!$H$6 -> 39199107 | R38: =[1]合計!$K$6 -> 97.633198 | S38: =[1]合計!$E$7 -> 41291239 | T38: =[1]合計!$H$7 -> 40360924 | U38: =[1]合計!$K$7 -> 97.746943 | V38: 合 計 | W38: =[1]合計!$E$8 -> 38987763 | X38: =[1]合計!$H$8 -> 38097078 | Y38: =[1]合計!$K$8 -> 97.715475 | Z38: =[1]合計!$E$9 -> 20947491 | AA38: =[1]合計!$H$9 -> 20086134 | AB38: =[1]合計!$K$9 -> 95.888018 | AC38: =[1]合計!$E$10 -> 52348361 | AD38: =[1]合計!$H$10 -> 51080043 | AE38: =[1]合計!$K$10 -> 97.577158 | AF38: 合 計 | AG38: =[1]合計!$E$11 -> 19500874 | AH38: =[1]合計!$H$11 -> 19049420 | AI38: =[1]合計!$K$11 -> 97.684955 | AJ38: =[1]合計!$E$12 -> 45726179 | AK38: =[1]合計!$H$12 -> 44734759 | AL38: =[1]合計!$K$12 -> 97.831833 | AM38: =[1]合計!$E$13 -> 70064447 | AN38: =[1]合計!$H$13 -> 68691221 | AO38: =[1]合計!$K$13 -> 98.040053 | AP38: 合 計 | AQ38: =[1]合計!$E$14 -> 21538837 | AR38: =[1]合計!$H$14 -> 21246182 | AS38: =[1]合計!$K$14 -> 98.641268 | AT38: =[1]合計!$E$15 -> 31344017 | AU38: =[1]合計!$H$15 -> 30644748 | AV38: =[1]合計!$K$15 -> 97.769051 | AW38: =[1]合計!$E$16 -> 30284184 | AX38: =[1]合計!$H$16 -> 29957159 | AY38: =[1]合計!$K$16 -> 98.920146 | AZ38: 合 計 | BA38: =[1]合計!$E$17 -> 21129896 | BB38: =[1]合計!$H$17 -> 20511710 | BC38: =[1]合計!$K$17 -> 97.074354 | BD38: =[1]合計!$E$18 -> 22990664 | BE38: =[1]合計!$H$18 -> 22571113 | BF38: =[1]合計!$K$18 -> 98.175124 | BG38: =[1]合計!$E$19 -> 15041891 | BH38: =[1]合計!$H$19 -> 14955515 | BI38: =[1]合計!$K$19 -> 99.425764 | BJ38: 合 計 | BK38: =[1]合計!$E$20 -> 8203077 | BL38: =[1]合計!$H$20 -> 8012058 | BM38: =[1]合計!$K$20 -> 97.671374 | BN38: =[1]合計!$E$21 -> 12193748 | BO38: =[1]合計!$H$21 -> 12107928 | BP38: =[1]合計!$K$21 -> 99.296197 | BQ38: =[1]合計!$E$22 -> 13186547 | BR38: =[1]合計!$H$22 -> 12785635 | BS38: =[1]合計!$K$22 -> 96.959689 | BT38: 合 計 | BU38: =[1]合計!$E$23 -> 9626855 | BV38: =[1]合計!$H$23 -> 9394923 | BW38: =[1]合計!$K$23 -> 97.590781 | BX38: =[1]合計!$E$24 -> 16956940 | BY38: =[1]合計!$H$24 -> 16678048 | BZ38: =[1]合計!$K$24 -> 98.355293 | CA38: =[1]合計!$E$25 -> 10461236 | CB38: =[1]合計!$H$25 -> 10125744 | CC38: =[1]合計!$K$25 -> 96.792998 | CD38: 合 計 | CE38: =[1]合計!$E$26 -> 28895408 | CF38: =[1]合計!$H$26 -> 28317204 | CG38: =[1]合計!$K$26 -> 97.998976 | CH38: =[1]合計!$E$27 -> 15255671 | CI38: =[1]合計!$H$27 -> 15005630 | CJ38: =[1]合計!$K$27 -> 98.360996 | CK38: =[1]合計!$E$28 -> 10677489 | CL38: =[1]合計!$H$28 -> 10403141 | CM38: =[1]合計!$K$28 -> 97.430594 | CN38: 合 計 | CO38: =[1]合計!$E$29 -> 10860744 | CP38: =[1]合計!$H$29 -> 10671762 | CQ38: =[1]合計!$K$29 -> 98.259953 | CR38: =[1]合計!$E$30 -> 32257975 | CS38: =[1]合計!$H$30 -> 31553870 | CT38: =[1]合計!$K$30 -> 97.817268 | CU38: =[1]合計!$E$32 -> 6853932 | CV38: =[1]合計!$H$32 -> 6651562 | CW38: =[1]合計!$K$32 -> 97.047388 | CX38: 合 計 | CY38: =[1]合計!$E$33 -> 2717650 | CZ38: =[1]合計!$H$33 -> 2633007 | DA38: =[1]合計!$K$33 -> 96.885434 | DB38: =[1]合計!$E$34 -> 207426 | DC38: =[1]合計!$H$34 -> 203213 | DD38: =[1]合計!$K$34 -> 97.968914 | DE38: =[1]合計!$E$35 -> 738952 | DF38: =[1]合計!$H$35 -> 732970 | DG38: =[1]合計!$K$35 -> 99.190475 | DH38: 合 計 | DI38: =[1]合計!$E$37 -> 1045544 | DJ38: =[1]合計!$H$37 -> 967024 | DK38: =[1]合計!$K$37 -> 92.490034 | DL38: =[1]合計!$E$38 -> 45442 | DM38: =[1]合計!$H$38 -> 45323 | DN38: =[1]合計!$K$38 -> 99.738128 | DO38: =[1]合計!$E$39 -> 380777 | DP38: =[1]合計!$H$39 -> 342835 | DQ38: =[1]合計!$K$39 -> 90.035638 | DR38: 合 計 | DS38: =[1]合計!$E$40 -> 243448 | DT38: =[1]合計!$H$40 -> 236064 | DU38: =[1]合計!$K$40 -> 96.966909 | DV38: =[1]合計!$E$41 -> 385386 | DW38: =[1]合計!$H$41 -> 354619 | DX38: =[1]合計!$K$41 -> 92.016576 | DY38: =[1]合計!$E$42 -> 46819 | DZ38: =[1]合計!$H$42 -> 46157 | EA38: =[1]合計!$K$42 -> 98.586044 | EB38: 合 計 | EC38: =[1]合計!$E$43 -> 995079 | ED38: =[1]合計!$H$43 -> 942836 | EE38: =[1]合計!$K$43 -> 94.749864 | EF38: =[1]合計!$E$44 -> 35881 | EG38: =[1]合計!$H$44 -> 35692 | EH38: =[1]合計!$K$44 -> 99.473259 | EI38: =[1]合計!$E$45 -> 473911 | EJ38: =[1]合計!$H$45 -> 468448 | EK38: =[1]合計!$K$45 -> 98.847252
B39: 国民健康保険税 | C39: ='[1]38_国税'!$E$48 -> 100284235 | D39: ='[1]38_国税'!$H$48 -> 81167022 | E39: ='[1]38_国税'!$K$48 -> 80.936971 | F39: ='[1]38_国税'!$E$31 -> 97651008 | G39: ='[1]38_国税'!$H$31 -> 79010847 | H39: ='[1]38_国税'!$K$31 -> 80.91145 | I39: ='[1]38_国税'!$E$47 -> 2633227 | J39: ='[1]38_国税'!$H$47 -> 2156175 | K39: ='[1]38_国税'!$K$47 -> 81.88337 | L39: 国民健康保険税 | M39: ='[1]38_国税'!$E$5 -> 16641175 | N39: ='[1]38_国税'!$H$5 -> 12390916 | O39: ='[1]38_国税'!$K$5 -> 74.459382 | P39: ='[1]38_国税'!$E$6 -> 0 | Q39: ='[1]38_国税'!$H$6 -> 0 | R39: ='[1]38_国税'!$K$6 -> 0 | S39: ='[1]38_国税'!$E$7 -> 3824978 | T39: ='[1]38_国税'!$H$7 -> 3190981 | U39: ='[1]38_国税'!$K$7 -> 83.42482 | V39: 国民健康保険税 | W39: ='[1]38_国税'!$E$8 -> 4657392 | X39: ='[1]38_国税'!$H$8 -> 3892364 | Y39: ='[1]38_国税'!$K$8 -> 83.573897 | Z39: ='[1]38_国税'!$E$9 -> 3678548 | AA39: ='[1]38_国税'!$H$9 -> 2957750 | AB39: ='[1]38_国税'!$K$9 -> 80.405366 | AC39: ='[1]38_国税'!$E$10 -> 6014563 | AD39: ='[1]38_国税'!$H$10 -> 4620018 | AE39: ='[1]38_国税'!$K$10 -> 76.81386 | AF39: 国民健康保険税 | AG39: ='[1]38_国税'!$E$11 -> 3121710 | AH39: ='[1]38_国税'!$H$11 -> 2543534 | AI39: ='[1]38_国税'!$K$11 -> 81.478869 | AJ39: ='[1]38_国税'!$E$12 -> 5931724 | AK39: ='[1]38_国税'!$H$12 -> 4713734 | AL39: ='[1]38_国税'!$K$12 -> 79.466509 | AM39: ='[1]38_国税'!$E$13 -> 11239400 | AN39: ='[1]38_国税'!$H$13 -> 9086450 | AO39: ='[1]38_国税'!$K$13 -> 80.844618 | AP39: 国民健康保険税 | AQ39: ='[1]38_国税'!$E$14 -> 3205675 | AR39: ='[1]38_国税'!$H$14 -> 2738658 | AS39: ='[1]38_国税'!$K$14 -> 85.431555 | AT39: ='[1]38_国税'!$E$15 -> 4621150 | AU39: ='[1]38_国税'!$H$15 -> 3711694 | AV39: ='[1]38_国税'!$K$15 -> 80.319704 | AW39: ='[1]38_国税'!$E$16 -> 3754889 | AX39: ='[1]38_国税'!$H$16 -> 3340135 | AY39: ='[1]38_国税'!$K$16 -> 88.954294 | AZ39: 国民健康保険税 | BA39: ='[1]38_国税'!$E$17 -> 4023557 | BB39: ='[1]38_国税'!$H$17 -> 3191724 | BC39: ='[1]38_国税'!$K$17 -> 79.32593 | BD39: ='[1]38_国税'!$E$18 -> 2796303 | BE39: ='[1]38_国税'!$H$18 -> 2333967 | BF39: ='[1]38_国税'!$K$18 -> 83.466169 | BG39: ='[1]38_国税'!$E$19 -> 1754574 | BH39: ='[1]38_国税'!$H$19 -> 1642790 | BI39: ='[1]38_国税'!$K$19 -> 93.628995 | BJ39: 国民健康保険税 | BK39: ='[1]38_国税'!$E$20 -> 1654828 | BL39: ='[1]38_国税'!$H$20 -> 1274527 | BM39: ='[1]38_国税'!$K$20 -> 77.018699 | BN39: ='[1]38_国税'!$E$21 -> 2007724 | BO39: ='[1]38_国税'!$H$21 -> 1824293 | BP39: ='[1]38_国税'!$K$21 -> 90.863734 | BQ39: ='[1]38_国税'!$E$22 -> 2279782 | BR39: ='[1]38_国税'!$H$22 -> 1834348 | BS39: ='[1]38_国税'!$K$22 -> 80.461553 | BT39: 国民健康保険税 | BU39: ='[1]38_国税'!$E$23 -> 1987302 | BV39: ='[1]38_国税'!$H$23 -> 1581275 | BW39: ='[1]38_国税'!$K$23 -> 79.568933 | BX39: ='[1]38_国税'!$E$24 -> 2933719 | BY39: ='[1]38_国税'!$H$24 -> 2667379 | BZ39: ='[1]38_国税'!$K$24 -> 90.921421 | CA39: ='[1]38_国税'!$E$25 -> 2025917 | CB39: ='[1]38_国税'!$H$25 -> 1601751 | CC39: ='[1]38_国税'!$K$25 -> 79.063012 | CD39: 国民健康保険税 | CE39: ='[1]38_国税'!$E$26 -> 4082737 | CF39: ='[1]38_国税'!$H$26 -> 3229480 | CG39: ='[1]38_国税'!$K$26 -> 79.100858 | CH39: ='[1]38_国税'!$E$27 -> 1795339 | CI39: ='[1]38_国税'!$H$27 -> 1595866 | CJ39: ='[1]38_国税'!$K$27 -> 88.889396 | CK39: ='[1]38_国税'!$E$28 -> 1570756 | CL39: ='[1]38_国税'!$H$28 -> 1212942 | CM39: ='[1]38_国税'!$K$28 -> 77.220268 | CN39: 国民健康保険税 | CO39: ='[1]38_国税'!$E$29 -> 2043408 | CP39: ='[1]38_国税'!$H$29 -> 1833994 | CQ39: ='[1]38_国税'!$K$29 -> 89.751728 | CR39: ='[1]38_国税'!$E$30 -> 3858 | CS39: ='[1]38_国税'!$H$30 -> 277 | CT39: ='[1]38_国税'!$K$30 -> 7.179886 | CU39: ='[1]38_国税'!$E$32 -> 1026314 | CV39: ='[1]38_国税'!$H$32 -> 795036 | CW39: ='[1]38_国税'!$K$32 -> 77.465181 | CX39: 国民健康保険税 | CY39: ='[1]38_国税'!$E$33 -> 456563 | CZ39: ='[1]38_国税'!$H$33 -> 378408 | DA39: ='[1]38_国税'!$K$33 -> 82.88188 | DB39: ='[1]38_国税'!$E$34 -> 48197 | DC39: ='[1]38_国税'!$H$34 -> 45459 | DD39: ='[1]38_国税'!$K$34 -> 94.319148 | DE39: ='[1]38_国税'!$E$35 -> 116437 | DF39: ='[1]38_国税'!$H$35 -> 111786 | DG39: ='[1]38_国税'!$K$35 -> 96.005565 | DH39: 国民健康保険税 | DI39: ='[1]38_国税'!$E$37 -> 306612 | DJ39: ='[1]38_国税'!$H$37 -> 248152 | DK39: ='[1]38_国税'!$K$37 -> 80.933558 | DL39: ='[1]38_国税'!$E$38 -> 6987 | DM39: ='[1]38_国税'!$H$38 -> 6977 | DN39: ='[1]38_国税'!$K$38 -> 99.856877 | DO39: ='[1]38_国税'!$E$39 -> 87235 | DP39: ='[1]38_国税'!$H$39 -> 74106 | DQ39: ='[1]38_国税'!$K$39 -> 84.949848 | DR39: 国民健康保険税 | DS39: ='[1]38_国税'!$E$40 -> 88441 | DT39: ='[1]38_国税'!$H$40 -> 80808 | DU39: ='[1]38_国税'!$K$40 -> 91.369388 | DV39: ='[1]38_国税'!$E$41 -> 89016 | DW39: ='[1]38_国税'!$H$41 -> 63789 | DX39: ='[1]38_国税'!$K$41 -> 71.660151 | DY39: ='[1]38_国税'!$E$42 -> 6126 | DZ39: ='[1]38_国税'!$H$42 -> 6082 | EA39: ='[1]38_国税'!$K$42 -> 99.28175 | EB39: 国民健康保険税 | EC39: ='[1]38_国税'!$E$43 -> 311267 | ED39: ='[1]38_国税'!$H$43 -> 259272 | EE39: ='[1]38_国税'!$K$43 -> 83.295691 | EF39: ='[1]38_国税'!$E$44 -> 6265 | EG39: ='[1]38_国税'!$H$44 -> 6172 | EH39: ='[1]38_国税'!$K$44 -> 98.515563 | EI39: ='[1]38_国税'!$E$45 -> 83767 | EJ39: ='[1]38_国税'!$H$45 -> 80128 | EK39: ='[1]38_国税'!$K$45 -> 95.655807
B40: 国民健康保険料 | C40: ='[1]39_国料'!$E$48 -> 10287391 | D40: ='[1]39_国料'!$H$48 -> 8364618 | E40: ='[1]39_国料'!$K$48 -> 81.30942 | F40: ='[1]39_国料'!$E$31 -> 10287391 | G40: ='[1]39_国料'!$H$31 -> 8364618 | H40: ='[1]39_国料'!$K$31 -> 81.30942 | I40: ='[1]39_国料'!$E$47 -> 0 | J40: ='[1]39_国料'!$H$47 -> 0 | K40: ='[1]39_国料'!$K$47 -> 0 | L40: 国民健康保険料 | M40: ='[1]39_国料'!$E$5 -> 0 | N40: ='[1]39_国料'!$H$5 -> 0 | O40: ='[1]39_国料'!$K$5 -> 0 | P40: ='[1]39_国料'!$E$6 -> 5118736 | Q40: ='[1]39_国料'!$H$6 -> 4110983 | R40: ='[1]39_国料'!$K$6 -> 80.312464 | S40: ='[1]39_国料'!$E$7 -> 0 | T40: ='[1]39_国料'!$H$7 -> 0 | U40: ='[1]39_国料'!$K$7 -> 0 | V40: 国民健康保険料 | W40: ='[1]39_国料'!$E$8 -> 0 | X40: ='[1]39_国料'!$H$8 -> 0 | Y40: ='[1]39_国料'!$K$8 -> 0 | Z40: ='[1]39_国料'!$E$9 -> 0 | AA40: ='[1]39_国料'!$H$9 -> 0 | AB40: ='[1]39_国料'!$K$9 -> 0 | AC40: ='[1]39_国料'!$E$10 -> 0 | AD40: ='[1]39_国料'!$H$10 -> 0 | AE40: ='[1]39_国料'!$K$10 -> 0 | AF40: 国民健康保険料 | AG40: ='[1]39_国料'!$E$11 -> 0 | AH40: ='[1]39_国料'!$H$11 -> 0 | AI40: ='[1]39_国料'!$K$11 -> 0 | AJ40: ='[1]39_国料'!$E$12 -> 0 | AK40: ='[1]39_国料'!$H$12 -> 0 | AL40: ='[1]39_国料'!$K$12 -> 0 | AM40: ='[1]39_国料'!$E$13 -> 0 | AN40: ='[1]39_国料'!$H$13 -> 0 | AO40: ='[1]39_国料'!$K$13 -> 0 | AP40: 国民健康保険料 | AQ40: ='[1]39_国料'!$E$14 -> 0 | AR40: ='[1]39_国料'!$H$14 -> 0 | AS40: ='[1]39_国料'!$K$14 -> 0 | AT40: ='[1]39_国料'!$E$15 -> 0 | AU40: ='[1]39_国料'!$H$15 -> 0 | AV40: ='[1]39_国料'!$K$15 -> 0 | AW40: ='[1]39_国料'!$E$16 -> 0 | AX40: ='[1]39_国料'!$H$16 -> 0 | AY40: ='[1]39_国料'!$K$16 -> 0 | AZ40: 国民健康保険料 | BA40: ='[1]39_国料'!$E$17 -> 0 | BB40: ='[1]39_国料'!$H$17 -> 0 | BC40: ='[1]39_国料'!$K$17 -> 0 | BD40: ='[1]39_国料'!$E$18 -> 0 | BE40: ='[1]39_国料'!$H$18 -> 0 | BF40: ='[1]39_国料'!$K$18 -> 0 | BG40: ='[1]39_国料'!$E$19 -> 0 | BH40: ='[1]39_国料'!$H$19 -> 0 | BI40: ='[1]39_国料'!$K$19 -> 0 | BJ40: 国民健康保険料 | BK40: ='[1]39_国料'!$E$20 -> 0 | BL40: ='[1]39_国料'!$H$20 -> 0 | BM40: ='[1]39_国料'!$K$20 -> 0 | BN40: ='[1]39_国料'!$E$21 -> 0 | BO40: ='[1]39_国料'!$H$21 -> 0 | BP40: ='[1]39_国料'!$K$21 -> 0 | BQ40: ='[1]39_国料'!$E$22 -> 0 | BR40: ='[1]39_国料'!$H$22 -> 0 | BS40: ='[1]39_国料'!$K$22 -> 0 | BT40: 国民健康保険料 | BU40: ='[1]39_国料'!$E$23 -> 0 | BV40: ='[1]39_国料'!$H$23 -> 0 | BW40: ='[1]39_国料'!$K$23 -> 0 | BX40: ='[1]39_国料'!$E$24 -> 0 | BY40: ='[1]39_国料'!$H$24 -> 0 | BZ40: ='[1]39_国料'!$K$24 -> 0 | CA40: ='[1]39_国料'!$E$25 -> 0 | CB40: ='[1]39_国料'!$H$25 -> 0 | CC40: ='[1]39_国料'!$K$25 -> 0 | CD40: 国民健康保険料 | CE40: ='[1]39_国料'!$E$26 -> 0 | CF40: ='[1]39_国料'!$H$26 -> 0 | CG40: ='[1]39_国料'!$K$26 -> 0 | CH40: ='[1]39_国料'!$E$27 -> 0 | CI40: ='[1]39_国料'!$H$27 -> 0 | CJ40: ='[1]39_国料'!$K$27 -> 0 | CK40: ='[1]39_国料'!$E$28 -> 0 | CL40: ='[1]39_国料'!$H$28 -> 0 | CM40: ='[1]39_国料'!$K$28 -> 0 | CN40: 国民健康保険料 | CO40: ='[1]39_国料'!$E$29 -> 0 | CP40: ='[1]39_国料'!$H$29 -> 0 | CQ40: ='[1]39_国料'!$K$29 -> 0 | CR40: ='[1]39_国料'!$E$30 -> 5168655 | CS40: ='[1]39_国料'!$H$30 -> 4253635 | CT40: ='[1]39_国料'!$K$30 -> 82.296748 | CU40: ='[1]39_国料'!$E$32 -> 0 | CV40: ='[1]39_国料'!$H$32 -> 0 | CW40: ='[1]39_国料'!$K$32 -> 0 | CX40: 国民健康保険料 | CY40: ='[1]39_国料'!$E$33 -> 0 | CZ40: ='[1]39_国料'!$H$33 -> 0 | DA40: ='[1]39_国料'!$K$33 -> 0 | DB40: ='[1]39_国料'!$E$34 -> 0 | DC40: ='[1]39_国料'!$H$34 -> 0 | DD40: ='[1]39_国料'!$K$34 -> 0 | DE40: ='[1]39_国料'!$E$35 -> 0 | DF40: ='[1]39_国料'!$H$35 -> 0 | DG40: ='[1]39_国料'!$K$35 -> 0 | DH40: 国民健康保険料 | DI40: ='[1]39_国料'!$E$37 -> 0 | DJ40: ='[1]39_国料'!$H$37 -> 0 | DK40: ='[1]39_国料'!$K$37 -> 0 | DL40: ='[1]39_国料'!$E$38 -> 0 | DM40: ='[1]39_国料'!$H$38 -> 0 | DN40: ='[1]39_国料'!$K$38 -> 0 | DO40: ='[1]39_国料'!$E$39 -> 0 | DP40: ='[1]39_国料'!$H$39 -> 0 | DQ40: ='[1]39_国料'!$K$39 -> 0 | DR40: 国民健康保険料 | DS40: ='[1]39_国料'!$E$40 -> 0 | DT40: ='[1]39_国料'!$H$40 -> 0 | DU40: ='[1]39_国料'!$K$40 -> 0 | DV40: ='[1]39_国料'!$E$41 -> 0 | DW40: ='[1]39_国料'!$H$41 -> 0 | DX40: ='[1]39_国料'!$K$41 -> 0 | DY40: ='[1]39_国料'!$E$42 -> 0 | DZ40: ='[1]39_国料'!$H$42 -> 0 | EA40: ='[1]39_国料'!$K$42 -> 0 | EB40: 国民健康保険料 | EC40: ='[1]39_国料'!$E$43 -> 0 | ED40: ='[1]39_国料'!$H$43 -> 0 | EE40: ='[1]39_国料'!$K$43 -> 0 | EF40: ='[1]39_国料'!$E$44 -> 0 | EG40: ='[1]39_国料'!$H$44 -> 0 | EH40: ='[1]39_国料'!$K$44 -> 0 | EI40: ='[1]39_国料'!$E$45 -> 0 | EJ40: ='[1]39_国料'!$H$45 -> 0 | EK40: ='[1]39_国料'!$K$45 -> 0
