Workbook
Name _２①_下水道: #REF!
Name itiran: #REF!
Name X01Y01_50: #REF!
Name X01Y02_50: #REF!
Name X01Y03_50: #REF!
Name X01Y04_50: #REF!
Name X01Y05_50: #REF!
Name X01Y06_50: #REF!
Name X01Y07_50: #REF!
Name X01Y08_50: #REF!
Name X01Y09_50: #REF!
Name X01Y10_50: #REF!
Name X01Y11_50: #REF!
Name X01Y12_50: #REF!
Name X01Y13_50: #REF!
Name X01Y14_50: #REF!
Name X01Y15_50: #REF!
Name X01Y16_50: #REF!
Name X01Y17_50: #REF!
Name X01Y18_50: #REF!
Name X01Y19_50: #REF!
Name X01Y20_50: #REF!
Name X01Y21_50: #REF!
Name X01Y22_50: #REF!
Name X01Y23_50: #REF!
Name X01Y24_50: #REF!
Name X01Y25_50: #REF!
Name X01Y26_50: #REF!
Name X01Y27_50: #REF!
Name X01Y28_50: #REF!
Name X01Y29_50: #REF!
Name X01Y30_50: #REF!
Name X01Y31_50: #REF!
Name X01Y32_50: #REF!
Name X01Y33_50: #REF!
Name X01Y34_50: #REF!
Name X01Y35_50: #REF!
Name X01Y36_50: #REF!
Name X01Y37_50: #REF!
Name X01Y38_50: #REF!
Name X01Y39_50: #REF!
Name X01Y40_50: #REF!
Name X01Y41_50: #REF!
Name X01Y42_50: #REF!
Name X01Y43_50: #REF!
Name X01Y44_50: #REF!
Name X01Y45_50: #REF!
Name X01Y46_50: #REF!
Name X01Y47_50: #REF!
Name X02Y01_50: #REF!
Name X02Y02_50: #REF!
Name X02Y03_50: #REF!
Name X02Y04_50: #REF!
Name X02Y05_50: #REF!
Name X02Y06_50: #REF!
Name X02Y07_50: #REF!
Name X02Y08_50: #REF!
Name X02Y09_50: #REF!
Name X02Y10_50: #REF!
Name X02Y11_50: #REF!

Sheet (2)ｱ
B1: (2) 市町村税
B2: ア 平成２８年度市町村税徴収実績（決算統計） | J2: （単位：千円、％） | T2: （単位：千円、％） | AD2: （単位：千円、％） | AN2: （単位：千円、％） | AX2: （単位：千円、％） | BH2: （単位：千円、％） | BR2: （単位：千円、％） | CB2: （単位：千円、％） | CL2: （単位：千円、％） | CV2: （単位：千円、％） | DF2: （単位：千円、％） | DP2: （単位：千円、％） | DZ2: （単位：千円、％） | EJ2: （単位：千円、％）
B3: 団 体 名 | C3: 市 町 村 計 | F3: 市 計 | I3: 町 村 計 | L3: 団 体 名 | M3: 八王子市 | P3: 立 川 市 | S3: 武蔵野市 | V3: 団 体 名 | W3: 三 鷹 市 | Z3: 青 梅 市 | AC3: 府 中 市 | AF3: 団 体 名 | AG3: 昭 島 市 | AJ3: 調 布 市 | AM3: 町 田 市 | AP3: 団 体 名 | AQ3: 小金井市 | AT3: 小 平 市 | AW3: 日 野 市 | AZ3: 団 体 名 | BA3: 東村山市 | BD3: 国分寺市 | BG3: 国 立 市 | BJ3: 団 体 名 | BK3: 福 生 市 | BN3: 狛 江 市 | BQ3: 東大和市 | BT3: 団 体 名 | BU3: 清 瀬 市 | BX3: 東久留米市 | CA3: 武蔵村山市 | CD3: 団 体 名 | CE3: 多 摩 市 | CH3: 稲 城 市 | CK3: 羽 村 市 | CN3: 団 体 名 | CO3: あきる野市 | CR3: 西 東 京 市 | CU3: 瑞 穂 町 | CX3: 団 体 名 | CY3: 日の出町 | DB3: 檜 原 村 | DE3: 奥多摩町 | DH3: 団 体 名 | DI3: 大 島 町 | DL3: 利 島 村 | DO3: 新 島 村 | DR3: 団 体 名 | DS3: 神津島村 | DV3: 三 宅 村 | DY3: 御蔵島村 | EB3: 団 体 名 | EC3: 八 丈 町 | EF3: 青ケ島村 | EI3: 小笠原村
B4: 税 目 | C4: 調定済額 | D4: 収入済額 | E4: 収入 歩合 | F4: 調定済額 | G4: 収入済額 | H4: 収入 歩合 | I4: 調定済額 | J4: 収入済額 | K4: 収入 歩合 | L4: 税 目 | M4: 調定済額 | N4: 収入済額 | O4: 収入 歩合 | P4: 調定済額 | Q4: 収入済額 | R4: 収入 歩合 | S4: 調定済額 | T4: 収入済額 | U4: 収入 歩合 | V4: 税 目 | W4: 調定済額 | X4: 収入済額 | Y4: 収入 歩合 | Z4: 調定済額 | AA4: 収入済額 | AB4: 収入 歩合 | AC4: 調定済額 | AD4: 収入済額 | AE4: 収入 歩合 | AF4: 税 目 | AG4: 調定済額 | AH4: 収入済額 | AI4: 収入 歩合 | AJ4: 調定済額 | AK4: 収入済額 | AL4: 収入 歩合 | AM4: 調定済額 | AN4: 収入済額 | AO4: 収入 歩合 | AP4: 税 目 | AQ4: 調定済額 | AR4: 収入済額 | AS4: 収入 歩合 | AT4: 調定済額 | AU4: 収入済額 | AV4: 収入 歩合 | AW4: 調定済額 | AX4: 収入済額 | AY4: 収入 歩合 | AZ4: 税 目 | BA4: 調定済額 | BB4: 収入済額 | BC4: 収入 歩合 | BD4: 調定済額 | BE4: 収入済額 | BF4: 収入 歩合 | BG4: 調定済額 | BH4: 収入済額 | BI4: 収入 歩合 | BJ4: 税 目 | BK4: 調定済額 | BL4: 収入済額 | BM4: 収入 歩合 | BN4: 調定済額 | BO4: 収入済額 | BP4: 収入 歩合 | BQ4: 調定済額 | BR4: 収入済額 | BS4: 収入 歩合 | BT4: 税 目 | BU4: 調定済額 | BV4: 収入済額 | BW4: 収入 歩合 | BX4: 調定済額 | BY4: 収入済額 | BZ4: 収入 歩合 | CA4: 調定済額 | CB4: 収入済額 | CC4: 収入 歩合 | CD4: 税 目 | CE4: 調定済額 | CF4: 収入済額 | CG4: 収入 歩合 | CH4: 調定済額 | CI4: 収入済額 | CJ4: 収入 歩合 | CK4: 調定済額 | CL4: 収入済額 | CM4: 収入 歩合 | CN4: 税 目 | CO4: 調定済額 | CP4: 収入済額 | CQ4: 収入 歩合 | CR4: 調定済額 | CS4: 収入済額 | CT4: 収入 歩合 | CU4: 調定済額 | CV4: 収入済額 | CW4: 収入 歩合 | CX4: 税 目 | CY4: 調定済額 | CZ4: 収入済額 | DA4: 収入 歩合 | DB4: 調定済額 | DC4: 収入済額 | DD4: 収入 歩合 | DE4: 調定済額 | DF4: 収入済額 | DG4: 収入 歩合 | DH4: 税 目 | DI4: 調定済額 | DJ4: 収入済額 | DK4: 収入 歩合 | DL4: 調定済額 | DM4: 収入済額 | DN4: 収入 歩合 | DO4: 調定済額 | DP4: 収入済額 | DQ4: 収入 歩合 | DR4: 税 目 | DS4: 調定済額 | DT4: 収入済額 | DU4: 収入 歩合 | DV4: 調定済額 | DW4: 収入済額 | DX4: 収入 歩合 | DY4: 調定済額 | DZ4: 収入済額 | EA4: 収入 歩合 | EB4: 税 目 | EC4: 調定済額 | ED4: 収入済額 | EE4: 収入 歩合 | EF4: 調定済額 | EG4: 収入済額 | EH4: 収入 歩合 | EI4: 調定済額 | EJ4: 収入済額 | EK4: 収入 歩合
B5: １ 普通税 | C5: =[1]普通!$E$48 -> 687677395 | D5: =[1]普通!$H$48 -> 671877008 | E5: =[1]普通!$K$48 -> 97.702355 | F5: =[1]普通!$E$31 -> 674283737 | G5: =[1]普通!$H$31 -> 658975404 | H5: =[1]普通!$K$31 -> 97.72969 | I5: =[1]普通!$E$47 -> 13393658 | J5: =[1]普通!$H$47 -> 12901604 | K5: =[1]普通!$K$47 -> 96.326216 | L5: １ 普通税 | M5: =[1]普通!$E$5 -> 82793296 | N5: =[1]普通!$H$5 -> 80405007 | O5: =[1]普通!$K$5 -> 97.115359 | P5: =[1]普通!$E$6 -> 37158366 | Q5: =[1]普通!$H$6 -> 36258103 | R5: =[1]普通!$K$6 -> 97.577227 | S5: =[1]普通!$E$7 -> 38069644 | T5: =[1]普通!$H$7 -> 37173993 | U5: =[1]普通!$K$7 -> 97.647335 | V5: １ 普通税 | W5: =[1]普通!$E$8 -> 36015112 | X5: =[1]普通!$H$8 -> 35160903 | Y5: =[1]普通!$K$8 -> 97.628193 | Z5: =[1]普通!$E$9 -> 19323004 | AA5: =[1]普通!$H$9 -> 18540789 | AB5: =[1]普通!$K$9 -> 95.951898 | AC5: =[1]普通!$E$10 -> 49034548 | AD5: =[1]普通!$H$10 -> 47826635 | AE5: =[1]普通!$K$10 -> 97.536608 | AF5: １ 普通税 | AG5: =[1]普通!$E$11 -> 17978096 | AH5: =[1]普通!$H$11 -> 17550296 | AI5: =[1]普通!$K$11 -> 97.620438 | AJ5: =[1]普通!$E$12 -> 42399236 | AK5: =[1]普通!$H$12 -> 41490613 | AL5: =[1]普通!$K$12 -> 97.856983 | AM5: =[1]普通!$E$13 -> 64369464 | AN5: =[1]普通!$H$13 -> 63052611 | AO5: =[1]普通!$K$13 -> 97.954227 | AP5: １ 普通税 | AQ5: =[1]普通!$E$14 -> 19750472 | AR5: =[1]普通!$H$14 -> 19469229 | AS5: =[1]普通!$K$14 -> 98.576019 | AT5: =[1]普通!$E$15 -> 29024214 | AU5: =[1]普通!$H$15 -> 28359627 | AV5: =[1]普通!$K$15 -> 97.710233 | AW5: =[1]普通!$E$16 -> 27988865 | AX5: =[1]普通!$H$16 -> 27679604 | AY5: =[1]普通!$K$16 -> 98.895057 | AZ5: １ 普通税 | BA5: =[1]普通!$E$17 -> 19374992 | BB5: =[1]普通!$H$17 -> 18790189 | BC5: =[1]普通!$K$17 -> 96.981661 | BD5: =[1]普通!$E$18 -> 21124819 | BE5: =[1]普通!$H$18 -> 20729808 | BF5: =[1]普通!$K$18 -> 98.130109 | BG5: =[1]普通!$E$19 -> 13791666 | BH5: =[1]普通!$H$19 -> 13709977 | BI5: =[1]普通!$K$19 -> 99.407693 | BJ5: １ 普通税 | BK5: =[1]普通!$E$20 -> 7598116 | BL5: =[1]普通!$H$20 -> 7419012 | BM5: =[1]普通!$K$20 -> 97.642784 | BN5: =[1]普通!$E$21 -> 11341366 | BO5: =[1]普通!$H$21 -> 11257680 | BP5: =[1]普通!$K$21 -> 99.262117 | BQ5: =[1]普通!$E$22 -> 12182594 | BR5: =[1]普通!$H$22 -> 11817602 | BS5: =[1]普通!$K$22 -> 97.003988 | BT5: １ 普通税 | BU5: =[1]普通!$E$23 -> 8907043 | BV5: =[1]普通!$H$23 -> 8685254 | BW5: =[1]普通!$K$23 -> 97.509959 | BX5: =[1]普通!$E$24 -> 15641973 | BY5: =[1]普通!$H$24 -> 15378383 | BZ5: =[1]普通!$K$24 -> 98.314855 | CA5: =[1]普通!$E$25 -> 9591882 | CB5: =[1]普通!$H$25 -> 9274465 | CC5: =[1]普通!$K$25 -> 96.690775 | CD5: １ 普通税 | CE5: =[1]普通!$E$26 -> 27147881 | CF5: =[1]普通!$H$26 -> 26598210 | CG5: =[1]普通!$K$26 -> 97.975271 | CH5: =[1]普通!$E$27 -> 14042114 | CI5: =[1]普通!$H$27 -> 13815997 | CJ5: =[1]普通!$K$27 -> 98.389723 | CK5: =[1]普通!$E$28 -> 9845782 | CL5: =[1]普通!$H$28 -> 9584397 | CM5: =[1]普通!$K$28 -> 97.345208 | CN5: １ 普通税 | CO5: =[1]普通!$E$29 -> 9989888 | CP5: =[1]普通!$H$29 -> 9811303 | CQ5: =[1]普通!$K$29 -> 98.212342 | CR5: =[1]普通!$E$30 -> 29799304 | CS5: =[1]普通!$H$30 -> 29135717 | CT5: =[1]普通!$K$30 -> 97.773146 | CU5: =[1]普通!$E$32 -> 6300079 | CV5: =[1]普通!$H$32 -> 6109094 | CW5: =[1]普通!$K$32 -> 96.96853 | CX5: １ 普通税 | CY5: =[1]普通!$E$33 -> 2511827 | CZ5: =[1]普通!$H$33 -> 2434184 | DA5: =[1]普通!$K$33 -> 96.908903 | DB5: =[1]普通!$E$34 -> 205482 | DC5: =[1]普通!$H$34 -> 201269 | DD5: =[1]普通!$K$34 -> 97.949699 | DE5: =[1]普通!$E$35 -> 731544 | DF5: =[1]普通!$H$35 -> 725620 | DG5: =[1]普通!$K$35 -> 99.190206 | DH5: １ 普通税 | DI5: =[1]普通!$E$37 -> 1041613 | DJ5: =[1]普通!$H$37 -> 963093 | DK5: =[1]普通!$K$37 -> 92.461692 | DL5: =[1]普通!$E$38 -> 45442 | DM5: =[1]普通!$H$38 -> 45323 | DN5: =[1]普通!$K$38 -> 99.738128 | DO5: =[1]普通!$E$39 -> 380393 | DP5: =[1]普通!$H$39 -> 342451 | DQ5: =[1]普通!$K$39 -> 90.025579 | DR5: １ 普通税 | DS5: =[1]普通!$E$40 -> 243448 | DT5: =[1]普通!$H$40 -> 236064 | DU5: =[1]普通!$K$40 -> 96.966909 | DV5: =[1]普通!$E$41 -> 382140 | DW5: =[1]普通!$H$41 -> 351373 | DX5: =[1]普通!$K$41 -> 91.948762 | DY5: =[1]普通!$E$42 -> 46819 | DZ5: =[1]普通!$H$42 -> 46157 | EA5: =[1]普通!$K$42 -> 98.586044 | EB5: １ 普通税 | EC5: =[1]普通!$E$43 -> 995079 | ED5: =[1]普通!$H$43 -> 942836 | EE5: =[1]普通!$K$43 -> 94.749864 | EF5: =[1]普通!$E$44 -> 35881 | EG5: =[1]普通!$H$44 -> 35692 | EH5: =[1]普通!$K$44 -> 99.473259 | EI5: =[1]普通!$E$45 -> 473911 | EJ5: =[1]普通!$H$45 -> 468448 | EK5: =[1]普通!$K$45 -> 98.847252
B6: (1) 法定普通税 | C6: =[1]法普!$E$48 -> 687677395 | D6: =[1]法普!$H$48 -> 671877008 | E6: =[1]法普!$K$48 -> 97.702355 | F6: =[1]法普!$E$31 -> 674283737 | G6: =[1]法普!$H$31 -> 658975404 | H6: =[1]法普!$K$31 -> 97.72969 | I6: =[1]法普!$E$47 -> 13393658 | J6: =[1]法普!$H$47 -> 12901604 | K6: =[1]法普!$K$47 -> 96.326216 | L6: (1) 法定普通税 | M6: =[1]法普!$E$5 -> 82793296 | N6: =[1]法普!$H$5 -> 80405007 | O6: =[1]法普!$K$5 -> 97.115359 | P6: =[1]法普!$E$6 -> 37158366 | Q6: =[1]法普!$H$6 -> 36258103 | R6: =[1]法普!$K$6 -> 97.577227 | S6: =[1]法普!$E$7 -> 38069644 | T6: =[1]法普!$H$7 -> 37173993 | U6: =[1]法普!$K$7 -> 97.647335 | V6: (1) 法定普通税 | W6: =[1]法普!$E$8 -> 36015112 | X6: =[1]法普!$H$8 -> 35160903 | Y6: =[1]法普!$K$8 -> 97.628193 | Z6: =[1]法普!$E$9 -> 19323004 | AA6: =[1]法普!$H$9 -> 18540789 | AB6: =[1]法普!$K$9 -> 95.951898 | AC6: =[1]法普!$E$10 -> 49034548 | AD6: =[1]法普!$H$10 -> 47826635 | AE6: =[1]法普!$K$10 -> 97.536608 | AF6: (1) 法定普通税 | AG6: =[1]法普!$E$11 -> 17978096 | AH6: =[1]法普!$H$11 -> 17550296 | AI6: =[1]法普!$K$11 -> 97.620438 | AJ6: =[1]法普!$E$12 -> 42399236 | AK6: =[1]法普!$H$12 -> 41490613 | AL6: =[1]法普!$K$12 -> 97.856983 | AM6: =[1]法普!$E$13 -> 64369464 | AN6: =[1]法普!$H$13 -> 63052611 | AO6: =[1]法普!$K$13 -> 97.954227 | AP6: (1) 法定普通税 | AQ6: =[1]法普!$E$14 -> 19750472 | AR6: =[1]法普!$H$14 -> 19469229 | AS6: =[1]法普!$K$14 -> 98.576019 | AT6: =[1]法普!$E$15 -> 29024214 | AU6: =[1]法普!$H$15 -> 28359627 | AV6: =[1]法普!$K$15 -> 97.710233 | AW6: =[1]法普!$E$16 -> 27988865 | AX6: =[1]法普!$H$16 -> 27679604 | AY6: =[1]法普!$K$16 -> 98.895057 | AZ6: (1) 法定普通税 | BA6: =[1]法普!$E$17 -> 19374992 | BB6: =[1]法普!$H$17 -> 18790189 | BC6: =[1]法普!$K$17 -> 96.981661 | BD6: =[1]法普!$E$18 -> 21124819 | BE6: =[1]法普!$H$18 -> 20729808 | BF6: =[1]法普!$K$18 -> 98.130109 | BG6: =[1]法普!$E$19 -> 13791666 | BH6: =[1]法普!$H$19 -> 13709977 | BI6: =[1]法普!$K$19 -> 99.407693 | BJ6: (1) 法定普通税 | BK6: =[1]法普!$E$20 -> 7598116 | BL6: =[1]法普!$H$20 -> 7419012 | BM6: =[1]法普!$K$20 -> 97.642784 | BN6: =[1]法普!$E$21 -> 11341366 | BO6: =[1]法普!$H$21 -> 11257680 | BP6: =[1]法普!$K$21 -> 99.262117 | BQ6: =[1]法普!$E$22 -> 12182594 | BR6: =[1]法普!$H$22 -> 11817602 | BS6: =[1]法普!$K$22 -> 97.003988 | BT6: (1) 法定普通税 | BU6: =[1]法普!$E$23 -> 8907043 | BV6: =[1]法普!$H$23 -> 8685254 | BW6: =[1]法普!$K$23 -> 97.509959 | BX6: =[1]法普!$E$24 -> 15641973 | BY6: =[1]法普!$H$24 -> 15378383 | BZ6: =[1]法普!$K$24 -> 98.314855 | CA6: =[1]法普!$E$25 -> 9591882 | CB6: =[1]法普!$H$25 -> 9274465 | CC6: =[1]法普!$K$25 -> 96.690775 | CD6: (1) 法定普通税 | CE6: =[1]法普!$E$26 -> 27147881 | CF6: =[1]法普!$H$26 -> 26598210 | CG6: =[1]法普!$K$26 -> 97.975271 | CH6: =[1]法普!$E$27 -> 14042114 | CI6: =[1]法普!$H$27 -> 13815997 | CJ6: =[1]法普!$K$27 -> 98.389723 | CK6: =[1]法普!$E$28 -> 9845782 | CL6: =[1]法普!$H$28 -> 9584397 | CM6: =[1]法普!$K$28 -> 97.345208 | CN6: (1) 法定普通税 | CO6: =[1]法普!$E$29 -> 9989888 | CP6: =[1]法普!$H$29 -> 9811303 | CQ6: =[1]法普!$K$29 -> 98.212342 | CR6: =[1]法普!$E$30 -> 29799304 | CS6: =[1]法普!$H$30 -> 29135717 | CT6: =[1]法普!$K$30 -> 97.773146 | CU6: =[1]法普!$E$32 -> 6300079 | CV6: =[1]法普!$H$32 -> 6109094 | CW6: =[1]法普!$K$32 -> 96.96853 | CX6: (1) 法定普通税 | CY6: =[1]法普!$E$33 -> 2511827 | CZ6: =[1]法普!$H$33 -> 2434184 | DA6: =[1]法普!$K$33 -> 96.908903 | DB6: =[1]法普!$E$34 -> 205482 | DC6: =[1]法普!$H$34 -> 201269 | DD6: =[1]法普!$K$34 -> 97.949699 | DE6: =[1]法普!$E$35 -> 731544 | DF6: =[1]法普!$H$35 -> 725620 | DG6: =[1]法普!$K$35 -> 99.190206 | DH6: (1) 法定普通税 | DI6: =[1]法普!$E$37 -> 1041613 | DJ6: =[1]法普!$H$37 -> 963093 | DK6: =[1]法普!$K$37 -> 92.461692 | DL6: =[1]法普!$E$38 -> 45442 | DM6: =[1]法普!$H$38 -> 45323 | DN6: =[1]法普!$K$38 -> 99.738128 | DO6: =[1]法普!$E$39 -> 380393 | DP6: =[1]法普!$H$39 -> 342451 | DQ6: =[1]法普!$K$39 -> 90.025579 | DR6: (1) 法定普通税 | DS6: =[1]法普!$E$40 -> 243448 | DT6: =[1]法普!$H$40 -> 236064 | DU6: =[1]法普!$K$40 -> 96.966909 | DV6: =[1]法普!$E$41 -> 382140 | DW6: =[1]法普!$H$41 -> 351373 | DX6: =[1]法普!$K$41 -> 91.948762 | DY6: =[1]法普!$E$42 -> 46819 | DZ6: =[1]法普!$H$42 -> 46157 | EA6: =[1]法普!$K$42 -> 98.586044 | EB6: (1) 法定普通税 | EC6: =[1]法普!$E$43 -> 995079 | ED6: =[1]法普!$H$43 -> 942836 | EE6: =[1]法普!$K$43 -> 94.749864 | EF6: =[1]法普!$E$44 -> 35881 | EG6: =[1]法普!$H$44 -> 35692 | EH6: =[1]法普!$K$44 -> 99.473259 | EI6: =[1]法普!$E$45 -> 473911 | EJ6: =[1]法普!$H$45 -> 468448 | EK6: =[1]法普!$K$45 -> 98.847252
B7: ア 市町村民税 | C7: =[1]市民!$E$48 -> 366103220 | D7: =[1]市民!$H$48 -> 355015098 | E7: =[1]市民!$K$48 -> 96.971313 | F7: =[1]市民!$E$31 -> 360486838 | G7: =[1]市民!$H$31 -> 349627551 | H7: =[1]市民!$K$31 -> 96.987605 | I7: =[1]市民!$E$47 -> 5616382 | J7: =[1]市民!$H$47 -> 5387547 | K7: =[1]市民!$K$47 -> 95.92558 | L7: ア 市町村民税 | M7: =[1]市民!$E$5 -> 42770994 | N7: =[1]市民!$H$5 -> 41211116 | O7: =[1]市民!$K$5 -> 96.352954 | P7: =[1]市民!$E$6 -> 18161061 | Q7: =[1]市民!$H$6 -> 17519454 | R7: =[1]市民!$K$6 -> 96.467128 | S7: =[1]市民!$E$7 -> 21351436 | T7: =[1]市民!$H$7 -> 20649201 | U7: =[1]市民!$K$7 -> 96.711064 | V7: ア 市町村民税 | W7: =[1]市民!$E$8 -> 21174222 | X7: =[1]市民!$H$8 -> 20495795 | Y7: =[1]市民!$K$8 -> 96.795977 | Z7: =[1]市民!$E$9 -> 9397480 | AA7: =[1]市民!$H$9 -> 8933230 | AB7: =[1]市民!$K$9 -> 95.059846 | AC7: =[1]市民!$E$10 -> 25295968 | AD7: =[1]市民!$H$10 -> 24411851 | AE7: =[1]市民!$K$10 -> 96.504909 | AF7: ア 市町村民税 | AG7: =[1]市民!$E$11 -> 8555261 | AH7: =[1]市民!$H$11 -> 8246550 | AI7: =[1]市民!$K$11 -> 96.391565 | AJ7: =[1]市民!$E$12 -> 24313843 | AK7: =[1]市民!$H$12 -> 23717790 | AL7: =[1]市民!$K$12 -> 97.548504 | AM7: =[1]市民!$E$13 -> 35547598 | AN7: =[1]市民!$H$13 -> 34526189 | AO7: =[1]市民!$K$13 -> 97.126644 | AP7: ア 市町村民税 | AQ7: =[1]市民!$E$14 -> 11766709 | AR7: =[1]市民!$H$14 -> 11533705 | AS7: =[1]市民!$K$14 -> 98.019803 | AT7: =[1]市民!$E$15 -> 15984624 | AU7: =[1]市民!$H$15 -> 15508916 | AV7: =[1]市民!$K$15 -> 97.023965 | AW7: =[1]市民!$E$16 -> 15198025 | AX7: =[1]市民!$H$16 -> 14982787 | AY7: =[1]市民!$K$16 -> 98.583777 | AZ7: ア 市町村民税 | BA7: =[1]市民!$E$17 -> 10476135 | BB7: =[1]市民!$H$17 -> 10038035 | BC7: =[1]市民!$K$17 -> 95.818114 | BD7: =[1]市民!$E$18 -> 12175887 | BE7: =[1]市民!$H$18 -> 11879639 | BF7: =[1]市民!$K$18 -> 97.566929 | BG7: =[1]市民!$E$19 -> 7630025 | BH7: =[1]市民!$H$19 -> 7570335 | BI7: =[1]市民!$K$19 -> 99.217696 | BJ7: ア 市町村民税 | BK7: =[1]市民!$E$20 -> 3886491 | BL7: =[1]市民!$H$20 -> 3761606 | BM7: =[1]市民!$K$20 -> 96.78669 | BN7: =[1]市民!$E$21 -> 6824161 | BO7: =[1]市民!$H$21 -> 6751303 | BP7: =[1]市民!$K$21 -> 98.932352 | BQ7: =[1]市民!$E$22 -> 6243459 | BR7: =[1]市民!$H$22 -> 6025100 | BS7: =[1]市民!$K$22 -> 96.502596 | BT7: ア 市町村民税 | BU7: =[1]市民!$E$23 -> 4809770 | BV7: =[1]市民!$H$23 -> 4635325 | BW7: =[1]市民!$K$23 -> 96.373111 | BX7: =[1]市民!$E$24 -> 8237980 | BY7: =[1]市民!$H$24 -> 8051759 | BZ7: =[1]市民!$K$24 -> 97.739482 | CA7: =[1]市民!$E$25 -> 4359810 | CB7: =[1]市民!$H$25 -> 4145649 | CC7: =[1]市民!$K$25 -> 95.087836 | CD7: ア 市町村民税 | CE7: =[1]市民!$E$26 -> 12549696 | CF7: =[1]市民!$H$26 -> 12165577 | CG7: =[1]市民!$K$26 -> 96.939217 | CH7: =[1]市民!$E$27 -> 7533821 | CI7: =[1]市民!$H$27 -> 7413558 | CJ7: =[1]市民!$K$27 -> 98.403692 | CK7: =[1]市民!$E$28 -> 4495769 | CL7: =[1]市民!$H$28 -> 4322054 | CM7: =[1]市民!$K$28 -> 96.136034 | CN7: ア 市町村民税 | CO7: =[1]市民!$E$29 -> 4903965 | CP7: =[1]市民!$H$29 -> 4787788 | CQ7: =[1]市民!$K$29 -> 97.630958 | CR7: =[1]市民!$E$30 -> 16842648 | CS7: =[1]市民!$H$30 -> 16343239 | CT7: =[1]市民!$K$30 -> 97.034855 | CU7: =[1]市民!$E$32 -> 2527643 | CV7: =[1]市民!$H$32 -> 2409818 | CW7: =[1]市民!$K$32 -> 95.338543 | CX7: ア 市町村民税 | CY7: =[1]市民!$E$33 -> 1057511 | CZ7: =[1]市民!$H$33 -> 1019419 | DA7: =[1]市民!$K$33 -> 96.397957 | DB7: =[1]市民!$E$34 -> 87113 | DC7: =[1]市民!$H$34 -> 85927 | DD7: =[1]市民!$K$34 -> 98.63855 | DE7: =[1]市民!$E$35 -> 246534 | DF7: =[1]市民!$H$35 -> 244389 | DG7: =[1]市民!$K$35 -> 99.129937 | DH7: ア 市町村民税 | DI7: =[1]市民!$E$37 -> 470973 | DJ7: =[1]市民!$H$37 -> 449958 | DK7: =[1]市民!$K$37 -> 95.537961 | DL7: =[1]市民!$E$38 -> 24058 | DM7: =[1]市民!$H$38 -> 23967 | DN7: =[1]市民!$K$38 -> 99.621747 | DO7: =[1]市民!$E$39 -> 143716 | DP7: =[1]市民!$H$39 -> 140224 | DQ7: =[1]市民!$K$39 -> 97.570208 | DR7: ア 市町村民税 | DS7: =[1]市民!$E$40 -> 117028 | DT7: =[1]市民!$H$40 -> 113018 | DU7: =[1]市民!$K$40 -> 96.57347 | DV7: =[1]市民!$E$41 -> 187068 | DW7: =[1]市民!$H$41 -> 171958 | DX7: =[1]市民!$K$41 -> 91.922723 | DY7: =[1]市民!$E$42 -> 21871 | DZ7: =[1]市民!$H$42 -> 21209 | EA7: =[1]市民!$K$42 -> 96.973161 | EB7: ア 市町村民税 | EC7: =[1]市民!$E$43 -> 419525 | ED7: =[1]市民!$H$43 -> 398372 | EE7: =[1]市民!$K$43 -> 94.957869 | EF7: =[1]市民!$E$44 -> 18712 | EG7: =[1]市民!$H$44 -> 18580 | EH7: =[1]市民!$K$44 -> 99.29457 | EI7: =[1]市民!$E$45 -> 294630 | EJ7: =[1]市民!$H$45 -> 290708 | EK7: =[1]市民!$K$45 -> 98.668839
B8: (ｱ)個人均等割 | C8: ='[1]04_個均'!$E$48 -> 7580052 | D8: ='[1]04_個均'!$H$48 -> 7315222 | E8: ='[1]04_個均'!$K$48 -> 96.506224 | F8: ='[1]04_個均'!$E$31 -> 7427000 | G8: ='[1]04_個均'!$H$31 -> 7169334 | H8: ='[1]04_個均'!$K$31 -> 96.530685 | I8: ='[1]04_個均'!$E$47 -> 153052 | J8: ='[1]04_個均'!$H$47 -> 145888 | K8: ='[1]04_個均'!$K$47 -> 95.319238 | L8: (ｱ)個人均等割 | M8: ='[1]04_個均'!$E$5 -> 976164 | N8: ='[1]04_個均'!$H$5 -> 937175 | O8: ='[1]04_個均'!$K$5 -> 96.005897 | P8: ='[1]04_個均'!$E$6 -> 332400 | Q8: ='[1]04_個均'!$H$6 -> 317272 | R8: ='[1]04_個均'!$K$6 -> 95.448857 | S8: ='[1]04_個均'!$E$7 -> 289241 | T8: ='[1]04_個均'!$H$7 -> 278550 | U8: ='[1]04_個均'!$K$7 -> 96.303774 | V8: (ｱ)個人均等割 | W8: ='[1]04_個均'!$E$8 -> 352140 | X8: ='[1]04_個均'!$H$8 -> 339212 | Y8: ='[1]04_個均'!$K$8 -> 96.328733 | Z8: ='[1]04_個均'!$E$9 -> 244055 | AA8: ='[1]04_個均'!$H$9 -> 231383 | AB8: ='[1]04_個均'!$K$9 -> 94.807728 | AC8: ='[1]04_個均'!$E$10 -> 476257 | AD8: ='[1]04_個均'!$H$10 -> 456483 | AE8: ='[1]04_個均'!$K$10 -> 95.84804 | AF8: (ｱ)個人均等割 | AG8: ='[1]04_個均'!$E$11 -> 189187 | AH8: ='[1]04_個均'!$H$11 -> 178783 | AI8: ='[1]04_個均'!$K$11 -> 94.500679 | AJ8: ='[1]04_個均'!$E$12 -> 430605 | AK8: ='[1]04_個均'!$H$12 -> 417674 | AL8: ='[1]04_個均'!$K$12 -> 96.997016 | AM8: ='[1]04_個均'!$E$13 -> 740931 | AN8: ='[1]04_個均'!$H$13 -> 718779 | AO8: ='[1]04_個均'!$K$13 -> 97.010248 | AP8: (ｱ)個人均等割 | AQ8: ='[1]04_個均'!$E$14 -> 224428 | AR8: ='[1]04_個均'!$H$14 -> 219851 | AS8: ='[1]04_個均'!$K$14 -> 97.960593 | AT8: ='[1]04_個均'!$E$15 -> 327955 | AU8: ='[1]04_個均'!$H$15 -> 317070 | AV8: ='[1]04_個均'!$K$15 -> 96.680947 | AW8: ='[1]04_個均'!$E$16 -> 326543 | AX8: ='[1]04_個均'!$H$16 -> 321408 | AY8: ='[1]04_個均'!$K$16 -> 98.427466 | AZ8: (ｱ)個人均等割 | BA8: ='[1]04_個均'!$E$17 -> 262622 | BB8: ='[1]04_個均'!$H$17 -> 251152 | BC8: ='[1]04_個均'!$K$17 -> 95.632506 | BD8: ='[1]04_個均'!$E$18 -> 229499 | BE8: ='[1]04_個均'!$H$18 -> 223271 | BF8: ='[1]04_個均'!$K$18 -> 97.286263 | BG8: ='[1]04_個均'!$E$19 -> 135004 | BH8: ='[1]04_個均'!$H$19 -> 133916 | BI8: ='[1]04_個均'!$K$19 -> 99.194098 | BJ8: (ｱ)個人均等割 | BK8: ='[1]04_個均'!$E$20 -> 106200 | BL8: ='[1]04_個均'!$H$20 -> 102821 | BM8: ='[1]04_個均'!$K$20 -> 96.818267 | BN8: ='[1]04_個均'!$E$21 -> 151064 | BO8: ='[1]04_個均'!$H$21 -> 149433 | BP8: ='[1]04_個均'!$K$21 -> 98.920325 | BQ8: ='[1]04_個均'!$E$22 -> 148759 | BR8: ='[1]04_個均'!$H$22 -> 143335 | BS8: ='[1]04_個均'!$K$22 -> 96.353834 | BT8: (ｱ)個人均等割 | BU8: ='[1]04_個均'!$E$23 -> 126500 | BV8: ='[1]04_個均'!$H$23 -> 121641 | BW8: ='[1]04_個均'!$K$23 -> 96.158893 | BX8: ='[1]04_個均'!$E$24 -> 202497 | BY8: ='[1]04_個均'!$H$24 -> 197713 | BZ8: ='[1]04_個均'!$K$24 -> 97.637496 | CA8: ='[1]04_個均'!$E$25 -> 120597 | CB8: ='[1]04_個均'!$H$25 -> 114147 | CC8: ='[1]04_個均'!$K$25 -> 94.651608 | CD8: (ｱ)個人均等割 | CE8: ='[1]04_個均'!$E$26 -> 268288 | CF8: ='[1]04_個均'!$H$26 -> 259151 | CG8: ='[1]04_個均'!$K$26 -> 96.594331 | CH8: ='[1]04_個均'!$E$27 -> 153890 | CI8: ='[1]04_個均'!$H$27 -> 151348 | CJ8: ='[1]04_個均'!$K$27 -> 98.348171 | CK8: ='[1]04_個均'!$E$28 -> 104936 | CL8: ='[1]04_個均'!$H$28 -> 100266 | CM8: ='[1]04_個均'!$K$28 -> 95.549668 | CN8: (ｱ)個人均等割 | CO8: ='[1]04_個均'!$E$29 -> 141993 | CP8: ='[1]04_個均'!$H$29 -> 138617 | CQ8: ='[1]04_個均'!$K$29 -> 97.622418 | CR8: ='[1]04_個均'!$E$30 -> 365245 | CS8: ='[1]04_個均'!$H$30 -> 348883 | CT8: ='[1]04_個均'!$K$30 -> 95.520267 | CU8: ='[1]04_個均'!$E$32 -> 61685 | CV8: ='[1]04_個均'!$H$32 -> 58078 | CW8: ='[1]04_個均'!$K$32 -> 94.152549 | CX8: (ｱ)個人均等割 | CY8: ='[1]04_個均'!$E$33 -> 29858 | CZ8: ='[1]04_個均'!$H$33 -> 28618 | DA8: ='[1]04_個均'!$K$33 -> 95.847009 | DB8: ='[1]04_個均'!$E$34 -> 3312 | DC8: ='[1]04_個均'!$H$34 -> 3267 | DD8: ='[1]04_個均'!$K$34 -> 98.641304 | DE8: ='[1]04_個均'!$E$35 -> 9160 | DF8: ='[1]04_個均'!$H$35 -> 9068 | DG8: ='[1]04_個均'!$K$35 -> 98.995633 | DH8: (ｱ)個人均等割 | DI8: ='[1]04_個均'!$E$37 -> 14740 | DJ8: ='[1]04_個均'!$H$37 -> 13996 | DK8: ='[1]04_個均'!$K$37 -> 94.95251 | DL8: ='[1]04_個均'!$E$38 -> 634 | DM8: ='[1]04_個均'!$H$38 -> 634 | DN8: ='[1]04_個均'!$K$38 -> 100 | DO8: ='[1]04_個均'!$E$39 -> 4713 | DP8: ='[1]04_個均'!$H$39 -> 4609 | DQ8: ='[1]04_個均'!$K$39 -> 97.793338 | DR8: (ｱ)個人均等割 | DS8: ='[1]04_個均'!$E$40 -> 3240 | DT8: ='[1]04_個均'!$H$40 -> 3177 | DU8: ='[1]04_個均'!$K$40 -> 98.055556 | DV8: ='[1]04_個均'!$E$41 -> 5017 | DW8: ='[1]04_個均'!$H$41 -> 4579 | DX8: ='[1]04_個均'!$K$41 -> 91.269683 | DY8: ='[1]04_個均'!$E$42 -> 650 | DZ8: ='[1]04_個均'!$H$42 -> 637 | EA8: ='[1]04_個均'!$K$42 -> 98 | EB8: (ｱ)個人均等割 | EC8: ='[1]04_個均'!$E$43 -> 13535 | ED8: ='[1]04_個均'!$H$43 -> 12795 | EE8: ='[1]04_個均'!$K$43 -> 94.532693 | EF8: ='[1]04_個均'!$E$44 -> 359 | EG8: ='[1]04_個均'!$H$44 -> 354 | EH8: ='[1]04_個均'!$K$44 -> 98.607242 | EI8: ='[1]04_個均'!$E$45 -> 6149 | EJ8: ='[1]04_個均'!$H$45 -> 6076 | EK8: ='[1]04_個均'!$K$45 -> 98.812815
B9: (ｲ)所得割 | C9: ='[1]05_所割'!$E$48 -> 310602274 | D9: ='[1]05_所割'!$H$48 -> 300275212 | E9: ='[1]05_所割'!$K$48 -> 96.675149 | F9: ='[1]05_所割'!$E$31 -> 306107623 | G9: ='[1]05_所割'!$H$31 -> 295994006 | H9: ='[1]05_所割'!$K$31 -> 96.696058 | I9: ='[1]05_所割'!$E$47 -> 4494651 | J9: ='[1]05_所割'!$H$47 -> 4281206 | K9: ='[1]05_所割'!$K$47 -> 95.251133 | L9: (ｲ)所得割 | M9: ='[1]05_所割'!$E$5 -> 36324556 | N9: ='[1]05_所割'!$H$5 -> 34873700 | O9: ='[1]05_所割'!$K$5 -> 96.005853 | P9: ='[1]05_所割'!$E$6 -> 12930839 | Q9: ='[1]05_所割'!$H$6 -> 12342210 | R9: ='[1]05_所割'!$K$6 -> 95.447867 | S9: ='[1]05_所割'!$E$7 -> 17829424 | T9: ='[1]05_所割'!$H$7 -> 17170453 | U9: ='[1]05_所割'!$K$7 -> 96.304025 | V9: (ｲ)所得割 | W9: ='[1]05_所割'!$E$8 -> 17553420 | X9: ='[1]05_所割'!$H$8 -> 16914306 | Y9: ='[1]05_所割'!$K$8 -> 96.359034 | Z9: ='[1]05_所割'!$E$9 -> 7991087 | AA9: ='[1]05_所割'!$H$9 -> 7576183 | AB9: ='[1]05_所割'!$K$9 -> 94.807915 | AC9: ='[1]05_所割'!$E$10 -> 20259313 | AD9: ='[1]05_所割'!$H$10 -> 19422611 | AE9: ='[1]05_所割'!$K$10 -> 95.870038 | AF9: (ｲ)所得割 | AG9: ='[1]05_所割'!$E$11 -> 7066010 | AH9: ='[1]05_所割'!$H$11 -> 6779376 | AI9: ='[1]05_所割'!$K$11 -> 95.943482 | AJ9: ='[1]05_所割'!$E$12 -> 19723598 | AK9: ='[1]05_所割'!$H$12 -> 19158100 | AL9: ='[1]05_所割'!$K$12 -> 97.132886 | AM9: ='[1]05_所割'!$E$13 -> 31062629 | AN9: ='[1]05_所割'!$H$13 -> 30133982 | AO9: ='[1]05_所割'!$K$13 -> 97.010404 | AP9: (ｲ)所得割 | AQ9: ='[1]05_所割'!$E$14 -> 10753737 | AR9: ='[1]05_所割'!$H$14 -> 10534456 | AS9: ='[1]05_所割'!$K$14 -> 97.960886 | AT9: ='[1]05_所割'!$E$15 -> 13617199 | AU9: ='[1]05_所割'!$H$15 -> 13164359 | AV9: ='[1]05_所割'!$K$15 -> 96.6745 | AW9: ='[1]05_所割'!$E$16 -> 12826177 | AX9: ='[1]05_所割'!$H$16 -> 12624469 | AY9: ='[1]05_所割'!$K$16 -> 98.427372 | AZ9: (ｲ)所得割 | BA9: ='[1]05_所割'!$E$17 -> 9387375 | BB9: ='[1]05_所割'!$H$17 -> 8977285 | BC9: ='[1]05_所割'!$K$17 -> 95.631473 | BD9: ='[1]05_所割'!$E$18 -> 10950563 | BE9: ='[1]05_所割'!$H$18 -> 10668000 | BF9: ='[1]05_所割'!$K$18 -> 97.419649 | BG9: ='[1]05_所割'!$E$19 -> 6823258 | BH9: ='[1]05_所割'!$H$19 -> 6768239 | BI9: ='[1]05_所割'!$K$19 -> 99.193655 | BJ9: (ｲ)所得割 | BK9: ='[1]05_所割'!$E$20 -> 3406695 | BL9: ='[1]05_所割'!$H$20 -> 3298313 | BM9: ='[1]05_所割'!$K$20 -> 96.818559 | BN9: ='[1]05_所割'!$E$21 -> 6376454 | BO9: ='[1]05_所割'!$H$21 -> 6307519 | BP9: ='[1]05_所割'!$K$21 -> 98.918913 | BQ9: ='[1]05_所割'!$E$22 -> 5571310 | BR9: ='[1]05_所割'!$H$22 -> 5368145 | BS9: ='[1]05_所割'!$K$22 -> 96.353371 | BT9: (ｲ)所得割 | BU9: ='[1]05_所割'!$E$23 -> 4385350 | BV9: ='[1]05_所割'!$H$23 -> 4217407 | BW9: ='[1]05_所割'!$K$23 -> 96.170363 | BX9: ='[1]05_所割'!$E$24 -> 7405177 | BY9: ='[1]05_所割'!$H$24 -> 7230217 | BZ9: ='[1]05_所割'!$K$24 -> 97.637329 | CA9: ='[1]05_所割'!$E$25 -> 3704410 | CB9: ='[1]05_所割'!$H$25 -> 3506308 | CC9: ='[1]05_所割'!$K$25 -> 94.652266 | CD9: (ｲ)所得割 | CE9: ='[1]05_所割'!$E$26 -> 10564301 | CF9: ='[1]05_所割'!$H$26 -> 10204551 | CG9: ='[1]05_所割'!$K$26 -> 96.594663 | CH9: ='[1]05_所割'!$E$27 -> 6800759 | CI9: ='[1]05_所割'!$H$27 -> 6688318 | CJ9: ='[1]05_所割'!$K$27 -> 98.34664 | CK9: ='[1]05_所割'!$E$28 -> 3618770 | CL9: ='[1]05_所割'!$H$28 -> 3459388 | CM9: ='[1]05_所割'!$K$28 -> 95.595686 | CN9: (ｲ)所得割 | CO9: ='[1]05_所割'!$E$29 -> 4379369 | CP9: ='[1]05_所割'!$H$29 -> 4276054 | CQ9: ='[1]05_所割'!$K$29 -> 97.64087 | CR9: ='[1]05_所割'!$E$30 -> 14795843 | CS9: ='[1]05_所割'!$H$30 -> 14330057 | CT9: ='[1]05_所割'!$K$30 -> 96.851913 | CU9: ='[1]05_所割'!$E$32 -> 1900365 | CV9: ='[1]05_所割'!$H$32 -> 1789212 | CW9: ='[1]05_所割'!$K$32 -> 94.150966 | CX9: (ｲ)所得割 | CY9: ='[1]05_所割'!$E$33 -> 822777 | CZ9: ='[1]05_所割'!$H$33 -> 788117 | DA9: ='[1]05_所割'!$K$33 -> 95.787437 | DB9: ='[1]05_所割'!$E$34 -> 77297 | DC9: ='[1]05_所割'!$H$34 -> 76226 | DD9: ='[1]05_所割'!$K$34 -> 98.614435 | DE9: ='[1]05_所割'!$E$35 -> 205340 | DF9: ='[1]05_所割'!$H$35 -> 203288 | DG9: ='[1]05_所割'!$K$35 -> 99.000682 | DH9: (ｲ)所得割 | DI9: ='[1]05_所割'!$E$37 -> 408481 | DJ9: ='[1]05_所割'!$H$37 -> 388210 | DK9: ='[1]05_所割'!$K$37 -> 95.037468 | DL9: ='[1]05_所割'!$E$38 -> 21120 | DM9: ='[1]05_所割'!$H$38 -> 21029 | DN9: ='[1]05_所割'!$K$38 -> 99.569129 | DO9: ='[1]05_所割'!$E$39 -> 127986 | DP9: ='[1]05_所割'!$H$39 -> 125142 | DQ9: ='[1]05_所割'!$K$39 -> 97.777882 | DR9: (ｲ)所得割 | DS9: ='[1]05_所割'!$E$40 -> 101092 | DT9: ='[1]05_所割'!$H$40 -> 98495 | DU9: ='[1]05_所割'!$K$40 -> 97.431053 | DV9: ='[1]05_所割'!$E$41 -> 164167 | DW9: ='[1]05_所割'!$H$41 -> 149825 | DX9: ='[1]05_所割'!$K$41 -> 91.263774 | DY9: ='[1]05_所割'!$E$42 -> 19213 | DZ9: ='[1]05_所割'!$H$42 -> 18564 | EA9: ='[1]05_所割'!$K$42 -> 96.622079 | EB9: (ｲ)所得割 | EC9: ='[1]05_所割'!$E$43 -> 365567 | ED9: ='[1]05_所割'!$H$43 -> 345575 | EE9: ='[1]05_所割'!$K$43 -> 94.531235 | EF9: ='[1]05_所割'!$E$44 -> 16043 | EG9: ='[1]05_所割'!$H$44 -> 15916 | EH9: ='[1]05_所割'!$K$44 -> 99.208377 | EI9: ='[1]05_所割'!$E$45 -> 265203 | EJ9: ='[1]05_所割'!$H$45 -> 261607 | EK9: ='[1]05_所割'!$K$45 -> 98.644058
B10: うち退職所得分 | C10: ='[1]06_退所'!$E$48 -> 3182053 | D10: ='[1]06_退所'!$H$48 -> 3182053 | E10: ='[1]06_退所'!$K$48 -> 100 | F10: ='[1]06_退所'!$E$31 -> 3146901 | G10: ='[1]06_退所'!$H$31 -> 3146901 | H10: ='[1]06_退所'!$K$31 -> 100 | I10: ='[1]06_退所'!$E$47 -> 35152 | J10: ='[1]06_退所'!$H$47 -> 35152 | K10: ='[1]06_退所'!$K$47 -> 100 | L10: うち退職所得分 | M10: ='[1]06_退所'!$E$5 -> 359959 | N10: ='[1]06_退所'!$H$5 -> 359959 | O10: ='[1]06_退所'!$K$5 -> 100 | P10: ='[1]06_退所'!$E$6 -> 95594 | Q10: ='[1]06_退所'!$H$6 -> 95594 | R10: ='[1]06_退所'!$K$6 -> 100 | S10: ='[1]06_退所'!$E$7 -> 375229 | T10: ='[1]06_退所'!$H$7 -> 375229 | U10: ='[1]06_退所'!$K$7 -> 100 | V10: うち退職所得分 | W10: ='[1]06_退所'!$E$8 -> 157803 | X10: ='[1]06_退所'!$H$8 -> 157803 | Y10: ='[1]06_退所'!$K$8 -> 100 | Z10: ='[1]06_退所'!$E$9 -> 113105 | AA10: ='[1]06_退所'!$H$9 -> 113105 | AB10: ='[1]06_退所'!$K$9 -> 100 | AC10: ='[1]06_退所'!$E$10 -> 166947 | AD10: ='[1]06_退所'!$H$10 -> 166947 | AE10: ='[1]06_退所'!$K$10 -> 100 | AF10: うち退職所得分 | AG10: ='[1]06_退所'!$E$11 -> 62637 | AH10: ='[1]06_退所'!$H$11 -> 62637 | AI10: ='[1]06_退所'!$K$11 -> 100 | AJ10: ='[1]06_退所'!$E$12 -> 169071 | AK10: ='[1]06_退所'!$H$12 -> 169071 | AL10: ='[1]06_退所'!$K$12 -> 100 | AM10: ='[1]06_退所'!$E$13 -> 347665 | AN10: ='[1]06_退所'!$H$13 -> 347665 | AO10: ='[1]06_退所'!$K$13 -> 100 | AP10: うち退職所得分 | AQ10: ='[1]06_退所'!$E$14 -> 127027 | AR10: ='[1]06_退所'!$H$14 -> 127027 | AS10: ='[1]06_退所'!$K$14 -> 100 | AT10: ='[1]06_退所'!$E$15 -> 113940 | AU10: ='[1]06_退所'!$H$15 -> 113940 | AV10: ='[1]06_退所'!$K$15 -> 100 | AW10: ='[1]06_退所'!$E$16 -> 96754 | AX10: ='[1]06_退所'!$H$16 -> 96754 | AY10: ='[1]06_退所'!$K$16 -> 100 | AZ10: うち退職所得分 | BA10: ='[1]06_退所'!$E$17 -> 68973 | BB10: ='[1]06_退所'!$H$17 -> 68973 | BC10: ='[1]06_退所'!$K$17 -> 100 | BD10: ='[1]06_退所'!$E$18 -> 132529 | BE10: ='[1]06_退所'!$H$18 -> 132529 | BF10: ='[1]06_退所'!$K$18 -> 100 | BG10: ='[1]06_退所'!$E$19 -> 85071 | BH10: ='[1]06_退所'!$H$19 -> 85071 | BI10: ='[1]06_退所'!$K$19 -> 100 | BJ10: うち退職所得分 | BK10: ='[1]06_退所'!$E$20 -> 28766 | BL10: ='[1]06_退所'!$H$20 -> 28766 | BM10: ='[1]06_退所'!$K$20 -> 100 | BN10: ='[1]06_退所'!$E$21 -> 71495 | BO10: ='[1]06_退所'!$H$21 -> 71495 | BP10: ='[1]06_退所'!$K$21 -> 100 | BQ10: ='[1]06_退所'!$E$22 -> 46787 | BR10: ='[1]06_退所'!$H$22 -> 46787 | BS10: ='[1]06_退所'!$K$22 -> 100 | BT10: うち退職所得分 | BU10: ='[1]06_退所'!$E$23 -> 41527 | BV10: ='[1]06_退所'!$H$23 -> 41527 | BW10: ='[1]06_退所'!$K$23 -> 100 | BX10: ='[1]06_退所'!$E$24 -> 97330 | BY10: ='[1]06_退所'!$H$24 -> 97330 | BZ10: ='[1]06_退所'!$K$24 -> 100 | CA10: ='[1]06_退所'!$E$25 -> 25153 | CB10: ='[1]06_退所'!$H$25 -> 25153 | CC10: ='[1]06_退所'!$K$25 -> 100 | CD10: うち退職所得分 | CE10: ='[1]06_退所'!$E$26 -> 106812 | CF10: ='[1]06_退所'!$H$26 -> 106812 | CG10: ='[1]06_退所'!$K$26 -> 100 | CH10: ='[1]06_退所'!$E$27 -> 63370 | CI10: ='[1]06_退所'!$H$27 -> 63370 | CJ10: ='[1]06_退所'!$K$27 -> 100 | CK10: ='[1]06_退所'!$E$28 -> 31288 | CL10: ='[1]06_退所'!$H$28 -> 31288 | CM10: ='[1]06_退所'!$K$28 -> 100 | CN10: うち退職所得分 | CO10: ='[1]06_退所'!$E$29 -> 32911 | CP10: ='[1]06_退所'!$H$29 -> 32911 | CQ10: ='[1]06_退所'!$K$29 -> 100 | CR10: ='[1]06_退所'!$E$30 -> 129158 | CS10: ='[1]06_退所'!$H$30 -> 129158 | CT10: ='[1]06_退所'!$K$30 -> 100 | CU10: ='[1]06_退所'!$E$32 -> 8441 | CV10: ='[1]06_退所'!$H$32 -> 8441 | CW10: ='[1]06_退所'!$K$32 -> 100 | CX10: うち退職所得分 | CY10: ='[1]06_退所'!$E$33 -> 12585 | CZ10: ='[1]06_退所'!$H$33 -> 12585 | DA10: ='[1]06_退所'!$K$33 -> 100 | DB10: ='[1]06_退所'!$E$34 -> 1230 | DC10: ='[1]06_退所'!$H$34 -> 1230 | DD10: ='[1]06_退所'!$K$34 -> 100 | DE10: ='[1]06_退所'!$E$35 -> 2758 | DF10: ='[1]06_退所'!$H$35 -> 2758 | DG10: ='[1]06_退所'!$K$35 -> 100 | DH10: うち退職所得分 | DI10: ='[1]06_退所'!$E$37 -> 2795 | DJ10: ='[1]06_退所'!$H$37 -> 2795 | DK10: ='[1]06_退所'!$K$37 -> 100 | DL10: ='[1]06_退所'!$E$38 -> 144 | DM10: ='[1]06_退所'!$H$38 -> 144 | DN10: ='[1]06_退所'!$K$38 -> 100 | DO10: ='[1]06_退所'!$E$39 -> 1273 | DP10: ='[1]06_退所'!$H$39 -> 1273 | DQ10: ='[1]06_退所'!$K$39 -> 100 | DR10: うち退職所得分 | DS10: ='[1]06_退所'!$E$40 -> 1268 | DT10: ='[1]06_退所'!$H$40 -> 1268 | DU10: ='[1]06_退所'!$K$40 -> 100 | DV10: ='[1]06_退所'!$E$41 -> 973 | DW10: ='[1]06_退所'!$H$41 -> 973 | DX10: ='[1]06_退所'!$K$41 -> 100 | DY10: ='[1]06_退所'!$E$42 -> 98 | DZ10: ='[1]06_退所'!$H$42 -> 98 | EA10: ='[1]06_退所'!$K$42 -> 100 | EB10: うち退職所得分 | EC10: ='[1]06_退所'!$E$43 -> 1870 | ED10: ='[1]06_退所'!$H$43 -> 1870 | EE10: ='[1]06_退所'!$K$43 -> 100 | EF10: ='[1]06_退所'!$E$44 -> 186 | EG10: ='[1]06_退所'!$H$44 -> 186 | EH10: ='[1]06_退所'!$K$44 -> 100 | EI10: ='[1]06_退所'!$E$45 -> 1531 | EJ10: ='[1]06_退所'!$H$45 -> 1531 | EK10: ='[1]06_退所'!$K$45 -> 100
B11: (ｳ)法人均等割 | C11: ='[1]07_法均'!$E$48 -> 11381616 | D11: ='[1]07_法均'!$H$48 -> 11222186 | E11: ='[1]07_法均'!$K$48 -> 98.599232 | F11: ='[1]07_法均'!$E$31 -> 11065317 | G11: ='[1]07_法均'!$H$31 -> 10910310 | H11: ='[1]07_法均'!$K$31 -> 98.599163 | I11: ='[1]07_法均'!$E$47 -> 316299 | J11: ='[1]07_法均'!$H$47 -> 311876 | K11: ='[1]07_法均'!$K$47 -> 98.60164 | L11: (ｳ)法人均等割 | M11: ='[1]07_法均'!$E$5 -> 1462963 | N11: ='[1]07_法均'!$H$5 -> 1444234 | O11: ='[1]07_法均'!$K$5 -> 98.71979 | P11: ='[1]07_法均'!$E$6 -> 1034237 | Q11: ='[1]07_法均'!$H$6 -> 1026241 | R11: ='[1]07_法均'!$K$6 -> 99.22687 | S11: ='[1]07_法均'!$E$7 -> 752505 | T11: ='[1]07_法均'!$H$7 -> 744923 | U11: ='[1]07_法均'!$K$7 -> 98.992432 | V11: (ｳ)法人均等割 | W11: ='[1]07_法均'!$E$8 -> 439868 | X11: ='[1]07_法均'!$H$8 -> 436316 | Y11: ='[1]07_法均'!$K$8 -> 99.192485 | Z11: ='[1]07_法均'!$E$9 -> 326132 | AA11: ='[1]07_法均'!$H$9 -> 315842 | AB11: ='[1]07_法均'!$K$9 -> 96.844836 | AC11: ='[1]07_法均'!$E$10 -> 751083 | AD11: ='[1]07_法均'!$H$10 -> 738697 | AE11: ='[1]07_法均'!$K$10 -> 98.350915 | AF11: (ｳ)法人均等割 | AG11: ='[1]07_法均'!$E$11 -> 347296 | AH11: ='[1]07_法均'!$H$11 -> 344178 | AI11: ='[1]07_法均'!$K$11 -> 99.102207 | AJ11: ='[1]07_法均'!$E$12 -> 628836 | AK11: ='[1]07_法均'!$H$12 -> 626172 | AL11: ='[1]07_法均'!$K$12 -> 99.57636 | AM11: ='[1]07_法均'!$E$13 -> 1137629 | AN11: ='[1]07_法均'!$H$13 -> 1116175 | AO11: ='[1]07_法均'!$K$13 -> 98.114148 | AP11: (ｳ)法人均等割 | AQ11: ='[1]07_法均'!$E$14 -> 252098 | AR11: ='[1]07_法均'!$H$14 -> 249173 | AS11: ='[1]07_法均'!$K$14 -> 98.839737 | AT11: ='[1]07_法均'!$E$15 -> 357715 | AU11: ='[1]07_法均'!$H$15 -> 356666 | AV11: ='[1]07_法均'!$K$15 -> 99.70675 | AW11: ='[1]07_法均'!$E$16 -> 344746 | AX11: ='[1]07_法均'!$H$16 -> 343330 | AY11: ='[1]07_法均'!$K$16 -> 99.589263 | AZ11: (ｳ)法人均等割 | BA11: ='[1]07_法均'!$E$17 -> 298724 | BB11: ='[1]07_法均'!$H$17 -> 286320 | BC11: ='[1]07_法均'!$K$17 -> 95.847672 | BD11: ='[1]07_法均'!$E$18 -> 307255 | BE11: ='[1]07_法均'!$H$18 -> 304912 | BF11: ='[1]07_法均'!$K$18 -> 99.237441 | BG11: ='[1]07_法均'!$E$19 -> 226717 | BH11: ='[1]07_法均'!$H$19 -> 225508 | BI11: ='[1]07_法均'!$K$19 -> 99.466736 | BJ11: (ｳ)法人均等割 | BK11: ='[1]07_法均'!$E$20 -> 134338 | BL11: ='[1]07_法均'!$H$20 -> 129619 | BM11: ='[1]07_法均'!$K$20 -> 96.487219 | BN11: ='[1]07_法均'!$E$21 -> 140796 | BO11: ='[1]07_法均'!$H$21 -> 139708 | BP11: ='[1]07_法均'!$K$21 -> 99.227251 | BQ11: ='[1]07_法均'!$E$22 -> 204915 | BR11: ='[1]07_法均'!$H$22 -> 201089 | BS11: ='[1]07_法均'!$K$22 -> 98.132884 | BT11: (ｳ)法人均等割 | BU11: ='[1]07_法均'!$E$23 -> 109659 | BV11: ='[1]07_法均'!$H$23 -> 109054 | BW11: ='[1]07_法均'!$K$23 -> 99.44829 | BX11: ='[1]07_法均'!$E$24 -> 246112 | BY11: ='[1]07_法均'!$H$24 -> 243583 | BZ11: ='[1]07_法均'!$K$24 -> 98.972419 | CA11: ='[1]07_法均'!$E$25 -> 212386 | CB11: ='[1]07_法均'!$H$25 -> 208570 | CC11: ='[1]07_法均'!$K$25 -> 98.203271 | CD11: (ｳ)法人均等割 | CE11: ='[1]07_法均'!$E$26 -> 440767 | CF11: ='[1]07_法均'!$H$26 -> 436858 | CG11: ='[1]07_法均'!$K$26 -> 99.113137 | CH11: ='[1]07_法均'!$E$27 -> 183020 | CI11: ='[1]07_法均'!$H$27 -> 181351 | CJ11: ='[1]07_法均'!$K$27 -> 99.088078 | CK11: ='[1]07_法均'!$E$28 -> 151725 | CL11: ='[1]07_法均'!$H$28 -> 148672 | CM11: ='[1]07_法均'!$K$28 -> 97.987807 | CN11: (ｳ)法人均等割 | CO11: ='[1]07_法均'!$E$29 -> 155114 | CP11: ='[1]07_法均'!$H$29 -> 150317 | CQ11: ='[1]07_法均'!$K$29 -> 96.907436 | CR11: ='[1]07_法均'!$E$30 -> 418681 | CS11: ='[1]07_法均'!$H$30 -> 402802 | CT11: ='[1]07_法均'!$K$30 -> 96.207375 | CU11: ='[1]07_法均'!$E$32 -> 151897 | CV11: ='[1]07_法均'!$H$32 -> 151073 | CW11: ='[1]07_法均'!$K$32 -> 99.457527 | CX11: (ｳ)法人均等割 | CY11: ='[1]07_法均'!$E$33 -> 77069 | CZ11: ='[1]07_法均'!$H$33 -> 74896 | DA11: ='[1]07_法均'!$K$33 -> 97.180449 | DB11: ='[1]07_法均'!$E$34 -> 4334 | DC11: ='[1]07_法均'!$H$34 -> 4269 | DD11: ='[1]07_法均'!$K$34 -> 98.500231 | DE11: ='[1]07_法均'!$E$35 -> 14066 | DF11: ='[1]07_法均'!$H$35 -> 14065 | DG11: ='[1]07_法均'!$K$35 -> 99.992891 | DH11: (ｳ)法人均等割 | DI11: ='[1]07_法均'!$E$37 -> 19733 | DJ11: ='[1]07_法均'!$H$37 -> 19733 | DK11: ='[1]07_法均'!$K$37 -> 100 | DL11: ='[1]07_法均'!$E$38 -> 1801 | DM11: ='[1]07_法均'!$H$38 -> 1801 | DN11: ='[1]07_法均'!$K$38 -> 100 | DO11: ='[1]07_法均'!$E$39 -> 6268 | DP11: ='[1]07_法均'!$H$39 -> 5958 | DQ11: ='[1]07_法均'!$K$39 -> 95.054244 | DR11: (ｳ)法人均等割 | DS11: ='[1]07_法均'!$E$40 -> 3657 | DT11: ='[1]07_法均'!$H$40 -> 3607 | DU11: ='[1]07_法均'!$K$40 -> 98.632759 | DV11: ='[1]07_法均'!$E$41 -> 7066 | DW11: ='[1]07_法均'!$H$41 -> 6736 | DX11: ='[1]07_法均'!$K$41 -> 95.329748 | DY11: ='[1]07_法均'!$E$42 -> 1280 | DZ11: ='[1]07_法均'!$H$42 -> 1280 | EA11: ='[1]07_法均'!$K$42 -> 100 | EB11: (ｳ)法人均等割 | EC11: ='[1]07_法均'!$E$43 -> 18459 | ED11: ='[1]07_法均'!$H$43 -> 18040 | EE11: ='[1]07_法均'!$K$43 -> 97.730105 | EF11: ='[1]07_法均'!$E$44 -> 1125 | EG11: ='[1]07_法均'!$H$44 -> 1125 | EH11: ='[1]07_法均'!$K$44 -> 100 | EI11: ='[1]07_法均'!$E$45 -> 9544 | EJ11: ='[1]07_法均'!$H$45 -> 9293 | EK11: ='[1]07_法均'!$K$45 -> 97.370075
B12: (ｴ)法人税割 | C12: ='[1]08_法割'!$E$48 -> 36539278 | D12: ='[1]08_法割'!$H$48 -> 36202478 | E12: ='[1]08_法割'!$K$48 -> 99.078252 | F12: ='[1]08_法割'!$E$31 -> 35886898 | G12: ='[1]08_法割'!$H$31 -> 35553901 | H12: ='[1]08_法割'!$K$31 -> 99.072093 | I12: ='[1]08_法割'!$E$47 -> 652380 | J12: ='[1]08_法割'!$H$47 -> 648577 | K12: ='[1]08_法割'!$K$47 -> 99.417058 | L12: (ｴ)法人税割 | M12: ='[1]08_法割'!$E$5 -> 4007311 | N12: ='[1]08_法割'!$H$5 -> 3956007 | O12: ='[1]08_法割'!$K$5 -> 98.71974 | P12: ='[1]08_法割'!$E$6 -> 3863585 | Q12: ='[1]08_法割'!$H$6 -> 3833731 | R12: ='[1]08_法割'!$K$6 -> 99.227298 | S12: ='[1]08_法割'!$E$7 -> 2480266 | T12: ='[1]08_法割'!$H$7 -> 2455275 | U12: ='[1]08_法割'!$K$7 -> 98.992406 | V12: (ｴ)法人税割 | W12: ='[1]08_法割'!$E$8 -> 2828794 | X12: ='[1]08_法割'!$H$8 -> 2805961 | Y12: ='[1]08_法割'!$K$8 -> 99.192836 | Z12: ='[1]08_法割'!$E$9 -> 836206 | AA12: ='[1]08_法割'!$H$9 -> 809822 | AB12: ='[1]08_法割'!$K$9 -> 96.844797 | AC12: ='[1]08_法割'!$E$10 -> 3809315 | AD12: ='[1]08_法割'!$H$10 -> 3794060 | AE12: ='[1]08_法割'!$K$10 -> 99.599534 | AF12: (ｴ)法人税割 | AG12: ='[1]08_法割'!$E$11 -> 952768 | AH12: ='[1]08_法割'!$H$11 -> 944213 | AI12: ='[1]08_法割'!$K$11 -> 99.10209 | AJ12: ='[1]08_法割'!$E$12 -> 3530804 | AK12: ='[1]08_法割'!$H$12 -> 3515844 | AL12: ='[1]08_法割'!$K$12 -> 99.5763 | AM12: ='[1]08_法割'!$E$13 -> 2606409 | AN12: ='[1]08_法割'!$H$13 -> 2557253 | AO12: ='[1]08_法割'!$K$13 -> 98.114034 | AP12: (ｴ)法人税割 | AQ12: ='[1]08_法割'!$E$14 -> 536446 | AR12: ='[1]08_法割'!$H$14 -> 530225 | AS12: ='[1]08_法割'!$K$14 -> 98.840331 | AT12: ='[1]08_法割'!$E$15 -> 1681755 | AU12: ='[1]08_法割'!$H$15 -> 1670821 | AV12: ='[1]08_法割'!$K$15 -> 99.349846 | AW12: ='[1]08_法割'!$E$16 -> 1700559 | AX12: ='[1]08_法割'!$H$16 -> 1693580 | AY12: ='[1]08_法割'!$K$16 -> 99.589606 | AZ12: (ｴ)法人税割 | BA12: ='[1]08_法割'!$E$17 -> 527414 | BB12: ='[1]08_法割'!$H$17 -> 523278 | BC12: ='[1]08_法割'!$K$17 -> 99.215796 | BD12: ='[1]08_法割'!$E$18 -> 688570 | BE12: ='[1]08_法割'!$H$18 -> 683456 | BF12: ='[1]08_法割'!$K$18 -> 99.257301 | BG12: ='[1]08_法割'!$E$19 -> 445046 | BH12: ='[1]08_法割'!$H$19 -> 442672 | BI12: ='[1]08_法割'!$K$19 -> 99.466572 | BJ12: (ｴ)法人税割 | BK12: ='[1]08_法割'!$E$20 -> 239258 | BL12: ='[1]08_法割'!$H$20 -> 230853 | BM12: ='[1]08_法割'!$K$20 -> 96.487056 | BN12: ='[1]08_法割'!$E$21 -> 155847 | BO12: ='[1]08_法割'!$H$21 -> 154643 | BP12: ='[1]08_法割'!$K$21 -> 99.227447 | BQ12: ='[1]08_法割'!$E$22 -> 318475 | BR12: ='[1]08_法割'!$H$22 -> 312531 | BS12: ='[1]08_法割'!$K$22 -> 98.133605 | BT12: (ｴ)法人税割 | BU12: ='[1]08_法割'!$E$23 -> 188261 | BV12: ='[1]08_法割'!$H$23 -> 187223 | BW12: ='[1]08_法割'!$K$23 -> 99.448638 | BX12: ='[1]08_法割'!$E$24 -> 384194 | BY12: ='[1]08_法割'!$H$24 -> 380246 | BZ12: ='[1]08_法割'!$K$24 -> 98.972394 | CA12: ='[1]08_法割'!$E$25 -> 322417 | CB12: ='[1]08_法割'!$H$25 -> 316624 | CC12: ='[1]08_法割'!$K$25 -> 98.203259 | CD12: (ｴ)法人税割 | CE12: ='[1]08_法割'!$E$26 -> 1276340 | CF12: ='[1]08_法割'!$H$26 -> 1265017 | CG12: ='[1]08_法割'!$K$26 -> 99.112854 | CH12: ='[1]08_法割'!$E$27 -> 396152 | CI12: ='[1]08_法割'!$H$27 -> 392541 | CJ12: ='[1]08_法割'!$K$27 -> 99.088481 | CK12: ='[1]08_法割'!$E$28 -> 620338 | CL12: ='[1]08_法割'!$H$28 -> 613728 | CM12: ='[1]08_法割'!$K$28 -> 98.934452 | CN12: (ｴ)法人税割 | CO12: ='[1]08_法割'!$E$29 -> 227489 | CP12: ='[1]08_法割'!$H$29 -> 222800 | CQ12: ='[1]08_法割'!$K$29 -> 97.938801 | CR12: ='[1]08_法割'!$E$30 -> 1262879 | CS12: ='[1]08_法割'!$H$30 -> 1261497 | CT12: ='[1]08_法割'!$K$30 -> 99.890568 | CU12: ='[1]08_法割'!$E$32 -> 413696 | CV12: ='[1]08_法割'!$H$32 -> 411455 | CW12: ='[1]08_法割'!$K$32 -> 99.458298 | CX12: (ｴ)法人税割 | CY12: ='[1]08_法割'!$E$33 -> 127807 | CZ12: ='[1]08_法割'!$H$33 -> 127788 | DA12: ='[1]08_法割'!$K$33 -> 99.985134 | DB12: ='[1]08_法割'!$E$34 -> 2170 | DC12: ='[1]08_法割'!$H$34 -> 2165 | DD12: ='[1]08_法割'!$K$34 -> 99.769585 | DE12: ='[1]08_法割'!$E$35 -> 17968 | DF12: ='[1]08_法割'!$H$35 -> 17968 | DG12: ='[1]08_法割'!$K$35 -> 100 | DH12: (ｴ)法人税割 | DI12: ='[1]08_法割'!$E$37 -> 28019 | DJ12: ='[1]08_法割'!$H$37 -> 28019 | DK12: ='[1]08_法割'!$K$37 -> 100 | DL12: ='[1]08_法割'!$E$38 -> 503 | DM12: ='[1]08_法割'!$H$38 -> 503 | DN12: ='[1]08_法割'!$K$38 -> 100 | DO12: ='[1]08_法割'!$E$39 -> 4749 | DP12: ='[1]08_法割'!$H$39 -> 4515 | DQ12: ='[1]08_法割'!$K$39 -> 95.072647 | DR12: (ｴ)法人税割 | DS12: ='[1]08_法割'!$E$40 -> 9039 | DT12: ='[1]08_法割'!$H$40 -> 7739 | DU12: ='[1]08_法割'!$K$40 -> 85.617878 | DV12: ='[1]08_法割'!$E$41 -> 10818 | DW12: ='[1]08_法割'!$H$41 -> 10818 | DX12: ='[1]08_法割'!$K$41 -> 100 | DY12: ='[1]08_法割'!$E$42 -> 728 | DZ12: ='[1]08_法割'!$H$42 -> 728 | EA12: ='[1]08_法割'!$K$42 -> 100 | EB12: (ｴ)法人税割 | EC12: ='[1]08_法割'!$E$43 -> 21964 | ED12: ='[1]08_法割'!$H$43 -> 21962 | EE12: ='[1]08_法割'!$K$43 -> 99.990894 | EF12: ='[1]08_法割'!$E$44 -> 1185 | EG12: ='[1]08_法割'!$H$44 -> 1185 | EH12: ='[1]08_法割'!$K$44 -> 100 | EI12: ='[1]08_法割'!$E$45 -> 13734 | EJ12: ='[1]08_法割'!$H$45 -> 13732 | EK12: ='[1]08_法割'!$K$45 -> 99.985438
B13: イ 固定資産税 | C13: =[1]固定!$E$48 -> 293061697 | D13: =[1]固定!$H$48 -> 288577109 | E13: =[1]固定!$K$48 -> 98.469746 | F13: =[1]固定!$E$31 -> 286392243 | G13: =[1]固定!$H$31 -> 282156542 | H13: =[1]固定!$K$31 -> 98.521014 | I13: =[1]固定!$E$47 -> 6669454 | J13: =[1]固定!$H$47 -> 6420567 | K13: =[1]固定!$K$47 -> 96.268255 | L13: イ 固定資産税 | M13: =[1]固定!$E$5 -> 35891505 | N13: =[1]固定!$H$5 -> 35091288 | O13: =[1]固定!$K$5 -> 97.770456 | P13: =[1]固定!$E$6 -> 17451515 | Q13: =[1]固定!$H$6 -> 17201227 | R13: =[1]固定!$K$6 -> 98.565809 | S13: =[1]固定!$E$7 -> 15718389 | T13: =[1]固定!$H$7 -> 15530161 | U13: =[1]固定!$K$7 -> 98.802498 | V13: イ 固定資産税 | W13: =[1]固定!$E$8 -> 13930634 | X13: =[1]固定!$H$8 -> 13761267 | Y13: =[1]固定!$K$8 -> 98.784212 | Z13: =[1]固定!$E$9 -> 8776011 | AA13: =[1]固定!$H$9 -> 8469906 | AB13: =[1]固定!$K$9 -> 96.512026 | AC13: =[1]固定!$E$10 -> 22107509 | AD13: =[1]固定!$H$10 -> 21792889 | AE13: =[1]固定!$K$10 -> 98.576864 | AF13: イ 固定資産税 | AG13: =[1]固定!$E$11 -> 8493586 | AH13: =[1]固定!$H$11 -> 8379951 | AI13: =[1]固定!$K$11 -> 98.662108 | AJ13: =[1]固定!$E$12 -> 16665602 | AK13: =[1]固定!$H$12 -> 16361294 | AL13: =[1]固定!$K$12 -> 98.174035 | AM13: =[1]固定!$E$13 -> 26089559 | AN13: =[1]固定!$H$13 -> 25822983 | AO13: =[1]固定!$K$13 -> 98.978227 | AP13: イ 固定資産税 | AQ13: =[1]固定!$E$14 -> 7404480 | AR13: =[1]固定!$H$14 -> 7359166 | AS13: =[1]固定!$K$14 -> 99.388019 | AT13: =[1]固定!$E$15 -> 12022599 | AU13: =[1]固定!$H$15 -> 11859656 | AV13: =[1]固定!$K$15 -> 98.644694 | AW13: =[1]固定!$E$16 -> 11759453 | AX13: =[1]固定!$H$16 -> 11670691 | AY13: =[1]固定!$K$16 -> 99.245186 | AZ13: イ 固定資産税 | BA13: =[1]固定!$E$17 -> 8037693 | BB13: =[1]固定!$H$17 -> 7898835 | BC13: =[1]固定!$K$17 -> 98.272415 | BD13: =[1]固定!$E$18 -> 8053057 | BE13: =[1]固定!$H$18 -> 7956746 | BF13: =[1]固定!$K$18 -> 98.804044 | BG13: =[1]固定!$E$19 -> 5698176 | BH13: =[1]固定!$H$19 -> 5677371 | BI13: =[1]固定!$K$19 -> 99.634883 | BJ13: イ 固定資産税 | BK13: =[1]固定!$E$20 -> 3190427 | BL13: =[1]固定!$H$20 -> 3140811 | BM13: =[1]固定!$K$20 -> 98.444848 | BN13: =[1]固定!$E$21 -> 4118531 | BO13: =[1]固定!$H$21 -> 4109055 | BP13: =[1]固定!$K$21 -> 99.769918 | BQ13: =[1]固定!$E$22 -> 5282775 | BR13: =[1]固定!$H$22 -> 5141805 | BS13: =[1]固定!$K$22 -> 97.331516 | BT13: イ 固定資産税 | BU13: =[1]固定!$E$23 -> 3642137 | BV13: =[1]固定!$H$23 -> 3598990 | BW13: =[1]固定!$K$23 -> 98.815338 | BX13: =[1]固定!$E$24 -> 6697100 | BY13: =[1]固定!$H$24 -> 6622619 | BZ13: =[1]固定!$K$24 -> 98.887862 | CA13: =[1]固定!$E$25 -> 4591659 | CB13: =[1]固定!$H$25 -> 4501589 | CC13: =[1]固定!$K$25 -> 98.0384 | CD13: イ 固定資産税 | CE13: =[1]固定!$E$26 -> 13640234 | CF13: =[1]固定!$H$26 -> 13479842 | CG13: =[1]固定!$K$26 -> 98.824126 | CH13: =[1]固定!$E$27 -> 6000784 | CI13: =[1]固定!$H$27 -> 5896438 | CJ13: =[1]固定!$K$27 -> 98.261127 | CK13: =[1]固定!$E$28 -> 4802151 | CL13: =[1]固定!$H$28 -> 4720464 | CM13: =[1]固定!$K$28 -> 98.29895 | CN13: イ 固定資産税 | CO13: =[1]固定!$E$29 -> 4480760 | CP13: =[1]固定!$H$29 -> 4424027 | CQ13: =[1]固定!$K$29 -> 98.733853 | CR13: =[1]固定!$E$30 -> 11845917 | CS13: =[1]固定!$H$30 -> 11687471 | CT13: =[1]固定!$K$30 -> 98.662442 | CU13: =[1]固定!$E$32 -> 3275473 | CV13: =[1]固定!$H$32 -> 3207970 | CW13: =[1]固定!$K$32 -> 97.939137 | CX13: イ 固定資産税 | CY13: =[1]固定!$E$33 -> 1300419 | CZ13: =[1]固定!$H$33 -> 1262800 | DA13: =[1]固定!$K$33 -> 97.107163 | DB13: =[1]固定!$E$34 -> 107672 | DC13: =[1]固定!$H$34 -> 104665 | DD13: =[1]固定!$K$34 -> 97.207259 | DE13: =[1]固定!$E$35 -> 444198 | DF13: =[1]固定!$H$35 -> 440458 | DG13: =[1]固定!$K$35 -> 99.158033 | DH13: イ 固定資産税 | DI13: =[1]固定!$E$37 -> 450751 | DJ13: =[1]固定!$H$37 -> 394243 | DK13: =[1]固定!$K$37 -> 87.463589 | DL13: =[1]固定!$E$38 -> 17065 | DM13: =[1]固定!$H$38 -> 17037 | DN13: =[1]固定!$K$38 -> 99.835921 | DO13: =[1]固定!$E$39 -> 192409 | DP13: =[1]固定!$H$39 -> 159592 | DQ13: =[1]固定!$K$39 -> 82.944145 | DR13: イ 固定資産税 | DS13: =[1]固定!$E$40 -> 99271 | DT13: =[1]固定!$H$40 -> 95944 | DU13: =[1]固定!$K$40 -> 96.648568 | DV13: =[1]固定!$E$41 -> 149690 | DW13: =[1]固定!$H$41 -> 135830 | DX13: =[1]固定!$K$41 -> 90.740864 | DY13: =[1]固定!$E$42 -> 20549 | DZ13: =[1]固定!$H$42 -> 20549 | EA13: =[1]固定!$K$42 -> 100 | EB13: イ 固定資産税 | EC13: =[1]固定!$E$43 -> 452281 | ED13: =[1]固定!$H$43 -> 423361 | EE13: =[1]固定!$K$43 -> 93.605745 | EF13: =[1]固定!$E$44 -> 13382 | EG13: =[1]固定!$H$44 -> 13331 | EH13: =[1]固定!$K$44 -> 99.618891 | EI13: =[1]固定!$E$45 -> 146294 | EJ13: =[1]固定!$H$45 -> 144787 | EK13: =[1]固定!$K$45 -> 98.969883
B14: (ｱ)純固定資産税 | C14: =[1]純固!$E$48 -> 283742927 | D14: =[1]純固!$H$48 -> 279258339 | E14: =[1]純固!$K$48 -> 98.419489 | F14: =[1]純固!$E$31 -> 277505217 | G14: =[1]純固!$H$31 -> 273269516 | H14: =[1]純固!$K$31 -> 98.47365 | I14: =[1]純固!$E$47 -> 6237710 | J14: =[1]純固!$H$47 -> 5988823 | K14: =[1]純固!$K$47 -> 96.009962 | L14: (ｱ)純固定資産税 | M14: =[1]純固!$E$5 -> 35026685 | N14: =[1]純固!$H$5 -> 34226468 | O14: =[1]純固!$K$5 -> 97.715408 | P14: =[1]純固!$E$6 -> 16965247 | Q14: =[1]純固!$H$6 -> 16714959 | R14: =[1]純固!$K$6 -> 98.524702 | S14: =[1]純固!$E$7 -> 15111338 | T14: =[1]純固!$H$7 -> 14923110 | U14: =[1]純固!$K$7 -> 98.754392 | V14: (ｱ)純固定資産税 | W14: =[1]純固!$E$8 -> 13585608 | X14: =[1]純固!$H$8 -> 13416241 | Y14: =[1]純固!$K$8 -> 98.753335 | Z14: =[1]純固!$E$9 -> 8741836 | AA14: =[1]純固!$H$9 -> 8435731 | AB14: =[1]純固!$K$9 -> 96.49839 | AC14: =[1]純固!$E$10 -> 21690215 | AD14: =[1]純固!$H$10 -> 21375595 | AE14: =[1]純固!$K$10 -> 98.549484 | AF14: (ｱ)純固定資産税 | AG14: =[1]純固!$E$11 -> 8210628 | AH14: =[1]純固!$H$11 -> 8096993 | AI14: =[1]純固!$K$11 -> 98.616001 | AJ14: =[1]純固!$E$12 -> 15698846 | AK14: =[1]純固!$H$12 -> 15394538 | AL14: =[1]純固!$K$12 -> 98.06159 | AM14: =[1]純固!$E$13 -> 25489309 | AN14: =[1]純固!$H$13 -> 25222733 | AO14: =[1]純固!$K$13 -> 98.954165 | AP14: (ｱ)純固定資産税 | AQ14: =[1]純固!$E$14 -> 7246676 | AR14: =[1]純固!$H$14 -> 7201362 | AS14: =[1]純固!$K$14 -> 99.374693 | AT14: =[1]純固!$E$15 -> 11523233 | AU14: =[1]純固!$H$15 -> 11360290 | AV14: =[1]純固!$K$15 -> 98.585961 | AW14: =[1]純固!$E$16 -> 11570525 | AX14: =[1]純固!$H$16 -> 11481763 | AY14: =[1]純固!$K$16 -> 99.232861 | AZ14: (ｱ)純固定資産税 | BA14: =[1]純固!$E$17 -> 7272438 | BB14: =[1]純固!$H$17 -> 7133580 | BC14: =[1]純固!$K$17 -> 98.090627 | BD14: =[1]純固!$E$18 -> 7904945 | BE14: =[1]純固!$H$18 -> 7808634 | BF14: =[1]純固!$K$18 -> 98.781636 | BG14: =[1]純固!$E$19 -> 5501344 | BH14: =[1]純固!$H$19 -> 5480539 | BI14: =[1]純固!$K$19 -> 99.62182 | BJ14: (ｱ)純固定資産税 | BK14: =[1]純固!$E$20 -> 3124791 | BL14: =[1]純固!$H$20 -> 3075175 | BM14: =[1]純固!$K$20 -> 98.412182 | BN14: =[1]純固!$E$21 -> 4047633 | BO14: =[1]純固!$H$21 -> 4038157 | BP14: =[1]純固!$K$21 -> 99.765888 | BQ14: =[1]純固!$E$22 -> 4723805 | BR14: =[1]純固!$H$22 -> 4582835 | BS14: =[1]純固!$K$22 -> 97.015753 | BT14: (ｱ)純固定資産税 | BU14: =[1]純固!$E$23 -> 3374189 | BV14: =[1]純固!$H$23 -> 3331042 | BW14: =[1]純固!$K$23 -> 98.721263 | BX14: =[1]純固!$E$24 -> 6474571 | BY14: =[1]純固!$H$24 -> 6400090 | BZ14: =[1]純固!$K$24 -> 98.849638 | CA14: =[1]純固!$E$25 -> 4261070 | CB14: =[1]純固!$H$25 -> 4171000 | CC14: =[1]純固!$K$25 -> 97.886212 | CD14: (ｱ)純固定資産税 | CE14: =[1]純固!$E$26 -> 13436580 | CF14: =[1]純固!$H$26 -> 13276188 | CG14: =[1]純固!$K$26 -> 98.806303 | CH14: =[1]純固!$E$27 -> 5912558 | CI14: =[1]純固!$H$27 -> 5808212 | CJ14: =[1]純固!$K$27 -> 98.23518 | CK14: =[1]純固!$E$28 -> 4717642 | CL14: =[1]純固!$H$28 -> 4635955 | CM14: =[1]純固!$K$28 -> 98.268478 | CN14: (ｱ)純固定資産税 | CO14: =[1]純固!$E$29 -> 4476850 | CP14: =[1]純固!$H$29 -> 4420117 | CQ14: =[1]純固!$K$29 -> 98.732747 | CR14: =[1]純固!$E$30 -> 11416655 | CS14: =[1]純固!$H$30 -> 11258209 | CT14: =[1]純固!$K$30 -> 98.61215 | CU14: =[1]純固!$E$32 -> 3202782 | CV14: =[1]純固!$H$32 -> 3135279 | CW14: =[1]純固!$K$32 -> 97.892364 | CX14: (ｱ)純固定資産税 | CY14: =[1]純固!$E$33 -> 1300419 | CZ14: =[1]純固!$H$33 -> 1262800 | DA14: =[1]純固!$K$33 -> 97.107163 | DB14: =[1]純固!$E$34 -> 107672 | DC14: =[1]純固!$H$34 -> 104665 | DD14: =[1]純固!$K$34 -> 97.207259 | DE14: =[1]純固!$E$35 -> 309523 | DF14: =[1]純固!$H$35 -> 305783 | DG14: =[1]純固!$K$35 -> 98.791689 | DH14: (ｱ)純固定資産税 | DI14: =[1]純固!$E$37 -> 384185 | DJ14: =[1]純固!$H$37 -> 327677 | DK14: =[1]純固!$K$37 -> 85.291461 | DL14: =[1]純固!$E$38 -> 15085 | DM14: =[1]純固!$H$38 -> 15057 | DN14: =[1]純固!$K$38 -> 99.814385 | DO14: =[1]純固!$E$39 -> 177355 | DP14: =[1]純固!$H$39 -> 144538 | DQ14: =[1]純固!$K$39 -> 81.496434 | DR14: (ｱ)純固定資産税 | DS14: =[1]純固!$E$40 -> 76344 | DT14: =[1]純固!$H$40 -> 73017 | DU14: =[1]純固!$K$40 -> 95.642094 | DV14: =[1]純固!$E$41 -> 127782 | DW14: =[1]純固!$H$41 -> 113922 | DX14: =[1]純固!$K$41 -> 89.153402 | DY14: =[1]純固!$E$42 -> 19057 | DZ14: =[1]純固!$H$42 -> 19057 | EA14: =[1]純固!$K$42 -> 100 | EB14: (ｱ)純固定資産税 | EC14: =[1]純固!$E$43 -> 387590 | ED14: =[1]純固!$H$43 -> 358670 | EE14: =[1]純固!$K$43 -> 92.538507 | EF14: =[1]純固!$E$44 -> 12825 | EG14: =[1]純固!$H$44 -> 12774 | EH14: =[1]純固!$K$44 -> 99.602339 | EI14: =[1]純固!$E$45 -> 117091 | EJ14: =[1]純固!$H$45 -> 115584 | EK14: =[1]純固!$K$45 -> 98.712967
B15: ①土地 | C15: ='[1]11_土地'!$E$48 -> 138662914 | D15: ='[1]11_土地'!$H$48 -> 136437274 | E15: ='[1]11_土地'!$K$48 -> 98.394928 | F15: ='[1]11_土地'!$E$31 -> 136030106 | G15: ='[1]11_土地'!$H$31 -> 133896127 | H15: ='[1]11_土地'!$K$31 -> 98.431245 | I15: ='[1]11_土地'!$E$47 -> 2632808 | J15: ='[1]11_土地'!$H$47 -> 2541147 | K15: ='[1]11_土地'!$K$47 -> 96.518508 | L15: ①土地 | M15: ='[1]11_土地'!$E$5 -> 14623299 | N15: ='[1]11_土地'!$H$5 -> 14289216 | O15: ='[1]11_土地'!$K$5 -> 97.715406 | P15: ='[1]11_土地'!$E$6 -> 8714479 | Q15: ='[1]11_土地'!$H$6 -> 8569687 | R15: ='[1]11_土地'!$K$6 -> 98.338489 | S15: ='[1]11_土地'!$E$7 -> 8604137 | T15: ='[1]11_土地'!$H$7 -> 8488562 | U15: ='[1]11_土地'!$K$7 -> 98.656751 | V15: ①土地 | W15: ='[1]11_土地'!$E$8 -> 7288273 | X15: ='[1]11_土地'!$H$8 -> 7184941 | Y15: ='[1]11_土地'!$K$8 -> 98.582216 | Z15: ='[1]11_土地'!$E$9 -> 4010344 | AA15: ='[1]11_土地'!$H$9 -> 3869918 | AB15: ='[1]11_土地'!$K$9 -> 96.498405 | AC15: ='[1]11_土地'!$E$10 -> 10516887 | AD15: ='[1]11_土地'!$H$10 -> 10364338 | AE15: ='[1]11_土地'!$K$10 -> 98.549485 | AF15: ①土地 | AG15: ='[1]11_土地'!$E$11 -> 4054997 | AH15: ='[1]11_土地'!$H$11 -> 3990969 | AI15: ='[1]11_土地'!$K$11 -> 98.42101 | AJ15: ='[1]11_土地'!$E$12 -> 8143754 | AK15: ='[1]11_土地'!$H$12 -> 7979226 | AL15: ='[1]11_土地'!$K$12 -> 97.979703 | AM15: ='[1]11_土地'!$E$13 -> 12015040 | AN15: ='[1]11_土地'!$H$13 -> 11889383 | AO15: ='[1]11_土地'!$K$13 -> 98.954169 | AP15: ①土地 | AQ15: ='[1]11_土地'!$E$14 -> 4047338 | AR15: ='[1]11_土地'!$H$14 -> 4022033 | AS15: ='[1]11_土地'!$K$14 -> 99.374774 | AT15: ='[1]11_土地'!$E$15 -> 6460335 | AU15: ='[1]11_土地'!$H$15 -> 6368407 | AV15: ='[1]11_土地'!$K$15 -> 98.57704 | AW15: ='[1]11_土地'!$E$16 -> 5448061 | AX15: ='[1]11_土地'!$H$16 -> 5406267 | AY15: ='[1]11_土地'!$K$16 -> 99.232865 | AZ15: ①土地 | BA15: ='[1]11_土地'!$E$17 -> 3605699 | BB15: ='[1]11_土地'!$H$17 -> 3536851 | BC15: ='[1]11_土地'!$K$17 -> 98.090578 | BD15: ='[1]11_土地'!$E$18 -> 4158752 | BE15: ='[1]11_土地'!$H$18 -> 4105179 | BF15: ='[1]11_土地'!$K$18 -> 98.711801 | BG15: ='[1]11_土地'!$E$19 -> 2898612 | BH15: ='[1]11_土地'!$H$19 -> 2887696 | BI15: ='[1]11_土地'!$K$19 -> 99.623406 | BJ15: ①土地 | BK15: ='[1]11_土地'!$E$20 -> 1565290 | BL15: ='[1]11_土地'!$H$20 -> 1540538 | BM15: ='[1]11_土地'!$K$20 -> 98.418696 | BN15: ='[1]11_土地'!$E$21 -> 2230948 | BO15: ='[1]11_土地'!$H$21 -> 2225363 | BP15: ='[1]11_土地'!$K$21 -> 99.749658 | BQ15: ='[1]11_土地'!$E$22 -> 2375995 | BR15: ='[1]11_土地'!$H$22 -> 2305089 | BS15: ='[1]11_土地'!$K$22 -> 97.015734 | BT15: ①土地 | BU15: ='[1]11_土地'!$E$23 -> 1668599 | BV15: ='[1]11_土地'!$H$23 -> 1646168 | BW15: ='[1]11_土地'!$K$23 -> 98.655699 | BX15: ='[1]11_土地'!$E$24 -> 3547781 | BY15: ='[1]11_土地'!$H$24 -> 3506968 | BZ15: ='[1]11_土地'!$K$24 -> 98.849619 | CA15: ='[1]11_土地'!$E$25 -> 2281310 | CB15: ='[1]11_土地'!$H$25 -> 2233088 | CC15: ='[1]11_土地'!$K$25 -> 97.886214 | CD15: ①土地 | CE15: ='[1]11_土地'!$E$26 -> 4440585 | CF15: ='[1]11_土地'!$H$26 -> 4371929 | CG15: ='[1]11_土地'!$K$26 -> 98.453897 | CH15: ='[1]11_土地'!$E$27 -> 2884365 | CI15: ='[1]11_土地'!$H$27 -> 2827507 | CJ15: ='[1]11_土地'!$K$27 -> 98.028752 | CK15: ='[1]11_土地'!$E$28 -> 2329902 | CL15: ='[1]11_土地'!$H$28 -> 2289028 | CM15: ='[1]11_土地'!$K$28 -> 98.245677 | CN15: ①土地 | CO15: ='[1]11_土地'!$E$29 -> 2313706 | CP15: ='[1]11_土地'!$H$29 -> 2284385 | CQ15: ='[1]11_土地'!$K$29 -> 98.732726 | CR15: ='[1]11_土地'!$E$30 -> 5801618 | CS15: ='[1]11_土地'!$H$30 -> 5713391 | CT15: ='[1]11_土地'!$K$30 -> 98.479269 | CU15: ='[1]11_土地'!$E$32 -> 1605803 | CV15: ='[1]11_土地'!$H$32 -> 1571959 | CW15: ='[1]11_土地'!$K$32 -> 97.892394 | CX15: ①土地 | CY15: ='[1]11_土地'!$E$33 -> 573451 | CZ15: ='[1]11_土地'!$H$33 -> 553358 | DA15: ='[1]11_土地'!$K$33 -> 96.496126 | DB15: ='[1]11_土地'!$E$34 -> 45549 | DC15: ='[1]11_土地'!$H$34 -> 44573 | DD15: ='[1]11_土地'!$K$34 -> 97.857253 | DE15: ='[1]11_土地'!$E$35 -> 88537 | DF15: ='[1]11_土地'!$H$35 -> 86020 | DG15: ='[1]11_土地'!$K$35 -> 97.157121 | DH15: ①土地 | DI15: ='[1]11_土地'!$E$37 -> 125153 | DJ15: ='[1]11_土地'!$H$37 -> 106743 | DK15: ='[1]11_土地'!$K$37 -> 85.290005 | DL15: ='[1]11_土地'!$E$38 -> 680 | DM15: ='[1]11_土地'!$H$38 -> 675 | DN15: ='[1]11_土地'!$K$38 -> 99.264706 | DO15: ='[1]11_土地'!$E$39 -> 20195 | DP15: ='[1]11_土地'!$H$39 -> 16333 | DQ15: ='[1]11_土地'!$K$39 -> 80.876455 | DR15: ①土地 | DS15: ='[1]11_土地'!$E$40 -> 5469 | DT15: ='[1]11_土地'!$H$40 -> 5232 | DU15: ='[1]11_土地'!$K$40 -> 95.666484 | DV15: ='[1]11_土地'!$E$41 -> 24581 | DW15: ='[1]11_土地'!$H$41 -> 21916 | DX15: ='[1]11_土地'!$K$41 -> 89.158293 | DY15: ='[1]11_土地'!$E$42 -> 618 | DZ15: ='[1]11_土地'!$H$42 -> 618 | EA15: ='[1]11_土地'!$K$42 -> 100 | EB15: ①土地 | EC15: ='[1]11_土地'!$E$43 -> 116972 | ED15: ='[1]11_土地'!$H$43 -> 108244 | EE15: ='[1]11_土地'!$K$43 -> 92.538385 | EF15: ='[1]11_土地'!$E$44 -> 930 | EG15: ='[1]11_土地'!$H$44 -> 926 | EH15: ='[1]11_土地'!$K$44 -> 99.569892 | EI15: ='[1]11_土地'!$E$45 -> 24870 | EJ15: ='[1]11_土地'!$H$45 -> 24550 | EK15: ='[1]11_土地'!$K$45 -> 98.713309
B16: ②家屋 | C16: ='[1]12_家屋'!$E$48 -> 111967519 | D16: ='[1]12_家屋'!$H$48 -> 110099633 | E16: ='[1]12_家屋'!$K$48 -> 98.331761 | F16: ='[1]12_家屋'!$E$31 -> 109710286 | G16: ='[1]12_家屋'!$H$31 -> 107939128 | H16: ='[1]12_家屋'!$K$31 -> 98.385604 | I16: ='[1]12_家屋'!$E$47 -> 2257233 | J16: ='[1]12_家屋'!$H$47 -> 2160505 | K16: ='[1]12_家屋'!$K$47 -> 95.714753 | L16: ②家屋 | M16: ='[1]12_家屋'!$E$5 -> 16231379 | N16: ='[1]12_家屋'!$H$5 -> 15860558 | O16: ='[1]12_家屋'!$K$5 -> 97.715407 | P16: ='[1]12_家屋'!$E$6 -> 6034074 | Q16: ='[1]12_家屋'!$H$6 -> 5933088 | R16: ='[1]12_家屋'!$K$6 -> 98.326404 | S16: ='[1]12_家屋'!$E$7 -> 5065548 | T16: ='[1]12_家屋'!$H$7 -> 4997505 | U16: ='[1]12_家屋'!$K$7 -> 98.656749 | V16: ②家屋 | W16: ='[1]12_家屋'!$E$8 -> 4618164 | X16: ='[1]12_家屋'!$H$8 -> 4552685 | Y16: ='[1]12_家屋'!$K$8 -> 98.582142 | Z16: ='[1]12_家屋'!$E$9 -> 3714799 | AA16: ='[1]12_家屋'!$H$9 -> 3584722 | AB16: ='[1]12_家屋'!$K$9 -> 96.498411 | AC16: ='[1]12_家屋'!$E$10 -> 8255909 | AD16: ='[1]12_家屋'!$H$10 -> 8136155 | AE16: ='[1]12_家屋'!$K$10 -> 98.549475 | AF16: ②家屋 | AG16: ='[1]12_家屋'!$E$11 -> 3096981 | AH16: ='[1]12_家屋'!$H$11 -> 3048080 | AI16: ='[1]12_家屋'!$K$11 -> 98.421011 | AJ16: ='[1]12_家屋'!$E$12 -> 6167056 | AK16: ='[1]12_家屋'!$H$12 -> 6042462 | AL16: ='[1]12_家屋'!$K$12 -> 97.979684 | AM16: ='[1]12_家屋'!$E$13 -> 10723100 | AN16: ='[1]12_家屋'!$H$13 -> 10610954 | AO16: ='[1]12_家屋'!$K$13 -> 98.954164 | AP16: ②家屋 | AQ16: ='[1]12_家屋'!$E$14 -> 2668291 | AR16: ='[1]12_家屋'!$H$14 -> 2651606 | AS16: ='[1]12_家屋'!$K$14 -> 99.374693 | AT16: ='[1]12_家屋'!$E$15 -> 4012244 | AU16: ='[1]12_家屋'!$H$15 -> 3956175 | AV16: ='[1]12_家屋'!$K$15 -> 98.602553 | AW16: ='[1]12_家屋'!$E$16 -> 4602946 | AX16: ='[1]12_家屋'!$H$16 -> 4567635 | AY16: ='[1]12_家屋'!$K$16 -> 99.232861 | AZ16: ②家屋 | BA16: ='[1]12_家屋'!$E$17 -> 2991676 | BB16: ='[1]12_家屋'!$H$17 -> 2934555 | BC16: ='[1]12_家屋'!$K$17 -> 98.090669 | BD16: ='[1]12_家屋'!$E$18 -> 3111382 | BE16: ='[1]12_家屋'!$H$18 -> 3071297 | BF16: ='[1]12_家屋'!$K$18 -> 98.711666 | BG16: ='[1]12_家屋'!$E$19 -> 2095655 | BH16: ='[1]12_家屋'!$H$19 -> 2087538 | BI16: ='[1]12_家屋'!$K$19 -> 99.612675 | BJ16: ②家屋 | BK16: ='[1]12_家屋'!$E$20 -> 1278534 | BL16: ='[1]12_家屋'!$H$20 -> 1258317 | BM16: ='[1]12_家屋'!$K$20 -> 98.418736 | BN16: ='[1]12_家屋'!$E$21 -> 1545658 | BO16: ='[1]12_家屋'!$H$21 -> 1541791 | BP16: ='[1]12_家屋'!$K$21 -> 99.749815 | BQ16: ='[1]12_家屋'!$E$22 -> 1874709 | BR16: ='[1]12_家屋'!$H$22 -> 1818764 | BS16: ='[1]12_家屋'!$K$22 -> 97.015804 | BT16: ②家屋 | BU16: ='[1]12_家屋'!$E$23 -> 1385018 | BV16: ='[1]12_家屋'!$H$23 -> 1366398 | BW16: ='[1]12_家屋'!$K$23 -> 98.655613 | BX16: ='[1]12_家屋'!$E$24 -> 2409948 | BY16: ='[1]12_家屋'!$H$24 -> 2382225 | BZ16: ='[1]12_家屋'!$K$24 -> 98.849643 | CA16: ='[1]12_家屋'!$E$25 -> 1586748 | CB16: ='[1]12_家屋'!$H$25 -> 1553207 | CC16: ='[1]12_家屋'!$K$25 -> 97.88618 | CD16: ②家屋 | CE16: ='[1]12_家屋'!$E$26 -> 5843037 | CF16: ='[1]12_家屋'!$H$26 -> 5752699 | CG16: ='[1]12_家屋'!$K$26 -> 98.45392 | CH16: ='[1]12_家屋'!$E$27 -> 2405109 | CI16: ='[1]12_家屋'!$H$27 -> 2357695 | CJ16: ='[1]12_家屋'!$K$27 -> 98.028613 | CK16: ='[1]12_家屋'!$E$28 -> 1582267 | CL16: ='[1]12_家屋'!$H$28 -> 1554508 | CM16: ='[1]12_家屋'!$K$28 -> 98.245618 | CN16: ②家屋 | CO16: ='[1]12_家屋'!$E$29 -> 1735927 | CP16: ='[1]12_家屋'!$H$29 -> 1713928 | CQ16: ='[1]12_家屋'!$K$29 -> 98.732723 | CR16: ='[1]12_家屋'!$E$30 -> 4674127 | CS16: ='[1]12_家屋'!$H$30 -> 4604581 | CT16: ='[1]12_家屋'!$K$30 -> 98.512107 | CU16: ='[1]12_家屋'!$E$32 -> 1087457 | CV16: ='[1]12_家屋'!$H$32 -> 1064538 | CW16: ='[1]12_家屋'!$K$32 -> 97.892422 | CX16: ②家屋 | CY16: ='[1]12_家屋'!$E$33 -> 552979 | CZ16: ='[1]12_家屋'!$H$33 -> 535947 | DA16: ='[1]12_家屋'!$K$33 -> 96.919955 | DB16: ='[1]12_家屋'!$E$34 -> 35466 | DC16: ='[1]12_家屋'!$H$34 -> 33469 | DD16: ='[1]12_家屋'!$K$34 -> 94.369255 | DE16: ='[1]12_家屋'!$E$35 -> 83814 | DF16: ='[1]12_家屋'!$H$35 -> 82592 | DG16: ='[1]12_家屋'!$K$35 -> 98.54201 | DH16: ②家屋 | DI16: ='[1]12_家屋'!$E$37 -> 137531 | DJ16: ='[1]12_家屋'!$H$37 -> 117306 | DK16: ='[1]12_家屋'!$K$37 -> 85.294225 | DL16: ='[1]12_家屋'!$E$38 -> 4337 | DM16: ='[1]12_家屋'!$H$38 -> 4314 | DN16: ='[1]12_家屋'!$K$38 -> 99.46968 | DO16: ='[1]12_家屋'!$E$39 -> 82059 | DP16: ='[1]12_家屋'!$H$39 -> 66776 | DQ16: ='[1]12_家屋'!$K$39 -> 81.375596 | DR16: ②家屋 | DS16: ='[1]12_家屋'!$E$40 -> 37798 | DT16: ='[1]12_家屋'!$H$40 -> 36173 | DU16: ='[1]12_家屋'!$K$40 -> 95.700831 | DV16: ='[1]12_家屋'!$E$41 -> 39634 | DW16: ='[1]12_家屋'!$H$41 -> 35335 | DX16: ='[1]12_家屋'!$K$41 -> 89.153252 | DY16: ='[1]12_家屋'!$E$42 -> 3147 | DZ16: ='[1]12_家屋'!$H$42 -> 3147 | EA16: ='[1]12_家屋'!$K$42 -> 100 | EB16: ②家屋 | EC16: ='[1]12_家屋'!$E$43 -> 156159 | ED16: ='[1]12_家屋'!$H$43 -> 144507 | EE16: ='[1]12_家屋'!$K$43 -> 92.538374 | EF16: ='[1]12_家屋'!$E$44 -> 2533 | EG16: ='[1]12_家屋'!$H$44 -> 2523 | EH16: ='[1]12_家屋'!$K$44 -> 99.605211 | EI16: ='[1]12_家屋'!$E$45 -> 34319 | EJ16: ='[1]12_家屋'!$H$45 -> 33878 | EK16: ='[1]12_家屋'!$K$45 -> 98.714998
